BEGIN:VCALENDAR
VERSION:2.0
PRODID:-//Rose and Fern Cellars - ECPv6.15.20//NONSGML v1.0//EN
CALSCALE:GREGORIAN
METHOD:PUBLISH
X-WR-CALNAME:Rose and Fern Cellars
X-ORIGINAL-URL:https://roseandferncellars.com
X-WR-CALDESC:Events for Rose and Fern Cellars
REFRESH-INTERVAL;VALUE=DURATION:PT1H
X-Robots-Tag:noindex
X-PUBLISHED-TTL:PT1H
BEGIN:VTIMEZONE
TZID:America/Los_Angeles
BEGIN:DAYLIGHT
TZOFFSETFROM:-0800
TZOFFSETTO:-0700
TZNAME:PDT
DTSTART:20240310T100000
END:DAYLIGHT
BEGIN:STANDARD
TZOFFSETFROM:-0700
TZOFFSETTO:-0800
TZNAME:PST
DTSTART:20241103T090000
END:STANDARD
BEGIN:DAYLIGHT
TZOFFSETFROM:-0800
TZOFFSETTO:-0700
TZNAME:PDT
DTSTART:20250309T100000
END:DAYLIGHT
BEGIN:STANDARD
TZOFFSETFROM:-0700
TZOFFSETTO:-0800
TZNAME:PST
DTSTART:20251102T090000
END:STANDARD
BEGIN:DAYLIGHT
TZOFFSETFROM:-0800
TZOFFSETTO:-0700
TZNAME:PDT
DTSTART:20260308T100000
END:DAYLIGHT
BEGIN:STANDARD
TZOFFSETFROM:-0700
TZOFFSETTO:-0800
TZNAME:PST
DTSTART:20261101T090000
END:STANDARD
END:VTIMEZONE
BEGIN:VEVENT
DTSTART;TZID=America/Los_Angeles:20250803T100000
DTEND;TZID=America/Los_Angeles:20250803T140000
DTSTAMP:20260421T212538
CREATED:20250715T212533Z
LAST-MODIFIED:20250715T212533Z
UID:4302-1754215200-1754229600@roseandferncellars.com
SUMMARY:Hillsboro Farmers Market at Orenco
DESCRIPTION:Free wine tasting and sale of our wonderful Oregon wines by the bottle.
URL:https://roseandferncellars.com/event/hillsboro-farmers-market-at-orenco-36/
LOCATION:Hillsboro Farmers Market @ Orenco\, 6125 NE Cornell Rd.\, Hillsboro\, OR\, 97124\, United States
ATTACH;FMTTYPE=image/jpeg:https://roseandferncellars.com/wp-content/uploads/2023/03/BFD7A441-F3F8-4C07-8A62-509312049C0E.jpeg
END:VEVENT
BEGIN:VEVENT
DTSTART;TZID=America/Los_Angeles:20250809T083000
DTEND;TZID=America/Los_Angeles:20250816T133000
DTSTAMP:20260421T212538
CREATED:20250715T212841Z
LAST-MODIFIED:20250715T212841Z
UID:4304-1754728200-1755351000@roseandferncellars.com
SUMMARY:Beaverton Farmers Market
DESCRIPTION:Free wine tasting and sale of our wonderful Oregon wines by the bottle.
URL:https://roseandferncellars.com/event/beaverton-farmers-market-89/
LOCATION:Beaverton Farmers Market\, 12375 SW 5th Street\, Beaverton\, OR\, United States
ATTACH;FMTTYPE=image/png:https://roseandferncellars.com/wp-content/uploads/2022/11/1FD2A991-5B91-41C3-9C58-8FCA84080916.png
END:VEVENT
BEGIN:VEVENT
DTSTART;TZID=America/Los_Angeles:20250809T090000
DTEND;TZID=America/Los_Angeles:20250809T130000
DTSTAMP:20260421T212538
CREATED:20250715T213159Z
LAST-MODIFIED:20250715T213159Z
UID:4308-1754730000-1754744400@roseandferncellars.com
SUMMARY:Hillsboro Farmers Market
DESCRIPTION:Free wine tasting and sale of our wonderful Oregon wines by the bottle.
URL:https://roseandferncellars.com/event/hillsboro-farmers-market-48/
LOCATION:Hillsboro Farmers Market\, Main Street (Downtown)\, Hillsboro\, OR\, United States
ATTACH;FMTTYPE=image/jpeg:https://roseandferncellars.com/wp-content/uploads/2023/02/B334FA7C-995F-494D-8903-F096E0FD635F-scaled.jpeg
END:VEVENT
BEGIN:VEVENT
DTSTART;TZID=America/Los_Angeles:20250809T090000
DTEND;TZID=America/Los_Angeles:20250809T140000
DTSTAMP:20260421T212538
CREATED:20250715T213002Z
LAST-MODIFIED:20250715T213002Z
UID:4306-1754730000-1754748000@roseandferncellars.com
SUMMARY:Happy Valley Farmers Market
DESCRIPTION:Free wine tasting and sale of our wonderful Oregon wines by the bottle.
URL:https://roseandferncellars.com/event/happy-valley-farmers-market-43/
LOCATION:Happy Valley Farmers Market\, 13231 Sunnyside Rd.\, Happy Valley\, OR\, United States
ATTACH;FMTTYPE=image/jpeg:https://roseandferncellars.com/wp-content/uploads/2023/05/IMG_5034.jpeg
END:VEVENT
BEGIN:VEVENT
DTSTART;TZID=America/Los_Angeles:20250810T090000
DTEND;TZID=America/Los_Angeles:20250810T133000
DTSTAMP:20260421T212538
CREATED:20250715T213520Z
LAST-MODIFIED:20250715T213520Z
UID:4312-1754816400-1754832600@roseandferncellars.com
SUMMARY:Tigard Farmers Market
DESCRIPTION:Free wine tasting and sale of our wonderful Oregon wines by the bottle.
URL:https://roseandferncellars.com/event/tigard-farmers-market-8/
LOCATION:Tigard Farmer Market\, Universal Plaza\, 9100 Burnham St.\, Tigard\, OR\, 97223
ATTACH;FMTTYPE=image/png:https://roseandferncellars.com/wp-content/uploads/2025/04/TFM-logo.png
END:VEVENT
BEGIN:VEVENT
DTSTART;TZID=America/Los_Angeles:20250810T100000
DTEND;TZID=America/Los_Angeles:20250810T140000
DTSTAMP:20260421T212538
CREATED:20250715T213351Z
LAST-MODIFIED:20250715T213351Z
UID:4310-1754820000-1754834400@roseandferncellars.com
SUMMARY:Hillsboro Farmers Market at Orenco
DESCRIPTION:Free wine tasting and sale of our wonderful Oregon wines by the bottle.
URL:https://roseandferncellars.com/event/hillsboro-farmers-market-at-orenco-37/
LOCATION:Hillsboro Farmers Market @ Orenco\, 6125 NE Cornell Rd.\, Hillsboro\, OR\, 97124\, United States
ATTACH;FMTTYPE=image/jpeg:https://roseandferncellars.com/wp-content/uploads/2023/03/BFD7A441-F3F8-4C07-8A62-509312049C0E.jpeg
END:VEVENT
BEGIN:VEVENT
DTSTART;TZID=America/Los_Angeles:20250814T160000
DTEND;TZID=America/Los_Angeles:20250814T190000
DTSTAMP:20260421T212538
CREATED:20250806T223052Z
LAST-MODIFIED:20250806T223052Z
UID:4337-1755187200-1755198000@roseandferncellars.com
SUMMARY:TRU Hotel Aloha - Grand Opening
DESCRIPTION:Rose and Fern Cellars will be pouring! Free wine tasting\, sale of wine by the glass and by the bottle. Come see this wonderful new hotel. \n 
URL:https://roseandferncellars.com/event/tru-hotel-aloha-grand-opening/
LOCATION:TRU Hotel\, 17363 SW Tualatin Valley Hwy\, Beaverton\, OR\, 97003\, United States
ATTACH;FMTTYPE=image/png:https://roseandferncellars.com/wp-content/uploads/2025/08/image.png
END:VEVENT
BEGIN:VEVENT
DTSTART;TZID=America/Los_Angeles:20250816T083000
DTEND;TZID=America/Los_Angeles:20250816T133000
DTSTAMP:20260421T212538
CREATED:20250715T213654Z
LAST-MODIFIED:20250715T213654Z
UID:4314-1755333000-1755351000@roseandferncellars.com
SUMMARY:Beaverton Farmers Market
DESCRIPTION:Free wine tasting and sale of our wonderful Oregon wines by the bottle.
URL:https://roseandferncellars.com/event/beaverton-farmers-market-90/
LOCATION:Beaverton Farmers Market\, 12375 SW 5th Street\, Beaverton\, OR\, United States
ATTACH;FMTTYPE=image/png:https://roseandferncellars.com/wp-content/uploads/2022/11/1FD2A991-5B91-41C3-9C58-8FCA84080916.png
END:VEVENT
BEGIN:VEVENT
DTSTART;TZID=America/Los_Angeles:20250817T100000
DTEND;TZID=America/Los_Angeles:20250817T140000
DTSTAMP:20260421T212538
CREATED:20250715T214039Z
LAST-MODIFIED:20250715T214039Z
UID:4318-1755424800-1755439200@roseandferncellars.com
SUMMARY:Woodstock Farmers Market
DESCRIPTION:Free wine tasting and sale of our wonderful Oregon wines.
URL:https://roseandferncellars.com/event/woodstock-farmers-market-17/
LOCATION:Woodstock Farmers Market\, 4600 SE Woodstock Blvd.\, Portland\, OR\, United States
ATTACH;FMTTYPE=image/png:https://roseandferncellars.com/wp-content/uploads/2024/05/IMG_0763.png
END:VEVENT
BEGIN:VEVENT
DTSTART;TZID=America/Los_Angeles:20250817T100000
DTEND;TZID=America/Los_Angeles:20250818T140000
DTSTAMP:20260421T212538
CREATED:20250715T213910Z
LAST-MODIFIED:20250715T213910Z
UID:4316-1755424800-1755525600@roseandferncellars.com
SUMMARY:Hillsboro Farmers Market at Orenco
DESCRIPTION:Free wine tasting and sale of our wonderful Oregon wines by the bottle.
URL:https://roseandferncellars.com/event/hillsboro-farmers-market-at-orenco-38/
LOCATION:Hillsboro Farmers Market @ Orenco\, 6125 NE Cornell Rd.\, Hillsboro\, OR\, 97124\, United States
ATTACH;FMTTYPE=image/jpeg:https://roseandferncellars.com/wp-content/uploads/2023/03/BFD7A441-F3F8-4C07-8A62-509312049C0E.jpeg
END:VEVENT
BEGIN:VEVENT
DTSTART;TZID=America/Los_Angeles:20250823T083000
DTEND;TZID=America/Los_Angeles:20250823T133000
DTSTAMP:20260421T212538
CREATED:20250715T214432Z
LAST-MODIFIED:20250715T214432Z
UID:4320-1755937800-1755955800@roseandferncellars.com
SUMMARY:Beaverton Farmers Market
DESCRIPTION:Free wine tasting and sales of our wonderful Oregon wines by the bottle.
URL:https://roseandferncellars.com/event/beaverton-farmers-market-91/
LOCATION:Beaverton Farmers Market\, 12375 SW 5th Street\, Beaverton\, OR\, United States
ATTACH;FMTTYPE=image/png:https://roseandferncellars.com/wp-content/uploads/2022/11/1FD2A991-5B91-41C3-9C58-8FCA84080916.png
END:VEVENT
BEGIN:VEVENT
DTSTART;TZID=America/Los_Angeles:20250823T090000
DTEND;TZID=America/Los_Angeles:20250823T140000
DTSTAMP:20260421T212538
CREATED:20250715T214551Z
LAST-MODIFIED:20250715T214551Z
UID:4322-1755939600-1755957600@roseandferncellars.com
SUMMARY:Happy Valley Farmers Market
DESCRIPTION:Free wine tasting and sale of our wonderful Oregon wines by the bottle.
URL:https://roseandferncellars.com/event/happy-valley-farmers-market-44/
LOCATION:Happy Valley Farmers Market\, 13231 Sunnyside Rd.\, Happy Valley\, OR\, United States
ATTACH;FMTTYPE=image/jpeg:https://roseandferncellars.com/wp-content/uploads/2023/05/IMG_5034.jpeg
END:VEVENT
BEGIN:VEVENT
DTSTART;TZID=America/Los_Angeles:20250824T100000
DTEND;TZID=America/Los_Angeles:20250824T140000
DTSTAMP:20260421T212538
CREATED:20250715T214757Z
LAST-MODIFIED:20250715T214757Z
UID:4324-1756029600-1756044000@roseandferncellars.com
SUMMARY:Hillsboro Farmers Market at Orenco
DESCRIPTION:Free wine tasting and sale of our wonderful Oregon wines by the bottle.
URL:https://roseandferncellars.com/event/hillsboro-farmers-market-at-orenco-39/
LOCATION:Hillsboro Farmers Market @ Orenco\, 6125 NE Cornell Rd.\, Hillsboro\, OR\, 97124\, United States
ATTACH;FMTTYPE=image/jpeg:https://roseandferncellars.com/wp-content/uploads/2023/03/BFD7A441-F3F8-4C07-8A62-509312049C0E.jpeg
END:VEVENT
BEGIN:VEVENT
DTSTART;TZID=America/Los_Angeles:20250824T133000
DTEND;TZID=America/Los_Angeles:20250824T170000
DTSTAMP:20260421T212538
CREATED:20250715T214924Z
LAST-MODIFIED:20250715T214924Z
UID:4326-1756042200-1756054800@roseandferncellars.com
SUMMARY:Tigard Farmers Market
DESCRIPTION:Free wine tasting and sale of our wonderful Oregon wines by the bottle.
URL:https://roseandferncellars.com/event/tigard-farmers-market-9/
LOCATION:Tigard Farmer Market\, Universal Plaza\, 9100 Burnham St.\, Tigard\, OR\, 97223
ATTACH;FMTTYPE=image/png:https://roseandferncellars.com/wp-content/uploads/2025/04/TFM-logo.png
END:VEVENT
BEGIN:VEVENT
DTSTART;TZID=America/Los_Angeles:20250830T083000
DTEND;TZID=America/Los_Angeles:20250830T133000
DTSTAMP:20260421T212538
CREATED:20250715T215144Z
LAST-MODIFIED:20250715T215144Z
UID:4328-1756542600-1756560600@roseandferncellars.com
SUMMARY:Beaverton Farmers Market
DESCRIPTION:Free wine tasting and sale of our wonderful Oregon wines by the bottle.
URL:https://roseandferncellars.com/event/beaverton-farmers-market-92/
LOCATION:Beaverton Farmers Market\, 12375 SW 5th Street\, Beaverton\, OR\, United States
ATTACH;FMTTYPE=image/png:https://roseandferncellars.com/wp-content/uploads/2022/11/1FD2A991-5B91-41C3-9C58-8FCA84080916.png
END:VEVENT
BEGIN:VEVENT
DTSTART;TZID=America/Los_Angeles:20250831T100000
DTEND;TZID=America/Los_Angeles:20250831T140000
DTSTAMP:20260421T212538
CREATED:20250715T215305Z
LAST-MODIFIED:20250715T215305Z
UID:4330-1756634400-1756648800@roseandferncellars.com
SUMMARY:Hillsboro Farmers Market at Orenco
DESCRIPTION:Free wine tasting and sale of wonderful Oregon wines by the bottle.
URL:https://roseandferncellars.com/event/hillsboro-farmers-market-at-orenco-40/
LOCATION:Hillsboro Farmers Market @ Orenco\, 6125 NE Cornell Rd.\, Hillsboro\, OR\, 97124\, United States
ATTACH;FMTTYPE=image/jpeg:https://roseandferncellars.com/wp-content/uploads/2023/03/BFD7A441-F3F8-4C07-8A62-509312049C0E.jpeg
END:VEVENT
END:VCALENDAR