BEGIN:VCALENDAR
VERSION:2.0
PRODID:-//Rose and Fern Cellars - ECPv6.15.20//NONSGML v1.0//EN
CALSCALE:GREGORIAN
METHOD:PUBLISH
X-ORIGINAL-URL:https://roseandferncellars.com
X-WR-CALDESC:Events for Rose and Fern Cellars
REFRESH-INTERVAL;VALUE=DURATION:PT1H
X-Robots-Tag:noindex
X-PUBLISHED-TTL:PT1H
BEGIN:VTIMEZONE
TZID:America/Los_Angeles
BEGIN:DAYLIGHT
TZOFFSETFROM:-0800
TZOFFSETTO:-0700
TZNAME:PDT
DTSTART:20240310T100000
END:DAYLIGHT
BEGIN:STANDARD
TZOFFSETFROM:-0700
TZOFFSETTO:-0800
TZNAME:PST
DTSTART:20241103T090000
END:STANDARD
BEGIN:DAYLIGHT
TZOFFSETFROM:-0800
TZOFFSETTO:-0700
TZNAME:PDT
DTSTART:20250309T100000
END:DAYLIGHT
BEGIN:STANDARD
TZOFFSETFROM:-0700
TZOFFSETTO:-0800
TZNAME:PST
DTSTART:20251102T090000
END:STANDARD
BEGIN:DAYLIGHT
TZOFFSETFROM:-0800
TZOFFSETTO:-0700
TZNAME:PDT
DTSTART:20260308T100000
END:DAYLIGHT
BEGIN:STANDARD
TZOFFSETFROM:-0700
TZOFFSETTO:-0800
TZNAME:PST
DTSTART:20261101T090000
END:STANDARD
END:VTIMEZONE
BEGIN:VTIMEZONE
TZID:America/Los_Angeles
BEGIN:DAYLIGHT
TZOFFSETFROM:-0800
TZOFFSETTO:-0700
TZNAME:PDT
DTSTART:20240310T100000
END:DAYLIGHT
BEGIN:STANDARD
TZOFFSETFROM:-0700
TZOFFSETTO:-0800
TZNAME:PST
DTSTART:20241103T090000
END:STANDARD
BEGIN:DAYLIGHT
TZOFFSETFROM:-0800
TZOFFSETTO:-0700
TZNAME:PDT
DTSTART:20250309T100000
END:DAYLIGHT
BEGIN:STANDARD
TZOFFSETFROM:-0700
TZOFFSETTO:-0800
TZNAME:PST
DTSTART:20251102T090000
END:STANDARD
BEGIN:DAYLIGHT
TZOFFSETFROM:-0800
TZOFFSETTO:-0700
TZNAME:PDT
DTSTART:20260308T100000
END:DAYLIGHT
BEGIN:STANDARD
TZOFFSETFROM:-0700
TZOFFSETTO:-0800
TZNAME:PST
DTSTART:20261101T090000
END:STANDARD
END:VTIMEZONE
BEGIN:VEVENT
DTSTART;TZID=America/Los_Angeles:20250503T083000
DTEND;TZID=America/Los_Angeles:20250503T133000
DTSTAMP:20260421T164115
CREATED:20250411T214146Z
LAST-MODIFIED:20250411T214146Z
UID:4144-1746261000-1746279000@roseandferncellars.com
SUMMARY:Beaverton Farmers Market
DESCRIPTION:Free wine tasting & sale of wine by the bottle.
URL:https://roseandferncellars.com/event/beaverton-farmers-market-75/
LOCATION:Beaverton Farmers Market\, 12375 SW 5th Street\, Beaverton\, OR\, United States
ATTACH;FMTTYPE=image/png:https://roseandferncellars.com/wp-content/uploads/2022/11/1FD2A991-5B91-41C3-9C58-8FCA84080916.png
END:VEVENT
BEGIN:VEVENT
DTSTART;TZID=America/Los_Angeles:20250503T090000
DTEND;TZID=America/Los_Angeles:20250503T140000
DTSTAMP:20260421T164115
CREATED:20250429T231738Z
LAST-MODIFIED:20250429T231756Z
UID:4197-1746262800-1746280800@roseandferncellars.com
SUMMARY:Happy Valley Farmers Market
DESCRIPTION:Free wine tasting and sale of wine by the bottle.
URL:https://roseandferncellars.com/event/happy-valley-farmers-marklet/
LOCATION:Happy Valley Farmers Market\, 13231 Sunnyside Rd.\, Happy Valley\, OR\, United States
ATTACH;FMTTYPE=image/jpeg:https://roseandferncellars.com/wp-content/uploads/2023/05/IMG_5034.jpeg
END:VEVENT
BEGIN:VEVENT
DTSTART;TZID=America/Los_Angeles:20250503T120000
DTEND;TZID=America/Los_Angeles:20250503T210000
DTSTAMP:20260421T164115
CREATED:20250411T222332Z
LAST-MODIFIED:20250411T222332Z
UID:4155-1746273600-1746306000@roseandferncellars.com
SUMMARY:Moms Uncorked Pamper & Play Motherlode
DESCRIPTION:Historic downtown Hillsboro is hosting a this multi-venue event tailored to benefit Saving Grace Maternity Home. Rose and Fern Cellars will be pouring at D’s Devine Finds Antique shop from 2-5 pm so you can sip\, shop & visit. Then\, from 6-9 we’ll be across the street at D’Anu Wines with more wine tasting and sale of our wines by the glass and by the bottle. The music and food will be the perfect way to end a fabulous day or pampering\, shopping and play! Get your tickets by clicking on the QR code.
URL:https://roseandferncellars.com/event/moms-uncorked-pamper-play-motherlode/
LOCATION:OR
ATTACH;FMTTYPE=image/jpeg:https://roseandferncellars.com/wp-content/uploads/2025/04/Moms-Uncorked-2025-Event-Cover-with-QR.jpeg
END:VEVENT
BEGIN:VEVENT
DTSTART;TZID=America/Los_Angeles:20250504T090000
DTEND;TZID=America/Los_Angeles:20250504T133000
DTSTAMP:20260421T164115
CREATED:20250429T233440Z
LAST-MODIFIED:20250430T063014Z
UID:4202-1746349200-1746365400@roseandferncellars.com
SUMMARY:Tigard Farmers Market
DESCRIPTION:Free wine tasting and sale of wine by the bottle.
URL:https://roseandferncellars.com/event/tigard-farmers-market/
LOCATION:Tigard Farmer Market\, Universal Plaza\, 9100 Burnham St.\, Tigard\, OR\, 97223
ATTACH;FMTTYPE=image/png:https://roseandferncellars.com/wp-content/uploads/2025/04/TFM-logo.png
END:VEVENT
BEGIN:VEVENT
DTSTART;TZID=America/Los_Angeles:20250504T100000
DTEND;TZID=America/Los_Angeles:20250504T140000
DTSTAMP:20260421T164115
CREATED:20250429T232045Z
LAST-MODIFIED:20250429T232045Z
UID:4200-1746352800-1746367200@roseandferncellars.com
SUMMARY:Orenco Farmers Market
DESCRIPTION:Free wine tasting and sale of wine by the bottle.
URL:https://roseandferncellars.com/event/orenco-farmers-market-9/
LOCATION:Hillsboro Farmers Market @ Orenco\, 6125 NE Cornell Rd.\, Hillsboro\, OR\, 97124\, United States
ATTACH;FMTTYPE=image/jpeg:https://roseandferncellars.com/wp-content/uploads/2023/03/BFD7A441-F3F8-4C07-8A62-509312049C0E.jpeg
END:VEVENT
BEGIN:VEVENT
DTSTART;TZID=America/Los_Angeles:20250510T083000
DTEND;TZID=America/Los_Angeles:20250510T133000
DTSTAMP:20260421T164115
CREATED:20250430T001233Z
LAST-MODIFIED:20250430T001233Z
UID:4208-1746865800-1746883800@roseandferncellars.com
SUMMARY:Beaverton Farmers Market
DESCRIPTION:Come by our booth for free wine tasting.
URL:https://roseandferncellars.com/event/beaverton-farmers-market-76/
LOCATION:Beaverton Farmers Market\, 12375 SW 5th Street\, Beaverton\, OR\, United States
ATTACH;FMTTYPE=image/png:https://roseandferncellars.com/wp-content/uploads/2022/11/1FD2A991-5B91-41C3-9C58-8FCA84080916.png
END:VEVENT
BEGIN:VEVENT
DTSTART;TZID=America/Los_Angeles:20250510T090000
DTEND;TZID=America/Los_Angeles:20250510T130000
DTSTAMP:20260421T164115
CREATED:20250430T001408Z
LAST-MODIFIED:20250430T001408Z
UID:4210-1746867600-1746882000@roseandferncellars.com
SUMMARY:Hillsboro Farmers Market
DESCRIPTION:Come by our booth for free wine tasting.
URL:https://roseandferncellars.com/event/hillsboro-farmers-market-45/
LOCATION:Hillsboro Farmers Market\, Main Street (Downtown)\, Hillsboro\, OR\, United States
ATTACH;FMTTYPE=image/jpeg:https://roseandferncellars.com/wp-content/uploads/2023/02/B334FA7C-995F-494D-8903-F096E0FD635F-scaled.jpeg
END:VEVENT
BEGIN:VEVENT
DTSTART;TZID=America/Los_Angeles:20250510T090000
DTEND;TZID=America/Los_Angeles:20250510T140000
DTSTAMP:20260421T164115
CREATED:20250430T001043Z
LAST-MODIFIED:20250430T001043Z
UID:4206-1746867600-1746885600@roseandferncellars.com
SUMMARY:Happy Valley Farmers Market
DESCRIPTION:Come by our booth for free wine tasting.
URL:https://roseandferncellars.com/event/happy-valley-farmers-market-37/
LOCATION:Happy Valley Farmers Market\, 13231 Sunnyside Rd.\, Happy Valley\, OR\, United States
ATTACH;FMTTYPE=image/jpeg:https://roseandferncellars.com/wp-content/uploads/2023/05/IMG_5034.jpeg
END:VEVENT
BEGIN:VEVENT
DTSTART;TZID=America/Los_Angeles:20250511T090000
DTEND;TZID=America/Los_Angeles:20250511T133000
DTSTAMP:20260421T164115
CREATED:20250430T001651Z
LAST-MODIFIED:20250430T063116Z
UID:4214-1746954000-1746970200@roseandferncellars.com
SUMMARY:Tigard Farmers Market
DESCRIPTION:Come by our booth for free wine tasting.
URL:https://roseandferncellars.com/event/tigard-farmers-market-2/
LOCATION:Tigard Farmer Market\, Universal Plaza\, 9100 Burnham St.\, Tigard\, OR\, 97223
ATTACH;FMTTYPE=image/png:https://roseandferncellars.com/wp-content/uploads/2025/04/TFM-logo.png
END:VEVENT
BEGIN:VEVENT
DTSTART;TZID=America/Los_Angeles:20250511T100000
DTEND;TZID=America/Los_Angeles:20250511T140000
DTSTAMP:20260421T164115
CREATED:20250430T001528Z
LAST-MODIFIED:20250430T001528Z
UID:4212-1746957600-1746972000@roseandferncellars.com
SUMMARY:Orenco Farmers Market
DESCRIPTION:Come by our booth for free wine tasting.
URL:https://roseandferncellars.com/event/orenco-farmers-market-10/
LOCATION:Hillsboro Farmers Market @ Orenco\, 6125 NE Cornell Rd.\, Hillsboro\, OR\, 97124\, United States
ATTACH;FMTTYPE=image/jpeg:https://roseandferncellars.com/wp-content/uploads/2023/03/BFD7A441-F3F8-4C07-8A62-509312049C0E.jpeg
END:VEVENT
BEGIN:VEVENT
DTSTART;TZID=America/Los_Angeles:20250517T083000
DTEND;TZID=America/Los_Angeles:20250517T133000
DTSTAMP:20260421T164115
CREATED:20250430T001921Z
LAST-MODIFIED:20250430T001921Z
UID:4216-1747470600-1747488600@roseandferncellars.com
SUMMARY:Beaverton Farmers Market
DESCRIPTION:Come by our booth in the Local Liquids aisle for free win tasting.
URL:https://roseandferncellars.com/event/beaverton-farmers-market-77/
LOCATION:Beaverton Farmers Market\, 12375 SW 5th Street\, Beaverton\, OR\, United States
ATTACH;FMTTYPE=image/png:https://roseandferncellars.com/wp-content/uploads/2022/11/1FD2A991-5B91-41C3-9C58-8FCA84080916.png
END:VEVENT
BEGIN:VEVENT
DTSTART;TZID=America/Los_Angeles:20250524T083000
DTEND;TZID=America/Los_Angeles:20250524T133000
DTSTAMP:20260421T164115
CREATED:20250520T215623Z
LAST-MODIFIED:20250520T215623Z
UID:4221-1748075400-1748093400@roseandferncellars.com
SUMMARY:Beaverton Farmers Market
DESCRIPTION:Free wine tasting. You will find our booth in the Local Liquids Aisle on 3rd.
URL:https://roseandferncellars.com/event/beaverton-farmers-market-78/
LOCATION:Beaverton Farmers Market\, 12375 SW 5th Street\, Beaverton\, OR\, United States
ATTACH;FMTTYPE=image/png:https://roseandferncellars.com/wp-content/uploads/2022/11/1FD2A991-5B91-41C3-9C58-8FCA84080916.png
END:VEVENT
BEGIN:VEVENT
DTSTART;TZID=America/Los_Angeles:20250525T100000
DTEND;TZID=America/Los_Angeles:20250525T140000
DTSTAMP:20260421T164115
CREATED:20250520T215829Z
LAST-MODIFIED:20250520T215829Z
UID:4223-1748167200-1748181600@roseandferncellars.com
SUMMARY:Orenco Farmers Market
DESCRIPTION:FREE Wine tasting.
URL:https://roseandferncellars.com/event/orenco-farmers-market-11/
LOCATION:Hillsboro Farmers Market @ Orenco\, 6125 NE Cornell Rd.\, Hillsboro\, OR\, 97124\, United States
ATTACH;FMTTYPE=image/jpeg:https://roseandferncellars.com/wp-content/uploads/2023/03/BFD7A441-F3F8-4C07-8A62-509312049C0E.jpeg
END:VEVENT
BEGIN:VEVENT
DTSTART;TZID=America/Los_Angeles:20250531T083000
DTEND;TZID=America/Los_Angeles:20250531T133000
DTSTAMP:20260421T164115
CREATED:20250520T220043Z
LAST-MODIFIED:20250520T220043Z
UID:4225-1748680200-1748698200@roseandferncellars.com
SUMMARY:Beaverton Farmers Market
DESCRIPTION:FREE wine tasting. You will find us in the Local Liquids aisle on third.
URL:https://roseandferncellars.com/event/beaverton-farmers-market-79/
LOCATION:Beaverton Farmers Market\, 12375 SW 5th Street\, Beaverton\, OR\, United States
ATTACH;FMTTYPE=image/png:https://roseandferncellars.com/wp-content/uploads/2022/11/1FD2A991-5B91-41C3-9C58-8FCA84080916.png
END:VEVENT
BEGIN:VEVENT
DTSTART;TZID=America/Los_Angeles:20250531T090000
DTEND;TZID=America/Los_Angeles:20250531T130000
DTSTAMP:20260421T164115
CREATED:20250520T220250Z
LAST-MODIFIED:20250520T220545Z
UID:4227-1748682000-1748696400@roseandferncellars.com
SUMMARY:Downtown Hillsboro Farmers Market
DESCRIPTION:FREE wine tasting.
URL:https://roseandferncellars.com/event/downtown-hillsboro-farmers-market/
LOCATION:Hillsboro Farmers Market\, Main Street (Downtown)\, Hillsboro\, OR\, United States
ATTACH;FMTTYPE=image/jpeg:https://roseandferncellars.com/wp-content/uploads/2023/02/B334FA7C-995F-494D-8903-F096E0FD635F-scaled.jpeg
END:VEVENT
END:VCALENDAR