BEGIN:VCALENDAR
VERSION:2.0
PRODID:-//Rose and Fern Cellars - ECPv6.15.20//NONSGML v1.0//EN
CALSCALE:GREGORIAN
METHOD:PUBLISH
X-WR-CALNAME:Rose and Fern Cellars
X-ORIGINAL-URL:https://roseandferncellars.com
X-WR-CALDESC:Events for Rose and Fern Cellars
REFRESH-INTERVAL;VALUE=DURATION:PT1H
X-Robots-Tag:noindex
X-PUBLISHED-TTL:PT1H
BEGIN:VTIMEZONE
TZID:America/Los_Angeles
BEGIN:DAYLIGHT
TZOFFSETFROM:-0800
TZOFFSETTO:-0700
TZNAME:PDT
DTSTART:20220313T100000
END:DAYLIGHT
BEGIN:STANDARD
TZOFFSETFROM:-0700
TZOFFSETTO:-0800
TZNAME:PST
DTSTART:20221106T090000
END:STANDARD
BEGIN:DAYLIGHT
TZOFFSETFROM:-0800
TZOFFSETTO:-0700
TZNAME:PDT
DTSTART:20230312T100000
END:DAYLIGHT
BEGIN:STANDARD
TZOFFSETFROM:-0700
TZOFFSETTO:-0800
TZNAME:PST
DTSTART:20231105T090000
END:STANDARD
BEGIN:DAYLIGHT
TZOFFSETFROM:-0800
TZOFFSETTO:-0700
TZNAME:PDT
DTSTART:20240310T100000
END:DAYLIGHT
BEGIN:STANDARD
TZOFFSETFROM:-0700
TZOFFSETTO:-0800
TZNAME:PST
DTSTART:20241103T090000
END:STANDARD
BEGIN:DAYLIGHT
TZOFFSETFROM:-0800
TZOFFSETTO:-0700
TZNAME:PDT
DTSTART:20250309T100000
END:DAYLIGHT
BEGIN:STANDARD
TZOFFSETFROM:-0700
TZOFFSETTO:-0800
TZNAME:PST
DTSTART:20251102T090000
END:STANDARD
END:VTIMEZONE
BEGIN:VEVENT
DTSTART;TZID=America/Los_Angeles:20240525T090000
DTEND;TZID=America/Los_Angeles:20240525T130000
DTSTAMP:20260421T230258
CREATED:20240327T201711Z
LAST-MODIFIED:20240327T201711Z
UID:3520-1716627600-1716642000@roseandferncellars.com
SUMMARY:Hillsboro Farmers Market
DESCRIPTION:Free wine tasting and sales of our wonderful Oregon wines by the bottle.
URL:https://roseandferncellars.com/event/hillsboro-farmers-market-27/
LOCATION:Hillsboro Farmers Market\, Main Street (Downtown)\, Hillsboro\, OR\, United States
ATTACH;FMTTYPE=image/jpeg:https://roseandferncellars.com/wp-content/uploads/2023/02/B334FA7C-995F-494D-8903-F096E0FD635F-scaled.jpeg
END:VEVENT
BEGIN:VEVENT
DTSTART;TZID=America/Los_Angeles:20240525T083000
DTEND;TZID=America/Los_Angeles:20240525T133000
DTSTAMP:20260421T230258
CREATED:20240327T201554Z
LAST-MODIFIED:20240327T201554Z
UID:3518-1716625800-1716643800@roseandferncellars.com
SUMMARY:Beaverton Farmers Market
DESCRIPTION:Free wine tasting and sales of our wonderful Oregon wines by the bottle.
URL:https://roseandferncellars.com/event/beaverton-farmers-market-48/
LOCATION:Beaverton Farmers Market\, 12375 SW 5th Street\, Beaverton\, OR\, United States
ATTACH;FMTTYPE=image/png:https://roseandferncellars.com/wp-content/uploads/2022/11/1FD2A991-5B91-41C3-9C58-8FCA84080916.png
END:VEVENT
BEGIN:VEVENT
DTSTART;TZID=America/Los_Angeles:20240519T100000
DTEND;TZID=America/Los_Angeles:20240519T140000
DTSTAMP:20260421T230258
CREATED:20240327T201338Z
LAST-MODIFIED:20240327T201338Z
UID:3516-1716112800-1716127200@roseandferncellars.com
SUMMARY:Hillsboro Farmers Market at Orenco
DESCRIPTION:Free wine tasting and saless of our wonderful Oregon wines by the bottle.
URL:https://roseandferncellars.com/event/hillsboro-farmers-market-at-orenco-20/
LOCATION:Hillsboro Farmers Market @ Orenco\, 6125 NE Cornell Rd.\, Hillsboro\, OR\, 97124\, United States
ATTACH;FMTTYPE=image/jpeg:https://roseandferncellars.com/wp-content/uploads/2023/03/BFD7A441-F3F8-4C07-8A62-509312049C0E.jpeg
END:VEVENT
BEGIN:VEVENT
DTSTART;TZID=America/Los_Angeles:20240518T090000
DTEND;TZID=America/Los_Angeles:20240518T140000
DTSTAMP:20260421T230258
CREATED:20240327T200741Z
LAST-MODIFIED:20240327T200741Z
UID:3511-1716022800-1716040800@roseandferncellars.com
SUMMARY:Happy Valley Farmers Market
DESCRIPTION:Free wine tasting and saless of our wonderful Oregon wines by the bottle.
URL:https://roseandferncellars.com/event/happy-valley-farmers-market-25/
LOCATION:Happy Valley Farmers Market\, 13231 Sunnyside Rd.\, Happy Valley\, OR\, United States
ATTACH;FMTTYPE=image/jpeg:https://roseandferncellars.com/wp-content/uploads/2023/05/IMG_5034.jpeg
END:VEVENT
BEGIN:VEVENT
DTSTART;TZID=America/Los_Angeles:20240518T090000
DTEND;TZID=America/Los_Angeles:20240518T130000
DTSTAMP:20260421T230258
CREATED:20240327T201236Z
LAST-MODIFIED:20240327T201236Z
UID:3514-1716022800-1716037200@roseandferncellars.com
SUMMARY:Hillsboro Farmers Market
DESCRIPTION:Free wine tasting and saless of our wonderful Oregon wines by the bottle.
URL:https://roseandferncellars.com/event/hillsboro-farmers-market-26/
LOCATION:Hillsboro Farmers Market\, Main Street (Downtown)\, Hillsboro\, OR\, United States
ATTACH;FMTTYPE=image/jpeg:https://roseandferncellars.com/wp-content/uploads/2023/02/B334FA7C-995F-494D-8903-F096E0FD635F-scaled.jpeg
END:VEVENT
BEGIN:VEVENT
DTSTART;TZID=America/Los_Angeles:20240518T083000
DTEND;TZID=America/Los_Angeles:20240518T133000
DTSTAMP:20260421T230258
CREATED:20240327T200613Z
LAST-MODIFIED:20240327T200613Z
UID:3509-1716021000-1716039000@roseandferncellars.com
SUMMARY:Beaverton Farmers Market
DESCRIPTION:Free wine tasting and sales of our wonderful Oregon wines by the bottle.
URL:https://roseandferncellars.com/event/beaverton-farmers-market-47/
LOCATION:Beaverton Farmers Market\, 12375 SW 5th Street\, Beaverton\, OR\, United States
ATTACH;FMTTYPE=image/png:https://roseandferncellars.com/wp-content/uploads/2022/11/1FD2A991-5B91-41C3-9C58-8FCA84080916.png
END:VEVENT
BEGIN:VEVENT
DTSTART;TZID=America/Los_Angeles:20240512T100000
DTEND;TZID=America/Los_Angeles:20240512T140000
DTSTAMP:20260421T230258
CREATED:20240327T192902Z
LAST-MODIFIED:20240327T192902Z
UID:3507-1715508000-1715522400@roseandferncellars.com
SUMMARY:Hillsboro Farmers Market at Orenco
DESCRIPTION:Free wine tasting and saless of our wonderful Oregon wines by the bottle.
URL:https://roseandferncellars.com/event/hillsboro-farmers-market-at-orenco-19/
LOCATION:Hillsboro Farmers Market @ Orenco\, 6125 NE Cornell Rd.\, Hillsboro\, OR\, 97124\, United States
ATTACH;FMTTYPE=image/jpeg:https://roseandferncellars.com/wp-content/uploads/2023/03/BFD7A441-F3F8-4C07-8A62-509312049C0E.jpeg
END:VEVENT
BEGIN:VEVENT
DTSTART;TZID=America/Los_Angeles:20240511T090000
DTEND;TZID=America/Los_Angeles:20240511T130000
DTSTAMP:20260421T230258
CREATED:20240327T192745Z
LAST-MODIFIED:20240327T192745Z
UID:3505-1715418000-1715432400@roseandferncellars.com
SUMMARY:Hillsboro Farmers Market
DESCRIPTION:Free wine tasting and saless of our wonderful Oregon wines by the bottle.
URL:https://roseandferncellars.com/event/hillsboro-farmers-market-25/
LOCATION:Hillsboro Farmers Market\, Main Street (Downtown)\, Hillsboro\, OR\, United States
ATTACH;FMTTYPE=image/jpeg:https://roseandferncellars.com/wp-content/uploads/2023/02/B334FA7C-995F-494D-8903-F096E0FD635F-scaled.jpeg
END:VEVENT
BEGIN:VEVENT
DTSTART;TZID=America/Los_Angeles:20240511T083000
DTEND;TZID=America/Los_Angeles:20240511T133000
DTSTAMP:20260421T230258
CREATED:20240327T192431Z
LAST-MODIFIED:20240327T192431Z
UID:3500-1715416200-1715434200@roseandferncellars.com
SUMMARY:Beaverton Farmers Market
DESCRIPTION:Free wine tasting and saless of our wonderful Oregon wines by the bottle.
URL:https://roseandferncellars.com/event/beaverton-farmers-market-46/
LOCATION:Beaverton Farmers Market\, 12375 SW 5th Street\, Beaverton\, OR\, United States
ATTACH;FMTTYPE=image/png:https://roseandferncellars.com/wp-content/uploads/2022/11/1FD2A991-5B91-41C3-9C58-8FCA84080916.png
END:VEVENT
BEGIN:VEVENT
DTSTART;TZID=America/Los_Angeles:20240511T080000
DTEND;TZID=America/Los_Angeles:20240511T170000
DTSTAMP:20260421T230258
CREATED:20240327T192558Z
LAST-MODIFIED:20240327T192558Z
UID:3502-1715414400-1715446800@roseandferncellars.com
SUMMARY:Happy Valley Farmers Market
DESCRIPTION:Free wine tasting and saless of our wonderful Oregon wines by the bottle.
URL:https://roseandferncellars.com/event/happy-valley-farmers-market-24/
LOCATION:Happy Valley Farmers Market\, 13231 Sunnyside Rd.\, Happy Valley\, OR\, United States
ATTACH;FMTTYPE=image/jpeg:https://roseandferncellars.com/wp-content/uploads/2023/05/IMG_5034.jpeg
END:VEVENT
BEGIN:VEVENT
DTSTART;TZID=America/Los_Angeles:20240505T100000
DTEND;TZID=America/Los_Angeles:20240505T140000
DTSTAMP:20260421T230258
CREATED:20240327T192245Z
LAST-MODIFIED:20240327T192245Z
UID:3498-1714903200-1714917600@roseandferncellars.com
SUMMARY:Hillsboro Farmers Market at Orenco
DESCRIPTION:Free wine tasting and saless of our wonderful Oregon wines by the bottle.
URL:https://roseandferncellars.com/event/hillsboro-farmers-market-at-orenco-18/
LOCATION:Hillsboro Farmers Market @ Orenco\, 6125 NE Cornell Rd.\, Hillsboro\, OR\, 97124\, United States
ATTACH;FMTTYPE=image/jpeg:https://roseandferncellars.com/wp-content/uploads/2023/03/BFD7A441-F3F8-4C07-8A62-509312049C0E.jpeg
END:VEVENT
BEGIN:VEVENT
DTSTART;TZID=America/Los_Angeles:20240504T090000
DTEND;TZID=America/Los_Angeles:20240504T140000
DTSTAMP:20260421T230258
CREATED:20240327T191832Z
LAST-MODIFIED:20240327T191832Z
UID:3494-1714813200-1714831200@roseandferncellars.com
SUMMARY:Happy Valley Farmers Market
DESCRIPTION:Free wine tasting and saless of our wonderful Oregon wines by the bottle.
URL:https://roseandferncellars.com/event/happy-valley-farmers-market-23/
LOCATION:Happy Valley Farmers Market\, 13231 Sunnyside Rd.\, Happy Valley\, OR\, United States
ATTACH;FMTTYPE=image/jpeg:https://roseandferncellars.com/wp-content/uploads/2023/05/IMG_5034.jpeg
END:VEVENT
BEGIN:VEVENT
DTSTART;TZID=America/Los_Angeles:20240504T090000
DTEND;TZID=America/Los_Angeles:20240504T130000
DTSTAMP:20260421T230258
CREATED:20240327T192002Z
LAST-MODIFIED:20240327T192002Z
UID:3496-1714813200-1714827600@roseandferncellars.com
SUMMARY:Hillsboro Farmers Market
DESCRIPTION:Free wine tasting and saless of our wonderful Oregon wines by the bottle.
URL:https://roseandferncellars.com/event/hillsboro-farmers-market-24/
LOCATION:Hillsboro Farmers Market\, Main Street (Downtown)\, Hillsboro\, OR\, United States
ATTACH;FMTTYPE=image/jpeg:https://roseandferncellars.com/wp-content/uploads/2023/02/B334FA7C-995F-494D-8903-F096E0FD635F-scaled.jpeg
END:VEVENT
BEGIN:VEVENT
DTSTART;TZID=America/Los_Angeles:20240504T083000
DTEND;TZID=America/Los_Angeles:20240504T133000
DTSTAMP:20260421T230258
CREATED:20240327T191555Z
LAST-MODIFIED:20240327T191555Z
UID:3492-1714811400-1714829400@roseandferncellars.com
SUMMARY:Beaverton Farmers Market
DESCRIPTION:Free wine tasting and saless of our wonderful Oregon wines by the bottle.
URL:https://roseandferncellars.com/event/beaverton-farmers-market-45/
LOCATION:Beaverton Farmers Market\, 12375 SW 5th Street\, Beaverton\, OR\, United States
ATTACH;FMTTYPE=image/png:https://roseandferncellars.com/wp-content/uploads/2022/11/1FD2A991-5B91-41C3-9C58-8FCA84080916.png
END:VEVENT
BEGIN:VEVENT
DTSTART;TZID=America/Los_Angeles:20240428T100000
DTEND;TZID=America/Los_Angeles:20240428T140000
DTSTAMP:20260421T230258
CREATED:20240327T191323Z
LAST-MODIFIED:20240327T191323Z
UID:3490-1714298400-1714312800@roseandferncellars.com
SUMMARY:Hillsboro Farmers Market at Orenco
DESCRIPTION:Free wine tasting and saless of our wonderful Oregon wines by the bottle.
URL:https://roseandferncellars.com/event/hillsboro-farmers-market-at-orenco-17/
LOCATION:Orenco Farmers Market\, 6125 NE Cornell Road\, Hillsboro\, OR\, United States
ATTACH;FMTTYPE=image/jpeg:https://roseandferncellars.com/wp-content/uploads/2023/03/BFD7A441-F3F8-4C07-8A62-509312049C0E.jpeg
END:VEVENT
BEGIN:VEVENT
DTSTART;TZID=America/Los_Angeles:20240427T100000
DTEND;TZID=America/Los_Angeles:20240427T133000
DTSTAMP:20260421T230258
CREATED:20240228T203108Z
LAST-MODIFIED:20240228T203108Z
UID:3482-1714212000-1714224600@roseandferncellars.com
SUMMARY:Beaverton Farmers Market
DESCRIPTION:Free wine tasting and sales of our wonderful Oregon wines by the bottle.
URL:https://roseandferncellars.com/event/beaverton-farmers-market-44/
LOCATION:Beaverton Farmers Market\, 12375 SW 5th Street\, Beaverton\, OR\, United States
ATTACH;FMTTYPE=image/png:https://roseandferncellars.com/wp-content/uploads/2022/11/1FD2A991-5B91-41C3-9C58-8FCA84080916.png
END:VEVENT
BEGIN:VEVENT
DTSTART;TZID=America/Los_Angeles:20240427T090000
DTEND;TZID=America/Los_Angeles:20240427T130000
DTSTAMP:20260421T230258
CREATED:20240228T203451Z
LAST-MODIFIED:20240228T203451Z
UID:3484-1714208400-1714222800@roseandferncellars.com
SUMMARY:Hillsboro Farmers Market
DESCRIPTION:Free wine tasting and sales of our wonderful Oregon wines by the bottle.
URL:https://roseandferncellars.com/event/hillsboro-farmers-market-14/
LOCATION:Hillsboro Farmers Market\, Main Street (Downtown)\, Hillsboro\, OR\, United States
ATTACH;FMTTYPE=image/jpeg:https://roseandferncellars.com/wp-content/uploads/2023/02/B334FA7C-995F-494D-8903-F096E0FD635F-scaled.jpeg
END:VEVENT
BEGIN:VEVENT
DTSTART;TZID=America/Los_Angeles:20240420T100000
DTEND;TZID=America/Los_Angeles:20240420T133000
DTSTAMP:20260421T230258
CREATED:20240228T202944Z
LAST-MODIFIED:20240228T202944Z
UID:3480-1713607200-1713619800@roseandferncellars.com
SUMMARY:Beaverton Farmers Market
DESCRIPTION:Free wine tasting and sales of our wonderful Oregon wines by the bottle.
URL:https://roseandferncellars.com/event/beaverton-farmers-market-43/
LOCATION:Beaverton Farmers Market\, 12375 SW 5th Street\, Beaverton\, OR\, United States
ATTACH;FMTTYPE=image/png:https://roseandferncellars.com/wp-content/uploads/2022/11/1FD2A991-5B91-41C3-9C58-8FCA84080916.png
END:VEVENT
BEGIN:VEVENT
DTSTART;TZID=America/Los_Angeles:20240413T100000
DTEND;TZID=America/Los_Angeles:20240413T133000
DTSTAMP:20260421T230258
CREATED:20240228T202828Z
LAST-MODIFIED:20240228T202828Z
UID:3478-1713002400-1713015000@roseandferncellars.com
SUMMARY:Beaverton Farmers Market
DESCRIPTION:Free wine tasting and sales of our wonderful Oregon wines by the bottle.
URL:https://roseandferncellars.com/event/beaverton-farmers-market-42/
LOCATION:Beaverton Farmers Market\, 12375 SW 5th Street\, Beaverton\, OR\, United States
ATTACH;FMTTYPE=image/png:https://roseandferncellars.com/wp-content/uploads/2022/11/1FD2A991-5B91-41C3-9C58-8FCA84080916.png
END:VEVENT
BEGIN:VEVENT
DTSTART;TZID=America/Los_Angeles:20240406T100000
DTEND;TZID=America/Los_Angeles:20240406T133000
DTSTAMP:20260421T230258
CREATED:20240228T202653Z
LAST-MODIFIED:20240228T202653Z
UID:3476-1712397600-1712410200@roseandferncellars.com
SUMMARY:Beaverton Farmers Market
DESCRIPTION:Free wine tasting and sales of our wonderful Oregon wines by the bottle.
URL:https://roseandferncellars.com/event/beaverton-farmers-market-41/
LOCATION:Beaverton Farmers Market\, 12375 SW 5th Street\, Beaverton\, OR\, United States
ATTACH;FMTTYPE=image/png:https://roseandferncellars.com/wp-content/uploads/2022/11/1FD2A991-5B91-41C3-9C58-8FCA84080916.png
END:VEVENT
BEGIN:VEVENT
DTSTART;TZID=America/Los_Angeles:20240323T100000
DTEND;TZID=America/Los_Angeles:20240323T133000
DTSTAMP:20260421T230258
CREATED:20240228T200758Z
LAST-MODIFIED:20240228T200758Z
UID:3474-1711188000-1711200600@roseandferncellars.com
SUMMARY:Beaverton Farmers Market
DESCRIPTION:Free wine tasting and sales of our wonderful Oregon wines by the bottle.
URL:https://roseandferncellars.com/event/beaverton-farmers-market-40/
LOCATION:Beaverton Farmers Market\, 12375 SW 5th Street\, Beaverton\, OR\, United States
ATTACH;FMTTYPE=image/png:https://roseandferncellars.com/wp-content/uploads/2022/11/1FD2A991-5B91-41C3-9C58-8FCA84080916.png
END:VEVENT
BEGIN:VEVENT
DTSTART;TZID=America/Los_Angeles:20240309T100000
DTEND;TZID=America/Los_Angeles:20240309T133000
DTSTAMP:20260421T230258
CREATED:20240228T200346Z
LAST-MODIFIED:20240228T200509Z
UID:3471-1709978400-1709991000@roseandferncellars.com
SUMMARY:Beaverton Farmers Market
DESCRIPTION:Free wine tasting and sales of our wonderful Oregon wines by the bottle.
URL:https://roseandferncellars.com/event/beaverton-farmers-market-39/
LOCATION:Beaverton Farmers Market\, 12375 SW 5th Street\, Beaverton\, OR\, United States
ATTACH;FMTTYPE=image/png:https://roseandferncellars.com/wp-content/uploads/2022/11/1FD2A991-5B91-41C3-9C58-8FCA84080916.png
END:VEVENT
BEGIN:VEVENT
DTSTART;TZID=America/Los_Angeles:20231210T100000
DTEND;TZID=America/Los_Angeles:20231210T180000
DTSTAMP:20260421T230258
CREATED:20231025T203115Z
LAST-MODIFIED:20231025T203115Z
UID:3457-1702202400-1702231200@roseandferncellars.com
SUMMARY:Salem Holiday Market 2023
DESCRIPTION:More than 250 vendors with hand-made\, hand-crafted and homegrown products. We’ll be offering free wine tasting and selling our wines by the bottle. Perfect for your holiday parties and gift-giving. \nState Fairground\, Market Street & Ellis Avenue
URL:https://roseandferncellars.com/event/salem-holiday-market-2023-2/
LOCATION:OR
ATTACH;FMTTYPE=image/jpeg:https://roseandferncellars.com/wp-content/uploads/2022/10/536CB649-F2E6-40EE-85A2-E02F1F14BA67.jpeg
END:VEVENT
BEGIN:VEVENT
DTSTART;TZID=America/Los_Angeles:20231210T100000
DTEND;TZID=America/Los_Angeles:20231210T160000
DTSTAMP:20260421T230258
CREATED:20231025T203244Z
LAST-MODIFIED:20231025T203244Z
UID:3459-1702202400-1702224000@roseandferncellars.com
SUMMARY:Salem Holiday Market 2023
DESCRIPTION:More than 250 vendors with hand-made\, hand-crafted and homegrown products. We’ll be offering free wine tasting and selling our wines by the bottle. Perfect for your holiday parties and gift-giving. \nState Fairground\, Market Street & Ellis Avenue
URL:https://roseandferncellars.com/event/salem-holiday-market-2023-3/
LOCATION:OR
ATTACH;FMTTYPE=image/jpeg:https://roseandferncellars.com/wp-content/uploads/2022/10/536CB649-F2E6-40EE-85A2-E02F1F14BA67.jpeg
END:VEVENT
BEGIN:VEVENT
DTSTART;TZID=America/Los_Angeles:20231208T173000
DTEND;TZID=America/Los_Angeles:20231208T203000
DTSTAMP:20260421T230258
CREATED:20231025T202851Z
LAST-MODIFIED:20231025T202851Z
UID:3455-1702056600-1702067400@roseandferncellars.com
SUMMARY:Salem Holiday Market 2023
DESCRIPTION:More than 250 vendors with hand-made\, hand-crafted and homegrown products. We’ll be offering free wine tasting and selling our wines by the bottle. Perfect for your holiday parties and gift-giving. \nState Fairground\, Market Street & Ellis Avenue
URL:https://roseandferncellars.com/event/salem-holiday-market-2023/
LOCATION:OR
ATTACH;FMTTYPE=image/jpeg:https://roseandferncellars.com/wp-content/uploads/2022/10/536CB649-F2E6-40EE-85A2-E02F1F14BA67.jpeg
END:VEVENT
BEGIN:VEVENT
DTSTART;TZID=America/Los_Angeles:20231119T100000
DTEND;TZID=America/Los_Angeles:20231119T140000
DTSTAMP:20260421T230258
CREATED:20230628T171834Z
LAST-MODIFIED:20230628T171834Z
UID:3428-1700388000-1700402400@roseandferncellars.com
SUMMARY:Woodstock Farmers Market
DESCRIPTION:FREE wine tasting and sales of our wonderful Oregon wines. This is our last market of the season at Woodstock. See you next year!
URL:https://roseandferncellars.com/event/woodstock-farmers-market-8/
LOCATION:Woodstock Farmers Market\, 4600 SE Woodstock Blvd.\, Portland\, OR\, United States
END:VEVENT
BEGIN:VEVENT
DTSTART;TZID=America/Los_Angeles:20231118T090000
DTEND;TZID=America/Los_Angeles:20231118T133000
DTSTAMP:20260421T230258
CREATED:20230627T231338Z
LAST-MODIFIED:20230627T231338Z
UID:3368-1700298000-1700314200@roseandferncellars.com
SUMMARY:Beaverton Farmers Market
DESCRIPTION:FREE wine tasting and sales of our wonderful Oregon wines. This is the last day for 2023 for the Beaverton Farmers Market. See you in February.
URL:https://roseandferncellars.com/event/beaverton-farmers-market-36/
LOCATION:Beaverton Farmers Market\, 12375 SW 5th Street\, Beaverton\, OR\, United States
ATTACH;FMTTYPE=image/png:https://roseandferncellars.com/wp-content/uploads/2022/11/1FD2A991-5B91-41C3-9C58-8FCA84080916.png
END:VEVENT
BEGIN:VEVENT
DTSTART;TZID=America/Los_Angeles:20231111T090000
DTEND;TZID=America/Los_Angeles:20231111T133000
DTSTAMP:20260421T230258
CREATED:20230627T231149Z
LAST-MODIFIED:20230627T231149Z
UID:3366-1699693200-1699709400@roseandferncellars.com
SUMMARY:Beaverton Farmers Market
DESCRIPTION:FREE wine tasting and sales of our wonderful Oregon wines Saturdays through November 18.
URL:https://roseandferncellars.com/event/beaverton-farmers-market-35/
LOCATION:Beaverton Farmers Market\, 12375 SW 5th Street\, Beaverton\, OR\, United States
ATTACH;FMTTYPE=image/png:https://roseandferncellars.com/wp-content/uploads/2022/11/1FD2A991-5B91-41C3-9C58-8FCA84080916.png
END:VEVENT
BEGIN:VEVENT
DTSTART;TZID=America/Los_Angeles:20231104T090000
DTEND;TZID=America/Los_Angeles:20231104T133000
DTSTAMP:20260421T230258
CREATED:20230627T231035Z
LAST-MODIFIED:20230627T231035Z
UID:3364-1699088400-1699104600@roseandferncellars.com
SUMMARY:Beaverton Farmers Market
DESCRIPTION:FREE wine tasting and sales of our wonderful Oregon wines Saturdays through November 18.
URL:https://roseandferncellars.com/event/beaverton-farmers-market-34/
LOCATION:Beaverton Farmers Market\, 12375 SW 5th Street\, Beaverton\, OR\, United States
ATTACH;FMTTYPE=image/png:https://roseandferncellars.com/wp-content/uploads/2022/11/1FD2A991-5B91-41C3-9C58-8FCA84080916.png
END:VEVENT
BEGIN:VEVENT
DTSTART;TZID=America/Los_Angeles:20231028T090000
DTEND;TZID=America/Los_Angeles:20231028T133000
DTSTAMP:20260421T230258
CREATED:20230627T230901Z
LAST-MODIFIED:20230627T230901Z
UID:3362-1698483600-1698499800@roseandferncellars.com
SUMMARY:Beaverton Farmers Market
DESCRIPTION:FREE wine tasting and sales of our wonderful Oregon wines Saturdays through November 18.
URL:https://roseandferncellars.com/event/beaverton-farmers-market-33/
LOCATION:Beaverton Farmers Market\, 12375 SW 5th Street\, Beaverton\, OR\, United States
ATTACH;FMTTYPE=image/png:https://roseandferncellars.com/wp-content/uploads/2022/11/1FD2A991-5B91-41C3-9C58-8FCA84080916.png
END:VEVENT
END:VCALENDAR