BEGIN:VCALENDAR
VERSION:2.0
PRODID:-//Rose and Fern Cellars - ECPv6.15.20//NONSGML v1.0//EN
CALSCALE:GREGORIAN
METHOD:PUBLISH
X-WR-CALNAME:Rose and Fern Cellars
X-ORIGINAL-URL:https://roseandferncellars.com
X-WR-CALDESC:Events for Rose and Fern Cellars
REFRESH-INTERVAL;VALUE=DURATION:PT1H
X-Robots-Tag:noindex
X-PUBLISHED-TTL:PT1H
BEGIN:VTIMEZONE
TZID:America/Los_Angeles
BEGIN:DAYLIGHT
TZOFFSETFROM:-0800
TZOFFSETTO:-0700
TZNAME:PDT
DTSTART:20240310T100000
END:DAYLIGHT
BEGIN:STANDARD
TZOFFSETFROM:-0700
TZOFFSETTO:-0800
TZNAME:PST
DTSTART:20241103T090000
END:STANDARD
BEGIN:DAYLIGHT
TZOFFSETFROM:-0800
TZOFFSETTO:-0700
TZNAME:PDT
DTSTART:20250309T100000
END:DAYLIGHT
BEGIN:STANDARD
TZOFFSETFROM:-0700
TZOFFSETTO:-0800
TZNAME:PST
DTSTART:20251102T090000
END:STANDARD
BEGIN:DAYLIGHT
TZOFFSETFROM:-0800
TZOFFSETTO:-0700
TZNAME:PDT
DTSTART:20260308T100000
END:DAYLIGHT
BEGIN:STANDARD
TZOFFSETFROM:-0700
TZOFFSETTO:-0800
TZNAME:PST
DTSTART:20261101T090000
END:STANDARD
END:VTIMEZONE
BEGIN:VEVENT
DTSTART;TZID=America/Los_Angeles:20250906T083000
DTEND;TZID=America/Los_Angeles:20250906T133000
DTSTAMP:20260421T182921
CREATED:20250813T210928Z
LAST-MODIFIED:20250813T210928Z
UID:4343-1757147400-1757165400@roseandferncellars.com
SUMMARY:Beaverton Farmers Market
DESCRIPTION:Free wine tasting and sale of our wonderful Oregon wine by the bottle.
URL:https://roseandferncellars.com/event/beaverton-farmers-market-93/
LOCATION:Beaverton Farmers Market\, 12375 SW 5th Street\, Beaverton\, OR\, United States
ATTACH;FMTTYPE=image/png:https://roseandferncellars.com/wp-content/uploads/2022/11/1FD2A991-5B91-41C3-9C58-8FCA84080916.png
END:VEVENT
BEGIN:VEVENT
DTSTART;TZID=America/Los_Angeles:20250907T100000
DTEND;TZID=America/Los_Angeles:20250907T140000
DTSTAMP:20260421T182921
CREATED:20250813T211249Z
LAST-MODIFIED:20250813T211249Z
UID:4345-1757239200-1757253600@roseandferncellars.com
SUMMARY:Hillsboro Farmers Market at Orenco
DESCRIPTION:Free wine tasting and sale of our wonderful Oregon wine by the bottle.
URL:https://roseandferncellars.com/event/hillsboro-farmers-market-at-orenco-41/
LOCATION:Hillsboro Farmers Market @ Orenco\, 6125 NE Cornell Rd.\, Hillsboro\, OR\, 97124\, United States
ATTACH;FMTTYPE=image/jpeg:https://roseandferncellars.com/wp-content/uploads/2023/03/BFD7A441-F3F8-4C07-8A62-509312049C0E.jpeg
END:VEVENT
BEGIN:VEVENT
DTSTART;TZID=America/Los_Angeles:20250912T180000
DTEND;TZID=America/Los_Angeles:20250912T200000
DTSTAMP:20260421T182921
CREATED:20250813T212409Z
LAST-MODIFIED:20250813T212459Z
UID:4347-1757700000-1757707200@roseandferncellars.com
SUMMARY:Wine & Jazz at Oak Hills
DESCRIPTION:Please join us for an evening of jazz under the stars featuring the Swing & Jazz Trio. We will be pouring our wonderful Oregon wines available for purchase by the glass and by the bottle. Moto Teriyaki will be selling their delicious food\, Teriyaki bowls and plates\, burgers\, and more. Your host: the Oak Hills Homeowners Association.
URL:https://roseandferncellars.com/event/wine-jazz-at-oak-hills-2/
LOCATION:Oak Hills Community Center\, 2400 NW 153rd Ave.\, Beaverton\, OR\, United States
ATTACH;FMTTYPE=image/png:https://roseandferncellars.com/wp-content/uploads/2025/08/IMG_0933.png
END:VEVENT
BEGIN:VEVENT
DTSTART;TZID=America/Los_Angeles:20250913T083000
DTEND;TZID=America/Los_Angeles:20250913T133000
DTSTAMP:20260421T182921
CREATED:20250813T212709Z
LAST-MODIFIED:20250813T212709Z
UID:4351-1757752200-1757770200@roseandferncellars.com
SUMMARY:Beaverton Farmers Market
DESCRIPTION:Free wine tasting and sale of our wonderful Oregon wine by the bottle.
URL:https://roseandferncellars.com/event/beaverton-farmers-market-94/
LOCATION:Beaverton Farmers Market\, 12375 SW 5th Street\, Beaverton\, OR\, United States
ATTACH;FMTTYPE=image/png:https://roseandferncellars.com/wp-content/uploads/2022/11/1FD2A991-5B91-41C3-9C58-8FCA84080916.png
END:VEVENT
BEGIN:VEVENT
DTSTART;TZID=America/Los_Angeles:20250913T090000
DTEND;TZID=America/Los_Angeles:20250913T130000
DTSTAMP:20260421T182921
CREATED:20250813T214115Z
LAST-MODIFIED:20250813T214115Z
UID:4355-1757754000-1757768400@roseandferncellars.com
SUMMARY:Hillsboro Farmers Market
DESCRIPTION:Free wine tasting and sale by the bottle of our wonderful Oregon wines.
URL:https://roseandferncellars.com/event/hillsboro-farmers-market-49/
LOCATION:Hillsboro Farmers Market\, Main Street (Downtown)\, Hillsboro\, OR\, United States
ATTACH;FMTTYPE=image/jpeg:https://roseandferncellars.com/wp-content/uploads/2023/02/B334FA7C-995F-494D-8903-F096E0FD635F-scaled.jpeg
END:VEVENT
BEGIN:VEVENT
DTSTART;TZID=America/Los_Angeles:20250913T090000
DTEND;TZID=America/Los_Angeles:20250913T140000
DTSTAMP:20260421T182921
CREATED:20250813T213102Z
LAST-MODIFIED:20250813T213728Z
UID:4353-1757754000-1757772000@roseandferncellars.com
SUMMARY:Happy Valley Farmers Market
DESCRIPTION:Free wine tasting and sale by the bottle of our wonderful Oregon wines.
URL:https://roseandferncellars.com/event/happy-valley-farmers-market-45/
LOCATION:Happy Valley Farmers Market\, 13231 Sunnyside Rd.\, Happy Valley\, OR\, United States
ATTACH;FMTTYPE=image/jpeg:https://roseandferncellars.com/wp-content/uploads/2023/05/IMG_5034.jpeg
END:VEVENT
BEGIN:VEVENT
DTSTART;TZID=America/Los_Angeles:20250914T100000
DTEND;TZID=America/Los_Angeles:20250914T140000
DTSTAMP:20260421T182921
CREATED:20250813T222119Z
LAST-MODIFIED:20250813T222119Z
UID:4358-1757844000-1757858400@roseandferncellars.com
SUMMARY:Orenco Farmers Market
DESCRIPTION:Free wine tasting and sale by the bottle of our wonderful Oregon wines.
URL:https://roseandferncellars.com/event/orenco-farmers-market-17/
LOCATION:Hillsboro Farmers Market @ Orenco\, 6125 NE Cornell Rd.\, Hillsboro\, OR\, 97124\, United States
ATTACH;FMTTYPE=image/jpeg:https://roseandferncellars.com/wp-content/uploads/2023/03/BFD7A441-F3F8-4C07-8A62-509312049C0E.jpeg
END:VEVENT
BEGIN:VEVENT
DTSTART;TZID=America/Los_Angeles:20250920T083000
DTEND;TZID=America/Los_Angeles:20250920T133000
DTSTAMP:20260421T182921
CREATED:20250813T222359Z
LAST-MODIFIED:20250813T222359Z
UID:4360-1758357000-1758375000@roseandferncellars.com
SUMMARY:Beaverton Farmers Market
DESCRIPTION:Free wine tasting and sale by the bottle of our wonderful Oregon wines.
URL:https://roseandferncellars.com/event/beaverton-farmers-market-95/
LOCATION:Beaverton Farmers Market\, 12375 SW 5th Street\, Beaverton\, OR\, United States
ATTACH;FMTTYPE=image/png:https://roseandferncellars.com/wp-content/uploads/2022/11/1FD2A991-5B91-41C3-9C58-8FCA84080916.png
END:VEVENT
BEGIN:VEVENT
DTSTART;TZID=America/Los_Angeles:20250921T100000
DTEND;TZID=America/Los_Angeles:20250921T140000
DTSTAMP:20260421T182921
CREATED:20250813T222618Z
LAST-MODIFIED:20250813T222618Z
UID:4362-1758448800-1758463200@roseandferncellars.com
SUMMARY:Orenco Farmers Market
DESCRIPTION:Free wine tasting and sale by the bottle of our wonderful Oregon wines.
URL:https://roseandferncellars.com/event/orenco-farmers-market-18/
LOCATION:Hillsboro Farmers Market @ Orenco\, 6125 NE Cornell Rd.\, Hillsboro\, OR\, 97124\, United States
ATTACH;FMTTYPE=image/jpeg:https://roseandferncellars.com/wp-content/uploads/2023/03/BFD7A441-F3F8-4C07-8A62-509312049C0E.jpeg
END:VEVENT
BEGIN:VEVENT
DTSTART;TZID=America/Los_Angeles:20250921T100000
DTEND;TZID=America/Los_Angeles:20250921T140000
DTSTAMP:20260421T182921
CREATED:20250813T222845Z
LAST-MODIFIED:20250813T222845Z
UID:4364-1758448800-1758463200@roseandferncellars.com
SUMMARY:Woodstock Farmers Market
DESCRIPTION:Free wine tasting and sale of our wonderful Oregon wines by the bottle.
URL:https://roseandferncellars.com/event/woodstock-farmers-market-18/
LOCATION:Woodstock Farmers Market\, 4600 SE Woodstock Blvd.\, Portland\, OR\, United States
ATTACH;FMTTYPE=image/png:https://roseandferncellars.com/wp-content/uploads/2024/05/IMG_0763.png
END:VEVENT
BEGIN:VEVENT
DTSTART;TZID=America/Los_Angeles:20250927T083000
DTEND;TZID=America/Los_Angeles:20250927T133000
DTSTAMP:20260421T182921
CREATED:20250813T223030Z
LAST-MODIFIED:20250813T223030Z
UID:4366-1758961800-1758979800@roseandferncellars.com
SUMMARY:Beaverton Farmers Market
DESCRIPTION:Free wine tasting and sale of our wonderful Oregon wines by the bottle.
URL:https://roseandferncellars.com/event/beaverton-farmers-market-96/
LOCATION:Beaverton Farmers Market\, 12375 SW 5th Street\, Beaverton\, OR\, United States
ATTACH;FMTTYPE=image/png:https://roseandferncellars.com/wp-content/uploads/2022/11/1FD2A991-5B91-41C3-9C58-8FCA84080916.png
END:VEVENT
BEGIN:VEVENT
DTSTART;TZID=America/Los_Angeles:20250927T090000
DTEND;TZID=America/Los_Angeles:20250927T130000
DTSTAMP:20260421T182921
CREATED:20250813T223406Z
LAST-MODIFIED:20250813T223406Z
UID:4370-1758963600-1758978000@roseandferncellars.com
SUMMARY:Hillsboro Farmers Market
DESCRIPTION:Free wine tasting and sale of our wonderful Oregon wines by the bottle.
URL:https://roseandferncellars.com/event/hillsboro-farmers-market-50/
LOCATION:Hillsboro Farmers Market\, Main Street (Downtown)\, Hillsboro\, OR\, United States
ATTACH;FMTTYPE=image/jpeg:https://roseandferncellars.com/wp-content/uploads/2023/02/B334FA7C-995F-494D-8903-F096E0FD635F-scaled.jpeg
END:VEVENT
BEGIN:VEVENT
DTSTART;TZID=America/Los_Angeles:20250927T090000
DTEND;TZID=America/Los_Angeles:20250927T140000
DTSTAMP:20260421T182921
CREATED:20250813T223212Z
LAST-MODIFIED:20250813T223212Z
UID:4368-1758963600-1758981600@roseandferncellars.com
SUMMARY:Happy Valley Farmers Market
DESCRIPTION:Free wine tasting and sale of our wonderful Oregon wines by the bottle.
URL:https://roseandferncellars.com/event/happy-valley-farmers-market-46/
LOCATION:Happy Valley Farmers Market\, 13231 Sunnyside Rd.\, Happy Valley\, OR\, United States
ATTACH;FMTTYPE=image/jpeg:https://roseandferncellars.com/wp-content/uploads/2023/05/IMG_5034.jpeg
END:VEVENT
BEGIN:VEVENT
DTSTART;TZID=America/Los_Angeles:20250928T100000
DTEND;TZID=America/Los_Angeles:20250928T140000
DTSTAMP:20260421T182921
CREATED:20250813T223540Z
LAST-MODIFIED:20250813T223540Z
UID:4372-1759053600-1759068000@roseandferncellars.com
SUMMARY:Orenco Farmers Market
DESCRIPTION:Free wine tasting and sales of our wonderful Oregon wines by the bottle.
URL:https://roseandferncellars.com/event/orenco-farmers-market-19/
LOCATION:Hillsboro Farmers Market @ Orenco\, 6125 NE Cornell Rd.\, Hillsboro\, OR\, 97124\, United States
ATTACH;FMTTYPE=image/jpeg:https://roseandferncellars.com/wp-content/uploads/2023/03/BFD7A441-F3F8-4C07-8A62-509312049C0E.jpeg
END:VEVENT
BEGIN:VEVENT
DTSTART;TZID=America/Los_Angeles:20251004T083000
DTEND;TZID=America/Los_Angeles:20251004T133000
DTSTAMP:20260421T182921
CREATED:20250930T180225Z
LAST-MODIFIED:20250930T180225Z
UID:4380-1759566600-1759584600@roseandferncellars.com
SUMMARY:Beaverton Farmers Market
DESCRIPTION:Free wine tasting and sale of wine by the bottle. NEW RELEASE: Rose and Fern Cellars 2024 Syrah.
URL:https://roseandferncellars.com/event/beaverton-farmers-market-97/
LOCATION:Beaverton Farmers Market\, 12375 SW 5th Street\, Beaverton\, OR\, United States
ATTACH;FMTTYPE=image/png:https://roseandferncellars.com/wp-content/uploads/2022/11/1FD2A991-5B91-41C3-9C58-8FCA84080916.png
END:VEVENT
BEGIN:VEVENT
DTSTART;TZID=America/Los_Angeles:20251004T090000
DTEND;TZID=America/Los_Angeles:20251004T140000
DTSTAMP:20260421T182921
CREATED:20250930T175934Z
LAST-MODIFIED:20250930T175934Z
UID:4378-1759568400-1759586400@roseandferncellars.com
SUMMARY:Happy Valley Farmers Market
DESCRIPTION:Free wine tasting and sale of wine by the bottle. NEW RELEASE: Rose and Fern Cellars 2024 Syrah.
URL:https://roseandferncellars.com/event/happy-valley-farmers-market-47/
LOCATION:Happy Valley Farmers Market\, 13231 Sunnyside Rd.\, Happy Valley\, OR\, United States
ATTACH;FMTTYPE=image/jpeg:https://roseandferncellars.com/wp-content/uploads/2023/05/IMG_5034.jpeg
END:VEVENT
BEGIN:VEVENT
DTSTART;TZID=America/Los_Angeles:20251005T100000
DTEND;TZID=America/Los_Angeles:20251005T140000
DTSTAMP:20260421T182921
CREATED:20250930T180356Z
LAST-MODIFIED:20250930T180356Z
UID:4382-1759658400-1759672800@roseandferncellars.com
SUMMARY:Orenco Farmers Market
DESCRIPTION:Free wine tasting and sale of wine by the bottle. NEW RELEASE: Rose and Fern Cellars 2024 Syrah.
URL:https://roseandferncellars.com/event/orenco-farmers-market-20/
LOCATION:Hillsboro Farmers Market @ Orenco\, 6125 NE Cornell Rd.\, Hillsboro\, OR\, 97124\, United States
ATTACH;FMTTYPE=image/jpeg:https://roseandferncellars.com/wp-content/uploads/2023/03/BFD7A441-F3F8-4C07-8A62-509312049C0E.jpeg
END:VEVENT
BEGIN:VEVENT
DTSTART;TZID=America/Los_Angeles:20251011T083000
DTEND;TZID=America/Los_Angeles:20251011T133000
DTSTAMP:20260421T182921
CREATED:20250930T180959Z
LAST-MODIFIED:20250930T180959Z
UID:4386-1760171400-1760189400@roseandferncellars.com
SUMMARY:Beaverton Farmers Market
DESCRIPTION:Free wine tasting and sale of wine by the bottle.
URL:https://roseandferncellars.com/event/beaverton-farmers-market-98/
LOCATION:Beaverton Farmers Market\, 12375 SW 5th Street\, Beaverton\, OR\, United States
ATTACH;FMTTYPE=image/png:https://roseandferncellars.com/wp-content/uploads/2022/11/1FD2A991-5B91-41C3-9C58-8FCA84080916.png
END:VEVENT
BEGIN:VEVENT
DTSTART;TZID=America/Los_Angeles:20251011T090000
DTEND;TZID=America/Los_Angeles:20251011T140000
DTSTAMP:20260421T182921
CREATED:20250930T180833Z
LAST-MODIFIED:20250930T180833Z
UID:4384-1760173200-1760191200@roseandferncellars.com
SUMMARY:Happy Valley Farmers Market
DESCRIPTION:Free wine tasting and sale of wine by the bottle.
URL:https://roseandferncellars.com/event/happy-valley-farmers-market-48/
LOCATION:Happy Valley Farmers Market\, 13231 Sunnyside Rd.\, Happy Valley\, OR\, United States
ATTACH;FMTTYPE=image/jpeg:https://roseandferncellars.com/wp-content/uploads/2023/05/IMG_5034.jpeg
END:VEVENT
BEGIN:VEVENT
DTSTART;TZID=America/Los_Angeles:20251012T100000
DTEND;TZID=America/Los_Angeles:20251012T140000
DTSTAMP:20260421T182921
CREATED:20250930T181209Z
LAST-MODIFIED:20250930T181209Z
UID:4388-1760263200-1760277600@roseandferncellars.com
SUMMARY:Orenco Farmers Market
DESCRIPTION:Free wine tasting and sale of wine by the bottle.
URL:https://roseandferncellars.com/event/orenco-farmers-market-21/
LOCATION:Hillsboro Farmers Market @ Orenco\, 6125 NE Cornell Rd.\, Hillsboro\, OR\, 97124\, United States
ATTACH;FMTTYPE=image/jpeg:https://roseandferncellars.com/wp-content/uploads/2023/03/BFD7A441-F3F8-4C07-8A62-509312049C0E.jpeg
END:VEVENT
BEGIN:VEVENT
DTSTART;TZID=America/Los_Angeles:20251018T083000
DTEND;TZID=America/Los_Angeles:20251018T133000
DTSTAMP:20260421T182921
CREATED:20250930T181553Z
LAST-MODIFIED:20250930T181553Z
UID:4393-1760776200-1760794200@roseandferncellars.com
SUMMARY:Beaverton Farmers Market
DESCRIPTION:Free wine tasting and sale of wine by the bottle.
URL:https://roseandferncellars.com/event/beaverton-farmers-market-99/
LOCATION:Beaverton Farmers Market\, 12375 SW 5th Street\, Beaverton\, OR\, United States
ATTACH;FMTTYPE=image/png:https://roseandferncellars.com/wp-content/uploads/2022/11/1FD2A991-5B91-41C3-9C58-8FCA84080916.png
END:VEVENT
BEGIN:VEVENT
DTSTART;TZID=America/Los_Angeles:20251018T090000
DTEND;TZID=America/Los_Angeles:20251018T140000
DTSTAMP:20260421T182921
CREATED:20250930T181428Z
LAST-MODIFIED:20250930T181929Z
UID:4391-1760778000-1760796000@roseandferncellars.com
SUMMARY:Happy Valley Farmers Market
DESCRIPTION:Free wine tasting and sale of wine by the bottle. This is the last market of the season for us this year.
URL:https://roseandferncellars.com/event/happy-valley-farmers-market-49/
LOCATION:Happy Valley Farmers Market\, 13231 Sunnyside Rd.\, Happy Valley\, OR\, United States
ATTACH;FMTTYPE=image/jpeg:https://roseandferncellars.com/wp-content/uploads/2023/05/IMG_5034.jpeg
END:VEVENT
BEGIN:VEVENT
DTSTART;TZID=America/Los_Angeles:20251019T100000
DTEND;TZID=America/Los_Angeles:20251019T140000
DTSTAMP:20260421T182921
CREATED:20250930T181741Z
LAST-MODIFIED:20250930T181741Z
UID:4395-1760868000-1760882400@roseandferncellars.com
SUMMARY:Woodstock Farmers Market
DESCRIPTION:Free wine tasting and sale of wine by the bottle. NEW RELEASE: Rose and Fern Cellars 2024 Syrah.
URL:https://roseandferncellars.com/event/woodstock-farmers-market-19/
LOCATION:Woodstock Farmers Market\, 4600 SE Woodstock Blvd.\, Portland\, OR\, United States
ATTACH;FMTTYPE=image/png:https://roseandferncellars.com/wp-content/uploads/2024/05/IMG_0763.png
END:VEVENT
BEGIN:VEVENT
DTSTART;TZID=America/Los_Angeles:20251025T083000
DTEND;TZID=America/Los_Angeles:20251025T133000
DTSTAMP:20260421T182921
CREATED:20250930T182134Z
LAST-MODIFIED:20250930T182134Z
UID:4398-1761381000-1761399000@roseandferncellars.com
SUMMARY:Beaverton Farmers Market
DESCRIPTION:Free wine tasting and sale of wine by the bottle.
URL:https://roseandferncellars.com/event/beaverton-farmers-market-100/
LOCATION:Beaverton Farmers Market\, 12375 SW 5th Street\, Beaverton\, OR\, United States
ATTACH;FMTTYPE=image/png:https://roseandferncellars.com/wp-content/uploads/2022/11/1FD2A991-5B91-41C3-9C58-8FCA84080916.png
END:VEVENT
BEGIN:VEVENT
DTSTART;TZID=America/Los_Angeles:20251026T100000
DTEND;TZID=America/Los_Angeles:20251026T140000
DTSTAMP:20260421T182921
CREATED:20250930T182317Z
LAST-MODIFIED:20250930T182628Z
UID:4400-1761472800-1761487200@roseandferncellars.com
SUMMARY:Orenco Farmers Market
DESCRIPTION:Free wine tasting and sale of wine by the bottle.
URL:https://roseandferncellars.com/event/orenco-farmers-morning/
LOCATION:Orenco Farmers Market\, 6125 NE Cornell Road\, Hillsboro\, OR\, United States
ATTACH;FMTTYPE=image/jpeg:https://roseandferncellars.com/wp-content/uploads/2023/03/BFD7A441-F3F8-4C07-8A62-509312049C0E.jpeg
END:VEVENT
BEGIN:VEVENT
DTSTART;TZID=America/Los_Angeles:20251101T083000
DTEND;TZID=America/Los_Angeles:20251101T133000
DTSTAMP:20260421T182921
CREATED:20250930T182835Z
LAST-MODIFIED:20250930T182835Z
UID:4403-1761985800-1762003800@roseandferncellars.com
SUMMARY:Beaverton Farmers Market
DESCRIPTION:Free wine tasting and sale of wine by the bottle.
URL:https://roseandferncellars.com/event/beaverton-farmers-market-101/
LOCATION:Beaverton Farmers Market\, 12375 SW 5th Street\, Beaverton\, OR\, United States
ATTACH;FMTTYPE=image/png:https://roseandferncellars.com/wp-content/uploads/2022/11/1FD2A991-5B91-41C3-9C58-8FCA84080916.png
END:VEVENT
BEGIN:VEVENT
DTSTART;TZID=America/Los_Angeles:20251108T083000
DTEND;TZID=America/Los_Angeles:20251108T133000
DTSTAMP:20260421T182921
CREATED:20250930T182950Z
LAST-MODIFIED:20250930T182950Z
UID:4405-1762590600-1762608600@roseandferncellars.com
SUMMARY:Beaverton Farmers Market
DESCRIPTION:Free wine tasting and sale of wine by the bottle.
URL:https://roseandferncellars.com/event/beaverton-farmers-market-102/
LOCATION:Beaverton Farmers Market\, 12375 SW 5th Street\, Beaverton\, OR\, United States
ATTACH;FMTTYPE=image/png:https://roseandferncellars.com/wp-content/uploads/2022/11/1FD2A991-5B91-41C3-9C58-8FCA84080916.png
END:VEVENT
BEGIN:VEVENT
DTSTART;TZID=America/Los_Angeles:20251115T083000
DTEND;TZID=America/Los_Angeles:20251115T133000
DTSTAMP:20260421T182921
CREATED:20250930T183126Z
LAST-MODIFIED:20250930T183126Z
UID:4407-1763195400-1763213400@roseandferncellars.com
SUMMARY:Beaverton Farmers Market
DESCRIPTION:Free wine tasting and sale of wine by the bottle.
URL:https://roseandferncellars.com/event/beaverton-farmers-market-103/
LOCATION:Beaverton Farmers Market\, 12375 SW 5th Street\, Beaverton\, OR\, United States
ATTACH;FMTTYPE=image/png:https://roseandferncellars.com/wp-content/uploads/2022/11/1FD2A991-5B91-41C3-9C58-8FCA84080916.png
END:VEVENT
BEGIN:VEVENT
DTSTART;TZID=America/Los_Angeles:20251122T083000
DTEND;TZID=America/Los_Angeles:20251122T133000
DTSTAMP:20260421T182921
CREATED:20250930T183250Z
LAST-MODIFIED:20250930T183320Z
UID:4409-1763800200-1763818200@roseandferncellars.com
SUMMARY:Beaverton Farmers Market
DESCRIPTION:Free wine tasting and sale of wine by the bottle. Last market of the season. Happy Thanksgiving.
URL:https://roseandferncellars.com/event/beaverton-farmers-market-104/
LOCATION:Beaverton Farmers Market\, 12375 SW 5th Street\, Beaverton\, OR\, United States
ATTACH;FMTTYPE=image/png:https://roseandferncellars.com/wp-content/uploads/2022/11/1FD2A991-5B91-41C3-9C58-8FCA84080916.png
END:VEVENT
BEGIN:VEVENT
DTSTART;TZID=America/Los_Angeles:20251123T100000
DTEND;TZID=America/Los_Angeles:20251123T140000
DTSTAMP:20260421T182921
CREATED:20250930T183959Z
LAST-MODIFIED:20250930T183959Z
UID:4412-1763892000-1763906400@roseandferncellars.com
SUMMARY:Woodstock Farmers Market
DESCRIPTION:Free wine tasting and sale of wine but the bottle. Last market of the season. Happy Thanksgiving!
URL:https://roseandferncellars.com/event/woodstock-farmers-market-20/
LOCATION:Woodstock Farmers Market\, 4600 SE Woodstock Blvd.\, Portland\, OR\, United States
ATTACH;FMTTYPE=image/png:https://roseandferncellars.com/wp-content/uploads/2024/05/IMG_0763.png
END:VEVENT
END:VCALENDAR