BEGIN:VCALENDAR
VERSION:2.0
PRODID:-//Rose and Fern Cellars - ECPv6.15.20//NONSGML v1.0//EN
CALSCALE:GREGORIAN
METHOD:PUBLISH
X-WR-CALNAME:Rose and Fern Cellars
X-ORIGINAL-URL:https://roseandferncellars.com
X-WR-CALDESC:Events for Rose and Fern Cellars
REFRESH-INTERVAL;VALUE=DURATION:PT1H
X-Robots-Tag:noindex
X-PUBLISHED-TTL:PT1H
BEGIN:VTIMEZONE
TZID:America/Los_Angeles
BEGIN:DAYLIGHT
TZOFFSETFROM:-0800
TZOFFSETTO:-0700
TZNAME:PDT
DTSTART:20230312T100000
END:DAYLIGHT
BEGIN:STANDARD
TZOFFSETFROM:-0700
TZOFFSETTO:-0800
TZNAME:PST
DTSTART:20231105T090000
END:STANDARD
BEGIN:DAYLIGHT
TZOFFSETFROM:-0800
TZOFFSETTO:-0700
TZNAME:PDT
DTSTART:20240310T100000
END:DAYLIGHT
BEGIN:STANDARD
TZOFFSETFROM:-0700
TZOFFSETTO:-0800
TZNAME:PST
DTSTART:20241103T090000
END:STANDARD
BEGIN:DAYLIGHT
TZOFFSETFROM:-0800
TZOFFSETTO:-0700
TZNAME:PDT
DTSTART:20250309T100000
END:DAYLIGHT
BEGIN:STANDARD
TZOFFSETFROM:-0700
TZOFFSETTO:-0800
TZNAME:PST
DTSTART:20251102T090000
END:STANDARD
END:VTIMEZONE
BEGIN:VEVENT
DTSTART;TZID=America/Los_Angeles:20240727T090000
DTEND;TZID=America/Los_Angeles:20240727T140000
DTSTAMP:20260421T175916
CREATED:20240624T232440Z
LAST-MODIFIED:20240624T232440Z
UID:3672-1722070800-1722088800@roseandferncellars.com
SUMMARY:Happy Valley Farmers Market
DESCRIPTION:Free wine tasting and sales of our wonderful Oregon wines by the bottle.
URL:https://roseandferncellars.com/event/happy-valley-farmers-market-31/
LOCATION:Happy Valley Farmers Market\, 13231 Sunnyside Rd.\, Happy Valley\, OR\, United States
ATTACH;FMTTYPE=image/jpeg:https://roseandferncellars.com/wp-content/uploads/2023/05/IMG_5034.jpeg
END:VEVENT
BEGIN:VEVENT
DTSTART;TZID=America/Los_Angeles:20240727T090000
DTEND;TZID=America/Los_Angeles:20240727T133000
DTSTAMP:20260421T175916
CREATED:20240624T232323Z
LAST-MODIFIED:20240624T232323Z
UID:3670-1722070800-1722087000@roseandferncellars.com
SUMMARY:Hillsboro Farmers Market
DESCRIPTION:Free wine tasting and sales of our wonderful Oregon wines by the bottle.
URL:https://roseandferncellars.com/event/hillsboro-farmers-market-36/
LOCATION:Hillsboro Farmers Market\, Main Street (Downtown)\, Hillsboro\, OR\, United States
END:VEVENT
BEGIN:VEVENT
DTSTART;TZID=America/Los_Angeles:20240727T083000
DTEND;TZID=America/Los_Angeles:20240727T133000
DTSTAMP:20260421T175916
CREATED:20240624T231909Z
LAST-MODIFIED:20240624T231909Z
UID:3665-1722069000-1722087000@roseandferncellars.com
SUMMARY:Beaverton Farmers Market
DESCRIPTION:Free wine tasting and sales of our wonderful Oregon wines by the bottle.
URL:https://roseandferncellars.com/event/beaverton-farmers-market-57/
LOCATION:Beaverton Farmers Market\, 12375 SW 5th Street\, Beaverton\, OR\, United States
ATTACH;FMTTYPE=image/png:https://roseandferncellars.com/wp-content/uploads/2022/11/1FD2A991-5B91-41C3-9C58-8FCA84080916.png
END:VEVENT
BEGIN:VEVENT
DTSTART;TZID=America/Los_Angeles:20240725T160000
DTEND;TZID=America/Los_Angeles:20240725T190000
DTSTAMP:20260421T175916
CREATED:20240624T231740Z
LAST-MODIFIED:20240624T231740Z
UID:3662-1721923200-1721934000@roseandferncellars.com
SUMMARY:Peak Chiropractic Farmers Market
DESCRIPTION:Free wine tasting and sales of our wonderful Oregon wines by the bottle.
URL:https://roseandferncellars.com/event/peak-chiropractic-farmers-market/
LOCATION:Peak Chiropractic\, 10355 NW Glencoe Rd.\, Suite B\, North Planins
END:VEVENT
BEGIN:VEVENT
DTSTART;TZID=America/Los_Angeles:20240721T100000
DTEND;TZID=America/Los_Angeles:20240721T140000
DTSTAMP:20260421T175916
CREATED:20240624T231132Z
LAST-MODIFIED:20240624T231132Z
UID:3660-1721556000-1721570400@roseandferncellars.com
SUMMARY:Hillsboro Farmers Market at Orenco
DESCRIPTION:Free wine tasting and sales of our wonderful Oregon wines by the bottle.
URL:https://roseandferncellars.com/event/hillsboro-farmers-market-at-orenco-29/
LOCATION:Hillsboro Farmers Market @ Orenco\, 6125 NE Cornell Rd.\, Hillsboro\, OR\, 97124\, United States
ATTACH;FMTTYPE=image/jpeg:https://roseandferncellars.com/wp-content/uploads/2023/03/BFD7A441-F3F8-4C07-8A62-509312049C0E.jpeg
END:VEVENT
BEGIN:VEVENT
DTSTART;TZID=America/Los_Angeles:20240720T090000
DTEND;TZID=America/Los_Angeles:20240720T133000
DTSTAMP:20260421T175916
CREATED:20240624T231022Z
LAST-MODIFIED:20240624T231022Z
UID:3658-1721466000-1721482200@roseandferncellars.com
SUMMARY:Hillsboro Farmers Market
DESCRIPTION:Free wine tasting and sales of our wonderful Oregon wines by the bottle.
URL:https://roseandferncellars.com/event/hillsboro-farmers-market-35/
LOCATION:Hillsboro Farmers Market\, Main Street (Downtown)\, Hillsboro\, OR\, United States
ATTACH;FMTTYPE=image/jpeg:https://roseandferncellars.com/wp-content/uploads/2023/02/B334FA7C-995F-494D-8903-F096E0FD635F-scaled.jpeg
END:VEVENT
BEGIN:VEVENT
DTSTART;TZID=America/Los_Angeles:20240720T083000
DTEND;TZID=America/Los_Angeles:20240720T133000
DTSTAMP:20260421T175916
CREATED:20240624T230900Z
LAST-MODIFIED:20240624T230900Z
UID:3656-1721464200-1721482200@roseandferncellars.com
SUMMARY:Beaverton Farmers Market
DESCRIPTION:Free wine tasting and sales of our wonderful Oregon wines by the bottle.
URL:https://roseandferncellars.com/event/beaverton-farmers-market-56/
LOCATION:Beaverton Farmers Market\, 12375 SW 5th Street\, Beaverton\, OR\, United States
ATTACH;FMTTYPE=image/png:https://roseandferncellars.com/wp-content/uploads/2022/11/1FD2A991-5B91-41C3-9C58-8FCA84080916.png
END:VEVENT
BEGIN:VEVENT
DTSTART;TZID=America/Los_Angeles:20240714T100000
DTEND;TZID=America/Los_Angeles:20240714T140000
DTSTAMP:20260421T175916
CREATED:20240624T230749Z
LAST-MODIFIED:20240624T230749Z
UID:3654-1720951200-1720965600@roseandferncellars.com
SUMMARY:Woodstock Farmers Market
DESCRIPTION:Free wine tasting and sales of our wonderful Oregon wines by the bottle.
URL:https://roseandferncellars.com/event/woodstock-farmers-market-10/
LOCATION:Woodstock Farmers Market\, 4600 SE Woodstock Blvd.\, Portland\, OR\, United States
ATTACH;FMTTYPE=image/png:https://roseandferncellars.com/wp-content/uploads/2024/05/IMG_0763.png
END:VEVENT
BEGIN:VEVENT
DTSTART;TZID=America/Los_Angeles:20240714T080000
DTEND;TZID=America/Los_Angeles:20240714T170000
DTSTAMP:20260421T175916
CREATED:20240624T230639Z
LAST-MODIFIED:20240624T230639Z
UID:3652-1720944000-1720976400@roseandferncellars.com
SUMMARY:Hillsboro Farmers Market at Orenco
DESCRIPTION:Free wine tasting and sales of our wonderful Oregon wines by the bottle.
URL:https://roseandferncellars.com/event/hillsboro-farmers-market-at-orenco-28/
LOCATION:Hillsboro Farmers Market @ Orenco\, 6125 NE Cornell Rd.\, Hillsboro\, OR\, 97124\, United States
ATTACH;FMTTYPE=image/jpeg:https://roseandferncellars.com/wp-content/uploads/2023/03/BFD7A441-F3F8-4C07-8A62-509312049C0E.jpeg
END:VEVENT
BEGIN:VEVENT
DTSTART;TZID=America/Los_Angeles:20240713T090000
DTEND;TZID=America/Los_Angeles:20240713T140000
DTSTAMP:20260421T175916
CREATED:20240624T230342Z
LAST-MODIFIED:20240624T230342Z
UID:3648-1720861200-1720879200@roseandferncellars.com
SUMMARY:Happy Valley Farmers Market
DESCRIPTION:Free wine tasting and sales of our wonderful Oregon wines by the bottle.
URL:https://roseandferncellars.com/event/happy-valley-farmers-market-30/
LOCATION:Happy Valley Farmers Market\, 13231 Sunnyside Rd.\, Happy Valley\, OR\, United States
ATTACH;FMTTYPE=image/jpeg:https://roseandferncellars.com/wp-content/uploads/2023/05/IMG_5034.jpeg
END:VEVENT
BEGIN:VEVENT
DTSTART;TZID=America/Los_Angeles:20240713T090000
DTEND;TZID=America/Los_Angeles:20240713T133000
DTSTAMP:20260421T175916
CREATED:20240624T230504Z
LAST-MODIFIED:20240624T230504Z
UID:3650-1720861200-1720877400@roseandferncellars.com
SUMMARY:Hillsboro Farmers Market
DESCRIPTION:Free wine tasting and sales of our wonderful Oregon wines by the bottle.
URL:https://roseandferncellars.com/event/hillsboro-farmers-market-34/
LOCATION:Hillsboro Farmers Market\, Main Street (Downtown)\, Hillsboro\, OR\, United States
ATTACH;FMTTYPE=image/jpeg:https://roseandferncellars.com/wp-content/uploads/2023/02/B334FA7C-995F-494D-8903-F096E0FD635F-scaled.jpeg
END:VEVENT
BEGIN:VEVENT
DTSTART;TZID=America/Los_Angeles:20240713T083000
DTEND;TZID=America/Los_Angeles:20240713T133000
DTSTAMP:20260421T175916
CREATED:20240624T230220Z
LAST-MODIFIED:20240624T230220Z
UID:3646-1720859400-1720877400@roseandferncellars.com
SUMMARY:Beaverton Farmers Market
DESCRIPTION:Free wine tasting and sales of our wonderful Oregon wines by the bottle.
URL:https://roseandferncellars.com/event/beaverton-farmers-market-55/
LOCATION:Beaverton Farmers Market\, 12375 SW 5th Street\, Beaverton\, OR\, United States
ATTACH;FMTTYPE=image/png:https://roseandferncellars.com/wp-content/uploads/2022/11/1FD2A991-5B91-41C3-9C58-8FCA84080916.png
END:VEVENT
BEGIN:VEVENT
DTSTART;TZID=America/Los_Angeles:20240707T100000
DTEND;TZID=America/Los_Angeles:20240707T140000
DTSTAMP:20260421T175916
CREATED:20240624T230103Z
LAST-MODIFIED:20240624T230103Z
UID:3644-1720346400-1720360800@roseandferncellars.com
SUMMARY:Hillsboro Farmers Market at Orenco
DESCRIPTION:Free wine tasting and sales of our wonderful Oregon wines by the bottle.
URL:https://roseandferncellars.com/event/hillsboro-farmers-market-at-orenco-27/
LOCATION:Hillsboro Farmers Market @ Orenco\, 6125 NE Cornell Rd.\, Hillsboro\, OR\, 97124\, United States
ATTACH;FMTTYPE=image/jpeg:https://roseandferncellars.com/wp-content/uploads/2023/03/BFD7A441-F3F8-4C07-8A62-509312049C0E.jpeg
END:VEVENT
BEGIN:VEVENT
DTSTART;TZID=America/Los_Angeles:20240706T090000
DTEND;TZID=America/Los_Angeles:20240706T130000
DTSTAMP:20260421T175916
CREATED:20240624T225844Z
LAST-MODIFIED:20240624T225844Z
UID:3642-1720256400-1720270800@roseandferncellars.com
SUMMARY:Hillsboro Farmers Market
DESCRIPTION:Free wine tasting and sales of our wonderful Oregon wines by the bottle.
URL:https://roseandferncellars.com/event/hillsboro-farmers-market-33/
LOCATION:Hillsboro Farmers Market\, Main Street (Downtown)\, Hillsboro\, OR\, United States
ATTACH;FMTTYPE=image/jpeg:https://roseandferncellars.com/wp-content/uploads/2023/02/B334FA7C-995F-494D-8903-F096E0FD635F-scaled.jpeg
END:VEVENT
BEGIN:VEVENT
DTSTART;TZID=America/Los_Angeles:20240706T083000
DTEND;TZID=America/Los_Angeles:20240706T133000
DTSTAMP:20260421T175916
CREATED:20240624T225623Z
LAST-MODIFIED:20240624T225623Z
UID:3640-1720254600-1720272600@roseandferncellars.com
SUMMARY:Beaverton Farmers Market
DESCRIPTION:Free wine tasting and sales of our wonderful Oregon wines by the bottle.
URL:https://roseandferncellars.com/event/beaverton-farmers-market-54/
LOCATION:Beaverton Farmers Market\, 12375 SW 5th Street\, Beaverton\, OR\, United States
ATTACH;FMTTYPE=image/png:https://roseandferncellars.com/wp-content/uploads/2022/11/1FD2A991-5B91-41C3-9C58-8FCA84080916.png
END:VEVENT
BEGIN:VEVENT
DTSTART;TZID=America/Los_Angeles:20240630T100000
DTEND;TZID=America/Los_Angeles:20240630T140000
DTSTAMP:20260421T175916
CREATED:20240624T225352Z
LAST-MODIFIED:20240624T225352Z
UID:3638-1719741600-1719756000@roseandferncellars.com
SUMMARY:Hillsboro Farmers Market at Orenco
DESCRIPTION:Free wine tasting and sales of our wonderful Oregon wines by the bottle.
URL:https://roseandferncellars.com/event/hillsboro-farmers-market-at-orenco-26/
LOCATION:Hillsboro Farmers Market @ Orenco\, 6125 NE Cornell Rd.\, Hillsboro\, OR\, 97124\, United States
ATTACH;FMTTYPE=image/jpeg:https://roseandferncellars.com/wp-content/uploads/2023/03/BFD7A441-F3F8-4C07-8A62-509312049C0E.jpeg
END:VEVENT
BEGIN:VEVENT
DTSTART;TZID=America/Los_Angeles:20240629T090000
DTEND;TZID=America/Los_Angeles:20240629T140000
DTSTAMP:20260421T175916
CREATED:20240624T224728Z
LAST-MODIFIED:20240624T224728Z
UID:3636-1719651600-1719669600@roseandferncellars.com
SUMMARY:Happy Valley Farmers Market
DESCRIPTION:Free wine tasting and sales of our wonderful Oregon wines by the bottle.
URL:https://roseandferncellars.com/event/happy-valley-farmers-market-29/
LOCATION:Happy Valley Farmers Market\, 13231 Sunnyside Rd.\, Happy Valley\, OR\, United States
ATTACH;FMTTYPE=image/jpeg:https://roseandferncellars.com/wp-content/uploads/2023/05/IMG_5034.jpeg
END:VEVENT
BEGIN:VEVENT
DTSTART;TZID=America/Los_Angeles:20240629T090000
DTEND;TZID=America/Los_Angeles:20240629T130000
DTSTAMP:20260421T175916
CREATED:20240624T224545Z
LAST-MODIFIED:20240624T224545Z
UID:3634-1719651600-1719666000@roseandferncellars.com
SUMMARY:Hillsboro Farmers Market
DESCRIPTION:Free wine tasting and sales of our wonderful Oregon wines by the bottle.
URL:https://roseandferncellars.com/event/hillsboro-farmers-market-32/
LOCATION:Hillsboro Farmers Market\, Main Street (Downtown)\, Hillsboro\, OR\, United States
ATTACH;FMTTYPE=image/jpeg:https://roseandferncellars.com/wp-content/uploads/2023/02/B334FA7C-995F-494D-8903-F096E0FD635F-scaled.jpeg
END:VEVENT
BEGIN:VEVENT
DTSTART;TZID=America/Los_Angeles:20240629T083000
DTEND;TZID=America/Los_Angeles:20240629T133000
DTSTAMP:20260421T175916
CREATED:20240624T224354Z
LAST-MODIFIED:20240624T224354Z
UID:3632-1719649800-1719667800@roseandferncellars.com
SUMMARY:Beaverton Farmers Market
DESCRIPTION:Free wine tasting and sales of our wonderful Oregon wines by the bottle.
URL:https://roseandferncellars.com/event/beaverton-farmers-market-53/
LOCATION:Beaverton Farmers Market\, 12375 SW 5th Street\, Beaverton\, OR\, United States
ATTACH;FMTTYPE=image/png:https://roseandferncellars.com/wp-content/uploads/2022/11/1FD2A991-5B91-41C3-9C58-8FCA84080916.png
END:VEVENT
BEGIN:VEVENT
DTSTART;TZID=America/Los_Angeles:20240623T100000
DTEND;TZID=America/Los_Angeles:20240623T140000
DTSTAMP:20260421T175916
CREATED:20240529T190529Z
LAST-MODIFIED:20240529T190529Z
UID:3602-1719136800-1719151200@roseandferncellars.com
SUMMARY:Woodstock Farmers Market
DESCRIPTION:Free wine tasting and sale of our wonderful Oregon wine by the bottle.
URL:https://roseandferncellars.com/event/woodstock-farmers-market-9/
LOCATION:Woodstock Farmers Market\, 4600 SE Woodstock Blvd.\, Portland\, OR\, United States
ATTACH;FMTTYPE=image/png:https://roseandferncellars.com/wp-content/uploads/2024/05/IMG_0763.png
END:VEVENT
BEGIN:VEVENT
DTSTART;TZID=America/Los_Angeles:20240623T100000
DTEND;TZID=America/Los_Angeles:20240623T140000
DTSTAMP:20260421T175916
CREATED:20240522T221814Z
LAST-MODIFIED:20240522T221814Z
UID:3597-1719136800-1719151200@roseandferncellars.com
SUMMARY:Hillsboro Farmers Market at Orenco
DESCRIPTION:Free wine tasting and sale of our wonderful Oregon wine by the bottle.
URL:https://roseandferncellars.com/event/hillsboro-farmers-market-at-orenco-25/
LOCATION:Hillsboro Farmers Market @ Orenco\, 6125 NE Cornell Rd.\, Hillsboro\, OR\, 97124\, United States
ATTACH;FMTTYPE=image/jpeg:https://roseandferncellars.com/wp-content/uploads/2023/03/BFD7A441-F3F8-4C07-8A62-509312049C0E.jpeg
END:VEVENT
BEGIN:VEVENT
DTSTART;TZID=America/Los_Angeles:20240622T090000
DTEND;TZID=America/Los_Angeles:20240622T140000
DTSTAMP:20260421T175916
CREATED:20240522T221452Z
LAST-MODIFIED:20240522T221452Z
UID:3592-1719046800-1719064800@roseandferncellars.com
SUMMARY:Happy Valley Farmers Market
DESCRIPTION:Free wine tasting and sale of our wonderful Oregon wine by the bottle.
URL:https://roseandferncellars.com/event/happy-valley-farmers-market-28/
LOCATION:Happy Valley Farmers Market\, 13231 Sunnyside Rd.\, Happy Valley\, OR\, United States
ATTACH;FMTTYPE=image/jpeg:https://roseandferncellars.com/wp-content/uploads/2023/05/IMG_5034.jpeg
END:VEVENT
BEGIN:VEVENT
DTSTART;TZID=America/Los_Angeles:20240622T090000
DTEND;TZID=America/Los_Angeles:20240622T130000
DTSTAMP:20260421T175916
CREATED:20240522T221613Z
LAST-MODIFIED:20240522T221613Z
UID:3594-1719046800-1719061200@roseandferncellars.com
SUMMARY:Hillsboro Farmers Market
DESCRIPTION:Free wine tasting and sale of our wonderful Oregon wine by the bottle.
URL:https://roseandferncellars.com/event/hillsboro-farmers-market-31/
LOCATION:Hillsboro Farmers Market\, Main Street (Downtown)\, Hillsboro\, OR\, United States
ATTACH;FMTTYPE=image/jpeg:https://roseandferncellars.com/wp-content/uploads/2023/02/B334FA7C-995F-494D-8903-F096E0FD635F-scaled.jpeg
END:VEVENT
BEGIN:VEVENT
DTSTART;TZID=America/Los_Angeles:20240622T083000
DTEND;TZID=America/Los_Angeles:20240622T133000
DTSTAMP:20260421T175916
CREATED:20240522T221246Z
LAST-MODIFIED:20240522T221246Z
UID:3587-1719045000-1719063000@roseandferncellars.com
SUMMARY:Beaverton Farmers Market
DESCRIPTION:Free wine tasting and sale of our wonderful Oregon wine by the bottle.
URL:https://roseandferncellars.com/event/beaverton-farmers-market-52/
LOCATION:Beaverton Farmers Market\, 12375 SW 5th Street\, Beaverton\, OR\, United States
ATTACH;FMTTYPE=image/png:https://roseandferncellars.com/wp-content/uploads/2022/11/1FD2A991-5B91-41C3-9C58-8FCA84080916.png
END:VEVENT
BEGIN:VEVENT
DTSTART;TZID=America/Los_Angeles:20240616T100000
DTEND;TZID=America/Los_Angeles:20240616T140000
DTSTAMP:20260421T175916
CREATED:20240522T220729Z
LAST-MODIFIED:20240522T220729Z
UID:3583-1718532000-1718546400@roseandferncellars.com
SUMMARY:Hillsboro Farmers Market at Orenco
DESCRIPTION:Free wine tasting and sale of our wonderful Oregon wine by the bottle.
URL:https://roseandferncellars.com/event/hillsboro-farmers-market-at-orenco-24/
LOCATION:Hillsboro Farmers Market @ Orenco\, 6125 NE Cornell Rd.\, Hillsboro\, OR\, 97124\, United States
ATTACH;FMTTYPE=image/jpeg:https://roseandferncellars.com/wp-content/uploads/2023/03/BFD7A441-F3F8-4C07-8A62-509312049C0E.jpeg
END:VEVENT
BEGIN:VEVENT
DTSTART;TZID=America/Los_Angeles:20240615T090000
DTEND;TZID=America/Los_Angeles:20240615T140000
DTSTAMP:20260421T175916
CREATED:20240522T220847Z
LAST-MODIFIED:20240522T220847Z
UID:3585-1718442000-1718460000@roseandferncellars.com
SUMMARY:Happy Valley Farmers Market
DESCRIPTION:Free wine tasting and sale of our wonderful Oregon wine by the bottle.
URL:https://roseandferncellars.com/event/happy-valley-farmers-market-27/
LOCATION:Happy Valley Farmers Market\, 13231 Sunnyside Rd.\, Happy Valley\, OR\, United States
ATTACH;FMTTYPE=image/jpeg:https://roseandferncellars.com/wp-content/uploads/2023/05/IMG_5034.jpeg
END:VEVENT
BEGIN:VEVENT
DTSTART;TZID=America/Los_Angeles:20240615T090000
DTEND;TZID=America/Los_Angeles:20240615T130000
DTSTAMP:20260421T175916
CREATED:20240522T220539Z
LAST-MODIFIED:20240522T220539Z
UID:3581-1718442000-1718456400@roseandferncellars.com
SUMMARY:Hillsboro Farmers Market
DESCRIPTION:Free wine tasting and sale of our wonderful Oregon wine by the bottle.
URL:https://roseandferncellars.com/event/hillsboro-farmers-market-30/
LOCATION:Hillsboro Farmers Market\, Main Street (Downtown)\, Hillsboro\, OR\, United States
ATTACH;FMTTYPE=image/jpeg:https://roseandferncellars.com/wp-content/uploads/2023/02/B334FA7C-995F-494D-8903-F096E0FD635F-scaled.jpeg
END:VEVENT
BEGIN:VEVENT
DTSTART;TZID=America/Los_Angeles:20240615T083000
DTEND;TZID=America/Los_Angeles:20240615T133000
DTSTAMP:20260421T175916
CREATED:20240522T215910Z
LAST-MODIFIED:20240522T220351Z
UID:3577-1718440200-1718458200@roseandferncellars.com
SUMMARY:Beaverton Farmers Market
DESCRIPTION:Free wine tasting and sale of our wonderful Oregon wine by the bottle.
URL:https://roseandferncellars.com/event/beaverton-farmers-market-51/
LOCATION:Beaverton Farmers Market\, 12375 SW 5th Street\, Beaverton\, OR\, United States
ATTACH;FMTTYPE=image/png:https://roseandferncellars.com/wp-content/uploads/2022/11/1FD2A991-5B91-41C3-9C58-8FCA84080916.png
END:VEVENT
BEGIN:VEVENT
DTSTART;TZID=America/Los_Angeles:20240609T100000
DTEND;TZID=America/Los_Angeles:20240609T140000
DTSTAMP:20260421T175916
CREATED:20240329T222902Z
LAST-MODIFIED:20240329T222902Z
UID:3538-1717927200-1717941600@roseandferncellars.com
SUMMARY:Hillsboro Farmers Market at Orenco
DESCRIPTION:Free wine tasting and sales of our wonderful Oregon wines by the bottle.
URL:https://roseandferncellars.com/event/hillsboro-farmers-market-at-orenco-23/
LOCATION:Hillsboro Farmers Market @ Orenco\, 6125 NE Cornell Rd.\, Hillsboro\, OR\, 97124\, United States
ATTACH;FMTTYPE=image/jpeg:https://roseandferncellars.com/wp-content/uploads/2023/03/BFD7A441-F3F8-4C07-8A62-509312049C0E.jpeg
END:VEVENT
BEGIN:VEVENT
DTSTART;TZID=America/Los_Angeles:20240608T090000
DTEND;TZID=America/Los_Angeles:20240608T130000
DTSTAMP:20260421T175916
CREATED:20240329T222753Z
LAST-MODIFIED:20240329T222753Z
UID:3536-1717837200-1717851600@roseandferncellars.com
SUMMARY:Hillsboro Farmers Market
DESCRIPTION:Free wine tasting and sales of our wonderful Oregon wines by the bottle.
URL:https://roseandferncellars.com/event/hillsboro-farmers-market-29/
LOCATION:Hillsboro Farmers Market\, Main Street (Downtown)\, Hillsboro\, OR\, United States
ATTACH;FMTTYPE=image/jpeg:https://roseandferncellars.com/wp-content/uploads/2023/02/B334FA7C-995F-494D-8903-F096E0FD635F-scaled.jpeg
END:VEVENT
END:VCALENDAR