BEGIN:VCALENDAR
VERSION:2.0
PRODID:-//Rose and Fern Cellars - ECPv6.15.20//NONSGML v1.0//EN
CALSCALE:GREGORIAN
METHOD:PUBLISH
X-WR-CALNAME:Rose and Fern Cellars
X-ORIGINAL-URL:https://roseandferncellars.com
X-WR-CALDESC:Events for Rose and Fern Cellars
REFRESH-INTERVAL;VALUE=DURATION:PT1H
X-Robots-Tag:noindex
X-PUBLISHED-TTL:PT1H
BEGIN:VTIMEZONE
TZID:America/Los_Angeles
BEGIN:DAYLIGHT
TZOFFSETFROM:-0800
TZOFFSETTO:-0700
TZNAME:PDT
DTSTART:20240310T100000
END:DAYLIGHT
BEGIN:STANDARD
TZOFFSETFROM:-0700
TZOFFSETTO:-0800
TZNAME:PST
DTSTART:20241103T090000
END:STANDARD
BEGIN:DAYLIGHT
TZOFFSETFROM:-0800
TZOFFSETTO:-0700
TZNAME:PDT
DTSTART:20250309T100000
END:DAYLIGHT
BEGIN:STANDARD
TZOFFSETFROM:-0700
TZOFFSETTO:-0800
TZNAME:PST
DTSTART:20251102T090000
END:STANDARD
BEGIN:DAYLIGHT
TZOFFSETFROM:-0800
TZOFFSETTO:-0700
TZNAME:PDT
DTSTART:20260308T100000
END:DAYLIGHT
BEGIN:STANDARD
TZOFFSETFROM:-0700
TZOFFSETTO:-0800
TZNAME:PST
DTSTART:20261101T090000
END:STANDARD
END:VTIMEZONE
BEGIN:VEVENT
DTSTART;TZID=America/Los_Angeles:20250622T100000
DTEND;TZID=America/Los_Angeles:20250622T140000
DTSTAMP:20260421T101808
CREATED:20250520T222045Z
LAST-MODIFIED:20250520T222045Z
UID:4251-1750586400-1750600800@roseandferncellars.com
SUMMARY:Orenco Farmers Market
DESCRIPTION:FREE wine tasting.
URL:https://roseandferncellars.com/event/orenco-farmers-market-15/
LOCATION:Hillsboro Farmers Market @ Orenco\, 6125 NE Cornell Rd.\, Hillsboro\, OR\, 97124\, United States
ATTACH;FMTTYPE=image/jpeg:https://roseandferncellars.com/wp-content/uploads/2023/03/BFD7A441-F3F8-4C07-8A62-509312049C0E.jpeg
END:VEVENT
BEGIN:VEVENT
DTSTART;TZID=America/Los_Angeles:20250622T100000
DTEND;TZID=America/Los_Angeles:20250622T140000
DTSTAMP:20260421T101808
CREATED:20250520T222204Z
LAST-MODIFIED:20250520T222204Z
UID:4253-1750586400-1750600800@roseandferncellars.com
SUMMARY:Woodstock Farmers Market
DESCRIPTION:FREE wine tasting.
URL:https://roseandferncellars.com/event/woodstock-farmers-market-15/
LOCATION:Woodstock Farmers Market\, 4600 SE Woodstock Blvd.\, Portland\, OR\, United States
ATTACH;FMTTYPE=image/png:https://roseandferncellars.com/wp-content/uploads/2024/05/IMG_0763.png
END:VEVENT
BEGIN:VEVENT
DTSTART;TZID=America/Los_Angeles:20250628T080000
DTEND;TZID=America/Los_Angeles:20250628T170000
DTSTAMP:20260421T101808
CREATED:20250520T222506Z
LAST-MODIFIED:20250520T222506Z
UID:4258-1751097600-1751130000@roseandferncellars.com
SUMMARY:Beaverton Farmers Market
DESCRIPTION:FREE wine tasting.You will find us in the Local Liquids aisle on 3rd.
URL:https://roseandferncellars.com/event/beaverton-farmers-market-83/
LOCATION:Beaverton Farmers Market\, 12375 SW 5th Street\, Beaverton\, OR\, United States
ATTACH;FMTTYPE=image/png:https://roseandferncellars.com/wp-content/uploads/2022/11/1FD2A991-5B91-41C3-9C58-8FCA84080916.png
END:VEVENT
BEGIN:VEVENT
DTSTART;TZID=America/Los_Angeles:20250628T090000
DTEND;TZID=America/Los_Angeles:20250628T130000
DTSTAMP:20260421T101808
CREATED:20250520T222623Z
LAST-MODIFIED:20250520T222623Z
UID:4260-1751101200-1751115600@roseandferncellars.com
SUMMARY:Hillsboro Farmers Market
DESCRIPTION:FREE wine tasting.
URL:https://roseandferncellars.com/event/hillsboro-farmers-market-47/
LOCATION:Hillsboro Farmers Market\, Main Street (Downtown)\, Hillsboro\, OR\, United States
ATTACH;FMTTYPE=image/jpeg:https://roseandferncellars.com/wp-content/uploads/2023/02/B334FA7C-995F-494D-8903-F096E0FD635F-scaled.jpeg
END:VEVENT
BEGIN:VEVENT
DTSTART;TZID=America/Los_Angeles:20250628T090000
DTEND;TZID=America/Los_Angeles:20250628T140000
DTSTAMP:20260421T101808
CREATED:20250520T222310Z
LAST-MODIFIED:20250520T222310Z
UID:4255-1751101200-1751119200@roseandferncellars.com
SUMMARY:Happy Valley Farmers Market
DESCRIPTION:FREE wine tasting.
URL:https://roseandferncellars.com/event/happy-valley-farmers-market-40/
LOCATION:Happy Valley Farmers Market\, 13231 Sunnyside Rd.\, Happy Valley\, OR\, United States
ATTACH;FMTTYPE=image/jpeg:https://roseandferncellars.com/wp-content/uploads/2023/05/IMG_5034.jpeg
END:VEVENT
BEGIN:VEVENT
DTSTART;TZID=America/Los_Angeles:20250629T090000
DTEND;TZID=America/Los_Angeles:20250629T140000
DTSTAMP:20260421T101808
CREATED:20250520T222726Z
LAST-MODIFIED:20250520T222726Z
UID:4262-1751187600-1751205600@roseandferncellars.com
SUMMARY:Tigard Farmers Market
DESCRIPTION:FREE wine tasting.
URL:https://roseandferncellars.com/event/tigard-farmers-market-5/
LOCATION:Tigard Farmer Market\, Universal Plaza\, 9100 Burnham St.\, Tigard\, OR\, 97223
ATTACH;FMTTYPE=image/png:https://roseandferncellars.com/wp-content/uploads/2025/04/TFM-logo.png
END:VEVENT
BEGIN:VEVENT
DTSTART;TZID=America/Los_Angeles:20250629T100000
DTEND;TZID=America/Los_Angeles:20250629T140000
DTSTAMP:20260421T101808
CREATED:20250520T222828Z
LAST-MODIFIED:20250520T222828Z
UID:4264-1751191200-1751205600@roseandferncellars.com
SUMMARY:Orenco Farmers Market
DESCRIPTION:FREE wine tasting.
URL:https://roseandferncellars.com/event/orenco-farmers-market-16/
LOCATION:Hillsboro Farmers Market @ Orenco\, 6125 NE Cornell Rd.\, Hillsboro\, OR\, 97124\, United States
ATTACH;FMTTYPE=image/jpeg:https://roseandferncellars.com/wp-content/uploads/2023/03/BFD7A441-F3F8-4C07-8A62-509312049C0E.jpeg
END:VEVENT
BEGIN:VEVENT
DTSTART;TZID=America/Los_Angeles:20250705T083000
DTEND;TZID=America/Los_Angeles:20250705T133000
DTSTAMP:20260421T101808
CREATED:20250624T223125Z
LAST-MODIFIED:20250624T223125Z
UID:4269-1751704200-1751722200@roseandferncellars.com
SUMMARY:Beaverton Farmers Market
DESCRIPTION:Free wine tasting and sale of our wonderful Oregon wines by the bottle.
URL:https://roseandferncellars.com/event/beaverton-farmers-market-84/
LOCATION:Beaverton Farmers Market\, 12375 SW 5th Street\, Beaverton\, OR\, United States
ATTACH;FMTTYPE=image/png:https://roseandferncellars.com/wp-content/uploads/2022/11/1FD2A991-5B91-41C3-9C58-8FCA84080916.png
END:VEVENT
BEGIN:VEVENT
DTSTART;TZID=America/Los_Angeles:20250706T100000
DTEND;TZID=America/Los_Angeles:20250706T140000
DTSTAMP:20260421T101808
CREATED:20250624T223309Z
LAST-MODIFIED:20250624T223309Z
UID:4271-1751796000-1751810400@roseandferncellars.com
SUMMARY:Hillsboro Farmers Market at Orenco
DESCRIPTION:Free wine tasting and sale of our wonderful Oregon wines by the bottle.
URL:https://roseandferncellars.com/event/hillsboro-farmers-market-at-orenco-32/
LOCATION:Hillsboro Farmers Market @ Orenco\, 6125 NE Cornell Rd.\, Hillsboro\, OR\, 97124\, United States
ATTACH;FMTTYPE=image/jpeg:https://roseandferncellars.com/wp-content/uploads/2023/03/BFD7A441-F3F8-4C07-8A62-509312049C0E.jpeg
END:VEVENT
BEGIN:VEVENT
DTSTART;TZID=America/Los_Angeles:20250712T083000
DTEND;TZID=America/Los_Angeles:20250712T133000
DTSTAMP:20260421T101808
CREATED:20250624T223442Z
LAST-MODIFIED:20250624T223751Z
UID:4273-1752309000-1752327000@roseandferncellars.com
SUMMARY:Beaverton Farmers Market
DESCRIPTION:Free wine tasting and sales of our wonderful Oregon wines by the bottle.
URL:https://roseandferncellars.com/event/beaverton-farmers-market-85/
LOCATION:Beaverton Farmers Market\, 12375 SW 5th Street\, Beaverton\, OR\, United States
ATTACH;FMTTYPE=image/png:https://roseandferncellars.com/wp-content/uploads/2022/11/1FD2A991-5B91-41C3-9C58-8FCA84080916.png
END:VEVENT
BEGIN:VEVENT
DTSTART;TZID=America/Los_Angeles:20250712T090000
DTEND;TZID=America/Los_Angeles:20250712T130000
DTSTAMP:20260421T101808
CREATED:20250624T223950Z
LAST-MODIFIED:20250624T223950Z
UID:4277-1752310800-1752325200@roseandferncellars.com
SUMMARY:Hillsboro Farmers Market - Downtown
DESCRIPTION:Free wine tasting and sale of our wonderful Oregon wines by the bottle.
URL:https://roseandferncellars.com/event/hillsboro-farmers-market-downtown/
LOCATION:Hillsboro Farmers Market\, Main Street (Downtown)\, Hillsboro\, OR\, United States
ATTACH;FMTTYPE=image/jpeg:https://roseandferncellars.com/wp-content/uploads/2023/02/B334FA7C-995F-494D-8903-F096E0FD635F-scaled.jpeg
END:VEVENT
BEGIN:VEVENT
DTSTART;TZID=America/Los_Angeles:20250712T090000
DTEND;TZID=America/Los_Angeles:20250712T140000
DTSTAMP:20260421T101808
CREATED:20250624T223622Z
LAST-MODIFIED:20250624T223622Z
UID:4275-1752310800-1752328800@roseandferncellars.com
SUMMARY:Happy Valley Farmers Market
DESCRIPTION:Free wine tasting and sale of our wonderful Oregon wines by the bottle.
URL:https://roseandferncellars.com/event/happy-valley-farmers-market-41/
LOCATION:Happy Valley Farmers Market\, 13231 Sunnyside Rd.\, Happy Valley\, OR\, United States
ATTACH;FMTTYPE=image/jpeg:https://roseandferncellars.com/wp-content/uploads/2023/05/IMG_5034.jpeg
END:VEVENT
BEGIN:VEVENT
DTSTART;TZID=America/Los_Angeles:20250713T090000
DTEND;TZID=America/Los_Angeles:20250713T133000
DTSTAMP:20260421T101808
CREATED:20250624T224246Z
LAST-MODIFIED:20250624T225849Z
UID:4281-1752397200-1752413400@roseandferncellars.com
SUMMARY:Tigard Farmers Market
DESCRIPTION:Free wine tasting and sale of our wonderful Oregon wines.
URL:https://roseandferncellars.com/event/tigard-farmers-market-6/
LOCATION:Tigard Farmer Market\, Universal Plaza\, 9100 Burnham St.\, Tigard\, OR\, 97223
ATTACH;FMTTYPE=image/png:https://roseandferncellars.com/wp-content/uploads/2025/04/TFM-logo.png
END:VEVENT
BEGIN:VEVENT
DTSTART;TZID=America/Los_Angeles:20250713T100000
DTEND;TZID=America/Los_Angeles:20250713T140000
DTSTAMP:20260421T101808
CREATED:20250624T224119Z
LAST-MODIFIED:20250624T224119Z
UID:4279-1752400800-1752415200@roseandferncellars.com
SUMMARY:Hillsboro Farmers Market at Orenco
DESCRIPTION:Free wine tasting and sale of our wonderful Oregon wines by the bottle.
URL:https://roseandferncellars.com/event/hillsboro-farmers-market-at-orenco-33/
LOCATION:Hillsboro Farmers Market @ Orenco\, 6125 NE Cornell Rd.\, Hillsboro\, OR\, 97124\, United States
ATTACH;FMTTYPE=image/jpeg:https://roseandferncellars.com/wp-content/uploads/2023/03/BFD7A441-F3F8-4C07-8A62-509312049C0E.jpeg
END:VEVENT
BEGIN:VEVENT
DTSTART;TZID=America/Los_Angeles:20250719T083000
DTEND;TZID=America/Los_Angeles:20250719T133000
DTSTAMP:20260421T101808
CREATED:20250624T224402Z
LAST-MODIFIED:20250624T224402Z
UID:4283-1752913800-1752931800@roseandferncellars.com
SUMMARY:Beaverton Farmers Market
DESCRIPTION:Free wine tasting and sale of our wonderful Oregon wines.
URL:https://roseandferncellars.com/event/beaverton-farmers-market-86/
LOCATION:Beaverton Farmers Market\, 12375 SW 5th Street\, Beaverton\, OR\, United States
ATTACH;FMTTYPE=image/png:https://roseandferncellars.com/wp-content/uploads/2022/11/1FD2A991-5B91-41C3-9C58-8FCA84080916.png
END:VEVENT
BEGIN:VEVENT
DTSTART;TZID=America/Los_Angeles:20250720T100000
DTEND;TZID=America/Los_Angeles:20250720T140000
DTSTAMP:20260421T101808
CREATED:20250624T224517Z
LAST-MODIFIED:20250624T224517Z
UID:4285-1753005600-1753020000@roseandferncellars.com
SUMMARY:Hillsboro Farmers Market at Orenco
DESCRIPTION:Free wine tasting and sale of our wonderful Oregon wines.
URL:https://roseandferncellars.com/event/hillsboro-farmers-market-at-orenco-34/
LOCATION:Hillsboro Farmers Market @ Orenco\, 6125 NE Cornell Rd.\, Hillsboro\, OR\, 97124\, United States
ATTACH;FMTTYPE=image/jpeg:https://roseandferncellars.com/wp-content/uploads/2023/03/BFD7A441-F3F8-4C07-8A62-509312049C0E.jpeg
END:VEVENT
BEGIN:VEVENT
DTSTART;TZID=America/Los_Angeles:20250720T100000
DTEND;TZID=America/Los_Angeles:20250720T140000
DTSTAMP:20260421T101808
CREATED:20250624T224634Z
LAST-MODIFIED:20250624T224634Z
UID:4287-1753005600-1753020000@roseandferncellars.com
SUMMARY:Woodstock Farmers Market
DESCRIPTION:Free wine tasting and sale of our wonderful Oregon wines.
URL:https://roseandferncellars.com/event/woodstock-farmers-market-16/
LOCATION:Woodstock Farmers Market\, 4600 SE Woodstock Blvd.\, Portland\, OR\, United States
ATTACH;FMTTYPE=image/png:https://roseandferncellars.com/wp-content/uploads/2024/05/IMG_0763.png
END:VEVENT
BEGIN:VEVENT
DTSTART;TZID=America/Los_Angeles:20250726T083000
DTEND;TZID=America/Los_Angeles:20250726T133000
DTSTAMP:20260421T101808
CREATED:20250624T224804Z
LAST-MODIFIED:20250624T224804Z
UID:4289-1753518600-1753536600@roseandferncellars.com
SUMMARY:Beaverton Farmers Market
DESCRIPTION:Free wine tasting and sale of our wonderful Oregon wines.
URL:https://roseandferncellars.com/event/beaverton-farmers-market-87/
LOCATION:Beaverton Farmers Market\, 12375 SW 5th Street\, Beaverton\, OR\, United States
ATTACH;FMTTYPE=image/png:https://roseandferncellars.com/wp-content/uploads/2022/11/1FD2A991-5B91-41C3-9C58-8FCA84080916.png
END:VEVENT
BEGIN:VEVENT
DTSTART;TZID=America/Los_Angeles:20250726T090000
DTEND;TZID=America/Los_Angeles:20250726T140000
DTSTAMP:20260421T101808
CREATED:20250624T224933Z
LAST-MODIFIED:20250624T224933Z
UID:4291-1753520400-1753538400@roseandferncellars.com
SUMMARY:Happy Valley Farmers Market
DESCRIPTION:Free wine tasting and sale of our wonderful Oregon wines.
URL:https://roseandferncellars.com/event/happy-valley-farmers-market-42/
LOCATION:Happy Valley Farmers Market\, 13231 Sunnyside Rd.\, Happy Valley\, OR\, United States
ATTACH;FMTTYPE=image/jpeg:https://roseandferncellars.com/wp-content/uploads/2023/05/IMG_5034.jpeg
END:VEVENT
BEGIN:VEVENT
DTSTART;TZID=America/Los_Angeles:20250727T100000
DTEND;TZID=America/Los_Angeles:20250727T140000
DTSTAMP:20260421T101808
CREATED:20250624T225117Z
LAST-MODIFIED:20250624T225117Z
UID:4293-1753610400-1753624800@roseandferncellars.com
SUMMARY:Hillsboro Farmers Market at Orenco
DESCRIPTION:Free wine tasting and sale of our wonderful Oregon wines.
URL:https://roseandferncellars.com/event/hillsboro-farmers-market-at-orenco-35/
LOCATION:Hillsboro Farmers Market @ Orenco\, 6125 NE Cornell Rd.\, Hillsboro\, OR\, 97124\, United States
ATTACH;FMTTYPE=image/jpeg:https://roseandferncellars.com/wp-content/uploads/2023/03/BFD7A441-F3F8-4C07-8A62-509312049C0E.jpeg
END:VEVENT
BEGIN:VEVENT
DTSTART;TZID=America/Los_Angeles:20250803T100000
DTEND;TZID=America/Los_Angeles:20250803T140000
DTSTAMP:20260421T101808
CREATED:20250715T212533Z
LAST-MODIFIED:20250715T212533Z
UID:4302-1754215200-1754229600@roseandferncellars.com
SUMMARY:Hillsboro Farmers Market at Orenco
DESCRIPTION:Free wine tasting and sale of our wonderful Oregon wines by the bottle.
URL:https://roseandferncellars.com/event/hillsboro-farmers-market-at-orenco-36/
LOCATION:Hillsboro Farmers Market @ Orenco\, 6125 NE Cornell Rd.\, Hillsboro\, OR\, 97124\, United States
ATTACH;FMTTYPE=image/jpeg:https://roseandferncellars.com/wp-content/uploads/2023/03/BFD7A441-F3F8-4C07-8A62-509312049C0E.jpeg
END:VEVENT
BEGIN:VEVENT
DTSTART;TZID=America/Los_Angeles:20250809T083000
DTEND;TZID=America/Los_Angeles:20250816T133000
DTSTAMP:20260421T101808
CREATED:20250715T212841Z
LAST-MODIFIED:20250715T212841Z
UID:4304-1754728200-1755351000@roseandferncellars.com
SUMMARY:Beaverton Farmers Market
DESCRIPTION:Free wine tasting and sale of our wonderful Oregon wines by the bottle.
URL:https://roseandferncellars.com/event/beaverton-farmers-market-89/
LOCATION:Beaverton Farmers Market\, 12375 SW 5th Street\, Beaverton\, OR\, United States
ATTACH;FMTTYPE=image/png:https://roseandferncellars.com/wp-content/uploads/2022/11/1FD2A991-5B91-41C3-9C58-8FCA84080916.png
END:VEVENT
BEGIN:VEVENT
DTSTART;TZID=America/Los_Angeles:20250809T090000
DTEND;TZID=America/Los_Angeles:20250809T130000
DTSTAMP:20260421T101808
CREATED:20250715T213159Z
LAST-MODIFIED:20250715T213159Z
UID:4308-1754730000-1754744400@roseandferncellars.com
SUMMARY:Hillsboro Farmers Market
DESCRIPTION:Free wine tasting and sale of our wonderful Oregon wines by the bottle.
URL:https://roseandferncellars.com/event/hillsboro-farmers-market-48/
LOCATION:Hillsboro Farmers Market\, Main Street (Downtown)\, Hillsboro\, OR\, United States
ATTACH;FMTTYPE=image/jpeg:https://roseandferncellars.com/wp-content/uploads/2023/02/B334FA7C-995F-494D-8903-F096E0FD635F-scaled.jpeg
END:VEVENT
BEGIN:VEVENT
DTSTART;TZID=America/Los_Angeles:20250809T090000
DTEND;TZID=America/Los_Angeles:20250809T140000
DTSTAMP:20260421T101808
CREATED:20250715T213002Z
LAST-MODIFIED:20250715T213002Z
UID:4306-1754730000-1754748000@roseandferncellars.com
SUMMARY:Happy Valley Farmers Market
DESCRIPTION:Free wine tasting and sale of our wonderful Oregon wines by the bottle.
URL:https://roseandferncellars.com/event/happy-valley-farmers-market-43/
LOCATION:Happy Valley Farmers Market\, 13231 Sunnyside Rd.\, Happy Valley\, OR\, United States
ATTACH;FMTTYPE=image/jpeg:https://roseandferncellars.com/wp-content/uploads/2023/05/IMG_5034.jpeg
END:VEVENT
BEGIN:VEVENT
DTSTART;TZID=America/Los_Angeles:20250810T090000
DTEND;TZID=America/Los_Angeles:20250810T133000
DTSTAMP:20260421T101808
CREATED:20250715T213520Z
LAST-MODIFIED:20250715T213520Z
UID:4312-1754816400-1754832600@roseandferncellars.com
SUMMARY:Tigard Farmers Market
DESCRIPTION:Free wine tasting and sale of our wonderful Oregon wines by the bottle.
URL:https://roseandferncellars.com/event/tigard-farmers-market-8/
LOCATION:Tigard Farmer Market\, Universal Plaza\, 9100 Burnham St.\, Tigard\, OR\, 97223
ATTACH;FMTTYPE=image/png:https://roseandferncellars.com/wp-content/uploads/2025/04/TFM-logo.png
END:VEVENT
BEGIN:VEVENT
DTSTART;TZID=America/Los_Angeles:20250810T100000
DTEND;TZID=America/Los_Angeles:20250810T140000
DTSTAMP:20260421T101808
CREATED:20250715T213351Z
LAST-MODIFIED:20250715T213351Z
UID:4310-1754820000-1754834400@roseandferncellars.com
SUMMARY:Hillsboro Farmers Market at Orenco
DESCRIPTION:Free wine tasting and sale of our wonderful Oregon wines by the bottle.
URL:https://roseandferncellars.com/event/hillsboro-farmers-market-at-orenco-37/
LOCATION:Hillsboro Farmers Market @ Orenco\, 6125 NE Cornell Rd.\, Hillsboro\, OR\, 97124\, United States
ATTACH;FMTTYPE=image/jpeg:https://roseandferncellars.com/wp-content/uploads/2023/03/BFD7A441-F3F8-4C07-8A62-509312049C0E.jpeg
END:VEVENT
BEGIN:VEVENT
DTSTART;TZID=America/Los_Angeles:20250814T160000
DTEND;TZID=America/Los_Angeles:20250814T190000
DTSTAMP:20260421T101808
CREATED:20250806T223052Z
LAST-MODIFIED:20250806T223052Z
UID:4337-1755187200-1755198000@roseandferncellars.com
SUMMARY:TRU Hotel Aloha - Grand Opening
DESCRIPTION:Rose and Fern Cellars will be pouring! Free wine tasting\, sale of wine by the glass and by the bottle. Come see this wonderful new hotel. \n 
URL:https://roseandferncellars.com/event/tru-hotel-aloha-grand-opening/
LOCATION:TRU Hotel\, 17363 SW Tualatin Valley Hwy\, Beaverton\, OR\, 97003\, United States
ATTACH;FMTTYPE=image/png:https://roseandferncellars.com/wp-content/uploads/2025/08/image.png
END:VEVENT
BEGIN:VEVENT
DTSTART;TZID=America/Los_Angeles:20250816T083000
DTEND;TZID=America/Los_Angeles:20250816T133000
DTSTAMP:20260421T101808
CREATED:20250715T213654Z
LAST-MODIFIED:20250715T213654Z
UID:4314-1755333000-1755351000@roseandferncellars.com
SUMMARY:Beaverton Farmers Market
DESCRIPTION:Free wine tasting and sale of our wonderful Oregon wines by the bottle.
URL:https://roseandferncellars.com/event/beaverton-farmers-market-90/
LOCATION:Beaverton Farmers Market\, 12375 SW 5th Street\, Beaverton\, OR\, United States
ATTACH;FMTTYPE=image/png:https://roseandferncellars.com/wp-content/uploads/2022/11/1FD2A991-5B91-41C3-9C58-8FCA84080916.png
END:VEVENT
BEGIN:VEVENT
DTSTART;TZID=America/Los_Angeles:20250817T100000
DTEND;TZID=America/Los_Angeles:20250817T140000
DTSTAMP:20260421T101808
CREATED:20250715T214039Z
LAST-MODIFIED:20250715T214039Z
UID:4318-1755424800-1755439200@roseandferncellars.com
SUMMARY:Woodstock Farmers Market
DESCRIPTION:Free wine tasting and sale of our wonderful Oregon wines.
URL:https://roseandferncellars.com/event/woodstock-farmers-market-17/
LOCATION:Woodstock Farmers Market\, 4600 SE Woodstock Blvd.\, Portland\, OR\, United States
ATTACH;FMTTYPE=image/png:https://roseandferncellars.com/wp-content/uploads/2024/05/IMG_0763.png
END:VEVENT
BEGIN:VEVENT
DTSTART;TZID=America/Los_Angeles:20250817T100000
DTEND;TZID=America/Los_Angeles:20250818T140000
DTSTAMP:20260421T101808
CREATED:20250715T213910Z
LAST-MODIFIED:20250715T213910Z
UID:4316-1755424800-1755525600@roseandferncellars.com
SUMMARY:Hillsboro Farmers Market at Orenco
DESCRIPTION:Free wine tasting and sale of our wonderful Oregon wines by the bottle.
URL:https://roseandferncellars.com/event/hillsboro-farmers-market-at-orenco-38/
LOCATION:Hillsboro Farmers Market @ Orenco\, 6125 NE Cornell Rd.\, Hillsboro\, OR\, 97124\, United States
ATTACH;FMTTYPE=image/jpeg:https://roseandferncellars.com/wp-content/uploads/2023/03/BFD7A441-F3F8-4C07-8A62-509312049C0E.jpeg
END:VEVENT
END:VCALENDAR