BEGIN:VCALENDAR
VERSION:2.0
PRODID:-//Rose and Fern Cellars - ECPv6.15.20//NONSGML v1.0//EN
CALSCALE:GREGORIAN
METHOD:PUBLISH
X-WR-CALNAME:Rose and Fern Cellars
X-ORIGINAL-URL:https://roseandferncellars.com
X-WR-CALDESC:Events for Rose and Fern Cellars
REFRESH-INTERVAL;VALUE=DURATION:PT1H
X-Robots-Tag:noindex
X-PUBLISHED-TTL:PT1H
BEGIN:VTIMEZONE
TZID:America/Los_Angeles
BEGIN:DAYLIGHT
TZOFFSETFROM:-0800
TZOFFSETTO:-0700
TZNAME:PDT
DTSTART:20210314T100000
END:DAYLIGHT
BEGIN:STANDARD
TZOFFSETFROM:-0700
TZOFFSETTO:-0800
TZNAME:PST
DTSTART:20211107T090000
END:STANDARD
BEGIN:DAYLIGHT
TZOFFSETFROM:-0800
TZOFFSETTO:-0700
TZNAME:PDT
DTSTART:20220313T100000
END:DAYLIGHT
BEGIN:STANDARD
TZOFFSETFROM:-0700
TZOFFSETTO:-0800
TZNAME:PST
DTSTART:20221106T090000
END:STANDARD
BEGIN:DAYLIGHT
TZOFFSETFROM:-0800
TZOFFSETTO:-0700
TZNAME:PDT
DTSTART:20230312T100000
END:DAYLIGHT
BEGIN:STANDARD
TZOFFSETFROM:-0700
TZOFFSETTO:-0800
TZNAME:PST
DTSTART:20231105T090000
END:STANDARD
END:VTIMEZONE
BEGIN:VEVENT
DTSTART;TZID=America/Los_Angeles:20221203T090000
DTEND;TZID=America/Los_Angeles:20221203T170000
DTSTAMP:20260424T150455
CREATED:20221026T190945Z
LAST-MODIFIED:20221026T190945Z
UID:2677-1670058000-1670086800@roseandferncellars.com
SUMMARY:Oak Hills Holiday Market
DESCRIPTION:40 Vendors with hand-made\, hand-crafted and homegrown products.
URL:https://roseandferncellars.com/event/oak-hills-holiday-market-2/
LOCATION:Oak Hills Community Center\, 2400 NW 153rd Ave.\, Beaverton\, OR\, United States
END:VEVENT
BEGIN:VEVENT
DTSTART;TZID=America/Los_Angeles:20221202T160000
DTEND;TZID=America/Los_Angeles:20221202T190000
DTSTAMP:20260424T150455
CREATED:20221109T204122Z
LAST-MODIFIED:20221109T204122Z
UID:2826-1669996800-1670007600@roseandferncellars.com
SUMMARY:Creators & Curators First Friday Sip & Shop
DESCRIPTION:
URL:https://roseandferncellars.com/event/creators-curators-first-friday-sip-shop/
LOCATION:Milwaukie Floral & Garden\, 3306 SE Lake Road\, Milwaukie\, OR\, United States
END:VEVENT
BEGIN:VEVENT
DTSTART;TZID=America/Los_Angeles:20221202T090000
DTEND;TZID=America/Los_Angeles:20221202T170000
DTSTAMP:20260424T150455
CREATED:20221026T190750Z
LAST-MODIFIED:20221026T190750Z
UID:2674-1669971600-1670000400@roseandferncellars.com
SUMMARY:Oak Hills Holiday Market
DESCRIPTION:40 Vendors with hand-made\, hand-crafted and homegrown products.
URL:https://roseandferncellars.com/event/oak-hills-holiday-market/
LOCATION:Oak Hills Community Center\, 2400 NW 153rd Ave.\, Beaverton\, OR\, United States
END:VEVENT
BEGIN:VEVENT
DTSTART;TZID=America/Los_Angeles:20221126T090000
DTEND;TZID=America/Los_Angeles:20221126T140000
DTSTAMP:20260424T150455
CREATED:20221109T204020Z
LAST-MODIFIED:20221115T203942Z
UID:2824-1669453200-1669471200@roseandferncellars.com
SUMMARY:Happy Valley Holiday Market
DESCRIPTION:
URL:https://roseandferncellars.com/event/happy-valley-holiday-market/
LOCATION:Happy Valley Holiday Market\, 13231 SE Sunnyside Rd.\, Happy Valley\, OR\, United States
END:VEVENT
BEGIN:VEVENT
DTSTART;TZID=America/Los_Angeles:20221119T083000
DTEND;TZID=America/Los_Angeles:20221119T133000
DTSTAMP:20260424T150455
CREATED:20221110T002138Z
LAST-MODIFIED:20221110T002213Z
UID:2853-1668846600-1668864600@roseandferncellars.com
SUMMARY:Beaverton Farmers Market
DESCRIPTION:We will be at the Beaverton Farmers Market each Saturday between now and Thanksgiving\, 8:30 am – 1:30 pm\, 12375 SW 5th Street\, Beaverton\, across the street from the Beaverton Public Library.
URL:https://roseandferncellars.com/event/beaverton-farmers-market-3/
LOCATION:Beaverton Farmers Market\, 12375 SW 5th Street\, Beaverton\, OR\, United States
END:VEVENT
BEGIN:VEVENT
DTSTART;TZID=America/Los_Angeles:20221112T083000
DTEND;TZID=America/Los_Angeles:20221112T133000
DTSTAMP:20260424T150455
CREATED:20221109T203814Z
LAST-MODIFIED:20221110T002027Z
UID:2820-1668241800-1668259800@roseandferncellars.com
SUMMARY:Beaverton Farmers Market
DESCRIPTION:We will be at the Beaverton Farmers Market each Saturday between now and Thanksgiving\, 8:30 am – 1:30 pm\, 12375 SW 5th Street\, Beaverton\, across the street from the Beaverton Public Library.
URL:https://roseandferncellars.com/event/beaverton-farmers-market-2/
LOCATION:Beaverton Farmers Market\, 12375 SW 5th Street\, Beaverton\, OR\, United States
END:VEVENT
BEGIN:VEVENT
DTSTART;TZID=America/Los_Angeles:20221030T100000
DTEND;TZID=America/Los_Angeles:20221030T140000
DTSTAMP:20260424T150455
CREATED:20221026T190453Z
LAST-MODIFIED:20221026T190453Z
UID:2670-1667124000-1667138400@roseandferncellars.com
SUMMARY:Woodstock Farmers Market
DESCRIPTION:
URL:https://roseandferncellars.com/event/woodstock-farmers-market/
LOCATION:OR
END:VEVENT
BEGIN:VEVENT
DTSTART;TZID=America/Los_Angeles:20221030T100000
DTEND;TZID=America/Los_Angeles:20221030T133000
DTSTAMP:20260424T150455
CREATED:20221026T190238Z
LAST-MODIFIED:20221026T190238Z
UID:2666-1667124000-1667136600@roseandferncellars.com
SUMMARY:Orenco Farmers Market
DESCRIPTION:
URL:https://roseandferncellars.com/event/orenco-farmers-market/
LOCATION:Orenco Farmers Market\, 6125 NE Cornell Road\, Hillsboro\, OR\, United States
END:VEVENT
BEGIN:VEVENT
DTSTART;TZID=America/Los_Angeles:20221029T100000
DTEND;TZID=America/Los_Angeles:20221029T160000
DTSTAMP:20260424T150455
CREATED:20221026T175529Z
LAST-MODIFIED:20221026T182749Z
UID:2633-1667037600-1667059200@roseandferncellars.com
SUMMARY:Howl-O-Ween
DESCRIPTION:In addition to Rose and Fern Cellars and the 12 resident vendors you can find at Milwaukie Floral & Garden every day\, five additional local Pop-Ups will join us: \nHalf Pints Jelly\nPizza Nelly\nPhoto Booth\nJericho Mountain Woodcraft\nAmes Meat Research \nPlenty to do\, see\, smell\, sip\, and shop! Kids are invited to “Craft with a Cop” with Milwaukie PD. There will be petite pumpkins and lots of glitter! \nPups who play well with others are welcome to dress up (with their Hoomans!) in their Halloween best. \nEnjoy our wonderful Oregon wine by the glass or the bottle. As always\, tasting is FREE!
URL:https://roseandferncellars.com/event/howl-o-ween/
LOCATION:Milwaukie Floral & Garden\, 3306 SE Lake Road\, Milwaukie\, OR\, United States
END:VEVENT
BEGIN:VEVENT
DTSTART;TZID=America/Los_Angeles:20221029T090000
DTEND;TZID=America/Los_Angeles:20221029T140000
DTSTAMP:20260424T150455
CREATED:20221026T185814Z
LAST-MODIFIED:20221026T185814Z
UID:2658-1667034000-1667052000@roseandferncellars.com
SUMMARY:Happy Valley Farmers Market
DESCRIPTION:
URL:https://roseandferncellars.com/event/happy-valley-farmers-market/
LOCATION:Happy Valley Farmers Market\, 13231 Sunnyside Rd.\, Happy Valley\, OR\, United States
END:VEVENT
BEGIN:VEVENT
DTSTART;TZID=America/Los_Angeles:20221029T090000
DTEND;TZID=America/Los_Angeles:20221029T130000
DTSTAMP:20260424T150455
CREATED:20221026T190032Z
LAST-MODIFIED:20221026T190032Z
UID:2662-1667034000-1667048400@roseandferncellars.com
SUMMARY:Hillsboro Farmers Market
DESCRIPTION:
URL:https://roseandferncellars.com/event/hillsboro-farmers-market/
LOCATION:Hillsboro Farmers Market\, Main Street (Downtown)\, Hillsboro\, OR\, United States
END:VEVENT
BEGIN:VEVENT
DTSTART;TZID=America/Los_Angeles:20221029T083000
DTEND;TZID=America/Los_Angeles:20221029T133000
DTSTAMP:20260424T150455
CREATED:20221026T184522Z
LAST-MODIFIED:20221026T185530Z
UID:2651-1667032200-1667050200@roseandferncellars.com
SUMMARY:Beaverton Farmers Market
DESCRIPTION:
URL:https://roseandferncellars.com/event/beaverton-farmers-market/
LOCATION:Beaverton Farmers Market\, 12375 SW 5th Street\, Beaverton\, OR\, United States
END:VEVENT
END:VCALENDAR