BEGIN:VCALENDAR
VERSION:2.0
PRODID:-//Rose and Fern Cellars - ECPv6.15.20//NONSGML v1.0//EN
CALSCALE:GREGORIAN
METHOD:PUBLISH
X-WR-CALNAME:Rose and Fern Cellars
X-ORIGINAL-URL:https://roseandferncellars.com
X-WR-CALDESC:Events for Rose and Fern Cellars
REFRESH-INTERVAL;VALUE=DURATION:PT1H
X-Robots-Tag:noindex
X-PUBLISHED-TTL:PT1H
BEGIN:VTIMEZONE
TZID:America/Los_Angeles
BEGIN:DAYLIGHT
TZOFFSETFROM:-0800
TZOFFSETTO:-0700
TZNAME:PDT
DTSTART:20240310T100000
END:DAYLIGHT
BEGIN:STANDARD
TZOFFSETFROM:-0700
TZOFFSETTO:-0800
TZNAME:PST
DTSTART:20241103T090000
END:STANDARD
BEGIN:DAYLIGHT
TZOFFSETFROM:-0800
TZOFFSETTO:-0700
TZNAME:PDT
DTSTART:20250309T100000
END:DAYLIGHT
BEGIN:STANDARD
TZOFFSETFROM:-0700
TZOFFSETTO:-0800
TZNAME:PST
DTSTART:20251102T090000
END:STANDARD
BEGIN:DAYLIGHT
TZOFFSETFROM:-0800
TZOFFSETTO:-0700
TZNAME:PDT
DTSTART:20260308T100000
END:DAYLIGHT
BEGIN:STANDARD
TZOFFSETFROM:-0700
TZOFFSETTO:-0800
TZNAME:PST
DTSTART:20261101T090000
END:STANDARD
END:VTIMEZONE
BEGIN:VTIMEZONE
TZID:America/Los_Angeles
BEGIN:DAYLIGHT
TZOFFSETFROM:-0800
TZOFFSETTO:-0700
TZNAME:PDT
DTSTART:20230312T100000
END:DAYLIGHT
BEGIN:STANDARD
TZOFFSETFROM:-0700
TZOFFSETTO:-0800
TZNAME:PST
DTSTART:20231105T090000
END:STANDARD
BEGIN:DAYLIGHT
TZOFFSETFROM:-0800
TZOFFSETTO:-0700
TZNAME:PDT
DTSTART:20240310T100000
END:DAYLIGHT
BEGIN:STANDARD
TZOFFSETFROM:-0700
TZOFFSETTO:-0800
TZNAME:PST
DTSTART:20241103T090000
END:STANDARD
BEGIN:DAYLIGHT
TZOFFSETFROM:-0800
TZOFFSETTO:-0700
TZNAME:PDT
DTSTART:20250309T100000
END:DAYLIGHT
BEGIN:STANDARD
TZOFFSETFROM:-0700
TZOFFSETTO:-0800
TZNAME:PST
DTSTART:20251102T090000
END:STANDARD
BEGIN:DAYLIGHT
TZOFFSETFROM:-0800
TZOFFSETTO:-0700
TZNAME:PDT
DTSTART:20260308T100000
END:DAYLIGHT
BEGIN:STANDARD
TZOFFSETFROM:-0700
TZOFFSETTO:-0800
TZNAME:PST
DTSTART:20261101T090000
END:STANDARD
END:VTIMEZONE
BEGIN:VEVENT
DTSTART;TZID=America/Los_Angeles:20250503T083000
DTEND;TZID=America/Los_Angeles:20250503T133000
DTSTAMP:20260421T232422
CREATED:20250411T214146Z
LAST-MODIFIED:20250411T214146Z
UID:4144-1746261000-1746279000@roseandferncellars.com
SUMMARY:Beaverton Farmers Market
DESCRIPTION:Free wine tasting & sale of wine by the bottle.
URL:https://roseandferncellars.com/event/beaverton-farmers-market-75/
LOCATION:Beaverton Farmers Market\, 12375 SW 5th Street\, Beaverton\, OR\, United States
ATTACH;FMTTYPE=image/png:https://roseandferncellars.com/wp-content/uploads/2022/11/1FD2A991-5B91-41C3-9C58-8FCA84080916.png
END:VEVENT
BEGIN:VEVENT
DTSTART;TZID=America/Los_Angeles:20250427T100000
DTEND;TZID=America/Los_Angeles:20250427T140000
DTSTAMP:20260421T232422
CREATED:20250411T213748Z
LAST-MODIFIED:20250411T213817Z
UID:4142-1745748000-1745762400@roseandferncellars.com
SUMMARY:Hillsboro Farmers Market at Orenco
DESCRIPTION:Free wine tasting & sale of wine by the bottle.
URL:https://roseandferncellars.com/event/hillsboro-farmers-market-at-orenco-31/
LOCATION:Hillsboro Farmers Market @ Orenco\, 6125 NE Cornell Rd.\, Hillsboro\, OR\, 97124\, United States
ATTACH;FMTTYPE=image/jpeg:https://roseandferncellars.com/wp-content/uploads/2023/03/BFD7A441-F3F8-4C07-8A62-509312049C0E.jpeg
END:VEVENT
BEGIN:VEVENT
DTSTART;TZID=America/Los_Angeles:20250426T090000
DTEND;TZID=America/Los_Angeles:20250426T130000
DTSTAMP:20260421T232422
CREATED:20250411T213516Z
LAST-MODIFIED:20250411T213516Z
UID:4139-1745658000-1745672400@roseandferncellars.com
SUMMARY:Hillsboro Farmers Market
DESCRIPTION:Free wine tasting & sale of wine by the bottle.
URL:https://roseandferncellars.com/event/hillsboro-farmers-market-44/
LOCATION:Hillsboro Farmers Market\, Main Street (Downtown)\, Hillsboro\, OR\, United States
ATTACH;FMTTYPE=image/jpeg:https://roseandferncellars.com/wp-content/uploads/2023/02/B334FA7C-995F-494D-8903-F096E0FD635F-scaled.jpeg
END:VEVENT
BEGIN:VEVENT
DTSTART;TZID=America/Los_Angeles:20250426T083000
DTEND;TZID=America/Los_Angeles:20250426T133000
DTSTAMP:20260421T232422
CREATED:20250411T213205Z
LAST-MODIFIED:20250411T213205Z
UID:4134-1745656200-1745674200@roseandferncellars.com
SUMMARY:Beaverton Farmers Market
DESCRIPTION:Free wine tasting & sale of wine by the bottle.
URL:https://roseandferncellars.com/event/beaverton-farmers-market-74/
LOCATION:Beaverton Farmers Market\, 12375 SW 5th Street\, Beaverton\, OR\, United States
ATTACH;FMTTYPE=image/png:https://roseandferncellars.com/wp-content/uploads/2022/11/1FD2A991-5B91-41C3-9C58-8FCA84080916.png
END:VEVENT
BEGIN:VEVENT
DTSTART;TZID=America/Los_Angeles:20250419T083000
DTEND;TZID=America/Los_Angeles:20250419T133000
DTSTAMP:20260421T232422
CREATED:20250411T212556Z
LAST-MODIFIED:20250411T212735Z
UID:4129-1745051400-1745069400@roseandferncellars.com
SUMMARY:Beaverton Farmers Market
DESCRIPTION:Free wine tasting and sale of wine by the bottle.
URL:https://roseandferncellars.com/event/beaverton-farmers-market-73/
LOCATION:Beaverton Farmers Market\, 12375 SW 5th Street\, Beaverton\, OR\, United States
ATTACH;FMTTYPE=image/png:https://roseandferncellars.com/wp-content/uploads/2022/11/1FD2A991-5B91-41C3-9C58-8FCA84080916.png
END:VEVENT
BEGIN:VEVENT
DTSTART;TZID=America/Los_Angeles:20250412T083000
DTEND;TZID=America/Los_Angeles:20250412T133000
DTSTAMP:20260421T232422
CREATED:20250411T211225Z
LAST-MODIFIED:20250411T211225Z
UID:4123-1744446600-1744464600@roseandferncellars.com
SUMMARY:Beaverton Farmers Market
DESCRIPTION:Free wine tasting & sales of wine by the bottle.
URL:https://roseandferncellars.com/event/beaverton-farmers-market-72/
LOCATION:Beaverton Farmers Market\, 12375 SW 5th Street\, Beaverton\, OR\, United States
ATTACH;FMTTYPE=image/png:https://roseandferncellars.com/wp-content/uploads/2022/11/1FD2A991-5B91-41C3-9C58-8FCA84080916.png
END:VEVENT
BEGIN:VEVENT
DTSTART;TZID=America/Los_Angeles:20250329T100000
DTEND;TZID=America/Los_Angeles:20250329T133000
DTSTAMP:20260421T232422
CREATED:20250203T210959Z
LAST-MODIFIED:20250203T210959Z
UID:3870-1743242400-1743255000@roseandferncellars.com
SUMMARY:Beaverton Farmers Market
DESCRIPTION:Free wine tasting and sale of our wonderful Oregon wines by the bottle.
URL:https://roseandferncellars.com/event/beaverton-farmers-market-71/
LOCATION:Beaverton Farmers Market\, 12375 SW 5th Street\, Beaverton\, OR\, United States
ATTACH;FMTTYPE=image/png:https://roseandferncellars.com/wp-content/uploads/2022/11/1FD2A991-5B91-41C3-9C58-8FCA84080916.png
END:VEVENT
BEGIN:VEVENT
DTSTART;TZID=America/Los_Angeles:20250315T100000
DTEND;TZID=America/Los_Angeles:20250315T133000
DTSTAMP:20260421T232422
CREATED:20250203T210049Z
LAST-MODIFIED:20250203T210049Z
UID:3867-1742032800-1742045400@roseandferncellars.com
SUMMARY:Beaverton Farmers Market
DESCRIPTION:Free wine tasting and sale of our wonderful Oregon wines by the bottle.
URL:https://roseandferncellars.com/event/beaverton-farmers-market-70/
LOCATION:Beaverton Farmers Market\, 12375 SW 5th Street\, Beaverton\, OR\, United States
ATTACH;FMTTYPE=image/png:https://roseandferncellars.com/wp-content/uploads/2022/11/1FD2A991-5B91-41C3-9C58-8FCA84080916.png
END:VEVENT
BEGIN:VEVENT
DTSTART;TZID=America/Los_Angeles:20250301T100000
DTEND;TZID=America/Los_Angeles:20250301T133000
DTSTAMP:20260421T232422
CREATED:20250203T205906Z
LAST-MODIFIED:20250203T205906Z
UID:3865-1740823200-1740835800@roseandferncellars.com
SUMMARY:Beaverton Farmers Market
DESCRIPTION:Free wine tasting and sale of our wonderful Oregon wines.
URL:https://roseandferncellars.com/event/beaverton-farmers-market-69/
LOCATION:Beaverton Farmers Market\, 12375 SW 5th Street\, Beaverton\, OR\, United States
ATTACH;FMTTYPE=image/png:https://roseandferncellars.com/wp-content/uploads/2022/11/1FD2A991-5B91-41C3-9C58-8FCA84080916.png
END:VEVENT
BEGIN:VEVENT
DTSTART;TZID=America/Los_Angeles:20250222T100000
DTEND;TZID=America/Los_Angeles:20250222T133000
DTSTAMP:20260421T232422
CREATED:20250203T205719Z
LAST-MODIFIED:20250203T205719Z
UID:3863-1740218400-1740231000@roseandferncellars.com
SUMMARY:Beaverton Farmers Market
DESCRIPTION:Free wine tasting and sale of our wonderful Oregon wines by the bottle.
URL:https://roseandferncellars.com/event/beaverton-farmers-market-68/
LOCATION:Beaverton Farmers Market\, 12375 SW 5th Street\, Beaverton\, OR\, United States
ATTACH;FMTTYPE=image/png:https://roseandferncellars.com/wp-content/uploads/2022/11/1FD2A991-5B91-41C3-9C58-8FCA84080916.png
END:VEVENT
BEGIN:VEVENT
DTSTART;TZID=America/Los_Angeles:20250208T100000
DTEND;TZID=America/Los_Angeles:20250208T133000
DTSTAMP:20260421T232422
CREATED:20250203T205522Z
LAST-MODIFIED:20250203T205522Z
UID:3861-1739008800-1739021400@roseandferncellars.com
SUMMARY:Beaverton Farmers Market - We’re BACK!
DESCRIPTION:Free wine tasting and sale of our wonderful Oregon wine by the bottle.
URL:https://roseandferncellars.com/event/beaverton-farmers-market-were-back/
LOCATION:Beaverton Farmers Market\, 12375 SW 5th Street\, Beaverton\, OR\, United States
ATTACH;FMTTYPE=image/png:https://roseandferncellars.com/wp-content/uploads/2022/11/1FD2A991-5B91-41C3-9C58-8FCA84080916.png
END:VEVENT
BEGIN:VEVENT
DTSTART;TZID=America/Los_Angeles:20241215T100000
DTEND;TZID=America/Los_Angeles:20241215T160000
DTSTAMP:20260421T232422
CREATED:20241108T225838Z
LAST-MODIFIED:20241108T225838Z
UID:3805-1734256800-1734278400@roseandferncellars.com
SUMMARY:Salem Holiday Market
DESCRIPTION:Free wine tasting and sales of our wonderful Oregon wines by the bottle.
URL:https://roseandferncellars.com/event/salem-holiday-market-6/
LOCATION:Salem Holiday Market\, State Fairgrounds\, 2330 17th Avenue\, Salem
END:VEVENT
BEGIN:VEVENT
DTSTART;TZID=America/Los_Angeles:20241214T100000
DTEND;TZID=America/Los_Angeles:20241214T180000
DTSTAMP:20260421T232422
CREATED:20241108T225406Z
LAST-MODIFIED:20241108T225406Z
UID:3803-1734170400-1734199200@roseandferncellars.com
SUMMARY:Salem Holiday Market
DESCRIPTION:Free wine tasting and sales of our wonderful Oregon wines by the bottle.
URL:https://roseandferncellars.com/event/salem-holiday-market-5/
LOCATION:Salem Holiday Market\, State Fairgrounds\, 2330 17th Avenue\, Salem
ATTACH;FMTTYPE=image/jpeg:https://roseandferncellars.com/wp-content/uploads/2022/10/536CB649-F2E6-40EE-85A2-E02F1F14BA67.jpeg
END:VEVENT
BEGIN:VEVENT
DTSTART;TZID=America/Los_Angeles:20241213T173000
DTEND;TZID=America/Los_Angeles:20241213T203000
DTSTAMP:20260421T232422
CREATED:20241108T225214Z
LAST-MODIFIED:20241108T225214Z
UID:3800-1734111000-1734121800@roseandferncellars.com
SUMMARY:Salem Holiday Market
DESCRIPTION:Free wine tasting and sales of our wonderful Oregon wines by the bottle.
URL:https://roseandferncellars.com/event/salem-holiday-market-4/
LOCATION:Salem Holiday Market\, State Fairgrounds\, 2330 17th Avenue\, Salem
ATTACH;FMTTYPE=image/jpeg:https://roseandferncellars.com/wp-content/uploads/2022/10/536CB649-F2E6-40EE-85A2-E02F1F14BA67.jpeg
END:VEVENT
BEGIN:VEVENT
DTSTART;TZID=America/Los_Angeles:20241208T090000
DTEND;TZID=America/Los_Angeles:20241208T150000
DTSTAMP:20260421T232422
CREATED:20241108T210126Z
LAST-MODIFIED:20241108T221824Z
UID:3786-1733648400-1733670000@roseandferncellars.com
SUMMARY:Farmington Gardens Holiday Market
DESCRIPTION:Free wine tasting and sales of our wonderful Oregon wines by the glass and by the bottle. Santa’s coming!!! 11 am – 2 pm.
URL:https://roseandferncellars.com/event/farmington-gardens-holiday-market-3/
LOCATION:Farmington Gardens\, 21815 SW Farmington Rd.\, Beaverton
ATTACH;FMTTYPE=image/webp:https://roseandferncellars.com/wp-content/uploads/2024/11/IMG_0841.webp
END:VEVENT
BEGIN:VEVENT
DTSTART;TZID=America/Los_Angeles:20241207T090000
DTEND;TZID=America/Los_Angeles:20241207T160000
DTSTAMP:20260421T232422
CREATED:20241108T221626Z
LAST-MODIFIED:20241108T221626Z
UID:3797-1733562000-1733587200@roseandferncellars.com
SUMMARY:Oak Hills Holiday Bazaar
DESCRIPTION:Free wine tasting and sales of our wonderful Oregon wines by the bottle.
URL:https://roseandferncellars.com/event/oak-hills-holiday-bazaar-2/
LOCATION:Oak Hills Community Center\, 2400 NW 153rd Ave.\, Beaverton\, OR\, United States
ATTACH;FMTTYPE=image/png:https://roseandferncellars.com/wp-content/uploads/2024/11/IMG_0839.png
END:VEVENT
BEGIN:VEVENT
DTSTART;TZID=America/Los_Angeles:20241207T090000
DTEND;TZID=America/Los_Angeles:20241207T150000
DTSTAMP:20260421T232422
CREATED:20241108T211728Z
LAST-MODIFIED:20241108T211728Z
UID:3789-1733562000-1733583600@roseandferncellars.com
SUMMARY:Farmington Gardens Holiday Market
DESCRIPTION:Free wine tasting sand sales of our wonderful Oregon wines by the glass and by the bottle. Santa’s coming!!! 11 am – 2 pm.
URL:https://roseandferncellars.com/event/farmington-gardens-holiday-market-4/
LOCATION:Farmington Gardens\, 21815 SW Farmington Rd.\, Beaverton
ATTACH;FMTTYPE=image/webp:https://roseandferncellars.com/wp-content/uploads/2024/11/IMG_0841.webp
END:VEVENT
BEGIN:VEVENT
DTSTART;TZID=America/Los_Angeles:20241206T160000
DTEND;TZID=America/Los_Angeles:20241206T190000
DTSTAMP:20260421T232422
CREATED:20241108T214157Z
LAST-MODIFIED:20241108T214157Z
UID:3791-1733500800-1733511600@roseandferncellars.com
SUMMARY:Peak Chiropractic Holiday Event
DESCRIPTION:Free wine tasting and sales of our wonderful Oregon wines by the glass and by the bottle.
URL:https://roseandferncellars.com/event/peak-chiropractic-holiday-event/
LOCATION:Peak Chiropractic\, 10355 NW Glencoe Rd.\, Suite B\, North Planins
ATTACH;FMTTYPE=image/png:https://roseandferncellars.com/wp-content/uploads/2024/11/c514e930.png
END:VEVENT
BEGIN:VEVENT
DTSTART;TZID=America/Los_Angeles:20241206T090000
DTEND;TZID=America/Los_Angeles:20241206T160000
DTSTAMP:20260421T232422
CREATED:20241108T215622Z
LAST-MODIFIED:20241108T215622Z
UID:3794-1733475600-1733500800@roseandferncellars.com
SUMMARY:Oak Hills Holiday Bazaar
DESCRIPTION:Free wine tasting and sales of our wonderful Oregon wines by the bottle.
URL:https://roseandferncellars.com/event/oak-hills-holiday-bazaar/
LOCATION:Oak Hills Community Center\, 2400 NW 153rd Ave.\, Beaverton\, OR\, United States
ATTACH;FMTTYPE=image/png:https://roseandferncellars.com/wp-content/uploads/2024/11/IMG_0839.png
END:VEVENT
BEGIN:VEVENT
DTSTART;TZID=America/Los_Angeles:20241201T100000
DTEND;TZID=America/Los_Angeles:20241201T190000
DTSTAMP:20260421T232422
CREATED:20241108T203453Z
LAST-MODIFIED:20241108T205843Z
UID:3774-1733047200-1733079600@roseandferncellars.com
SUMMARY:1st Annual Holiday Bazaar - Embassy Suites Washington Square
DESCRIPTION:Free wine tasting and sales of our wonderful Oregon wines by the glass and by the bottle.
URL:https://roseandferncellars.com/event/1st-annual-holiday-bazaar-embassy-suites-washington-square-2/
LOCATION:9000 SW Washington Square\, 1000 SW Washington Square Rd.\, Tigard
ATTACH;FMTTYPE=image/png:https://roseandferncellars.com/wp-content/uploads/2024/11/Colourful-Retro-Illustrated-Christmas-Market-Poster-1.png
END:VEVENT
BEGIN:VEVENT
DTSTART;TZID=America/Los_Angeles:20241201T090000
DTEND;TZID=America/Los_Angeles:20241201T150000
DTSTAMP:20260421T232422
CREATED:20241108T205724Z
LAST-MODIFIED:20241108T205724Z
UID:3784-1733043600-1733065200@roseandferncellars.com
SUMMARY:Farmington Gardens Holiday Market
DESCRIPTION:Free wine tasting and sales of our wonderful Oregon wines by the glass and by the bottle. Santa’s coming!!! 11 am – 2 pm\,
URL:https://roseandferncellars.com/event/farmington-gardens-holiday-market-2/
LOCATION:Farmington Gardens\, 21815 SW Farmington Rd.\, Beaverton
ATTACH;FMTTYPE=image/webp:https://roseandferncellars.com/wp-content/uploads/2024/11/IMG_0841.webp
END:VEVENT
BEGIN:VEVENT
DTSTART;TZID=America/Los_Angeles:20241130T100000
DTEND;TZID=America/Los_Angeles:20241130T193000
DTSTAMP:20260421T232422
CREATED:20241108T203220Z
LAST-MODIFIED:20241108T203220Z
UID:3769-1732960800-1732995000@roseandferncellars.com
SUMMARY:1st Annual Holiday Bazaar - Embassy Suites Washington Square
DESCRIPTION:Free wine tasting and sales of our wonderful Oregon wines by the glass and by the  bottle.
URL:https://roseandferncellars.com/event/1st-annual-holiday-bazaar-embassy-suites-washington-square/
LOCATION:9000 SW Washington Square\, 1000 SW Washington Square Rd.\, Tigard
ATTACH;FMTTYPE=image/png:https://roseandferncellars.com/wp-content/uploads/2024/11/Colourful-Retro-Illustrated-Christmas-Market-Poster-1.png
END:VEVENT
BEGIN:VEVENT
DTSTART;TZID=America/Los_Angeles:20241130T090000
DTEND;TZID=America/Los_Angeles:20241130T150000
DTSTAMP:20260421T232422
CREATED:20241108T204442Z
LAST-MODIFIED:20241108T204811Z
UID:3777-1732957200-1732978800@roseandferncellars.com
SUMMARY:Farmington Gardens Holiday Market
DESCRIPTION:Free wine tasting and sales of our wonderful Oregon wines by the glass and by the bottle. Santa’s coming!!! 11 am – 2 pm.
URL:https://roseandferncellars.com/event/farmington-gardens-holiday-market/
LOCATION:Farmington Gardens\, 21815 SW Farmington Rd.\, Beaverton
ATTACH;FMTTYPE=image/webp:https://roseandferncellars.com/wp-content/uploads/2024/11/IMG_0841.webp
END:VEVENT
BEGIN:VEVENT
DTSTART;TZID=America/Los_Angeles:20241124T100000
DTEND;TZID=America/Los_Angeles:20241124T140000
DTSTAMP:20260421T232422
CREATED:20241108T202522Z
LAST-MODIFIED:20241108T202522Z
UID:3767-1732442400-1732456800@roseandferncellars.com
SUMMARY:Woodstock Farmers Market
DESCRIPTION:Free wine tasting and sales of our wonderful Oregon wines by the bottle.
URL:https://roseandferncellars.com/event/woodstock-farmers-market-14/
LOCATION:Woodstock Farmers Market\, 4600 SE Woodstock Blvd.\, Portland\, OR\, United States
ATTACH;FMTTYPE=image/png:https://roseandferncellars.com/wp-content/uploads/2024/05/IMG_0763.png
END:VEVENT
BEGIN:VEVENT
DTSTART;TZID=America/Los_Angeles:20241123T090000
DTEND;TZID=America/Los_Angeles:20241123T140000
DTSTAMP:20260421T232422
CREATED:20241108T202201Z
LAST-MODIFIED:20241108T202201Z
UID:3765-1732352400-1732370400@roseandferncellars.com
SUMMARY:Happy Valley Harvest Market
DESCRIPTION:Free wine tasting and sales of our wonderful Oregon wines by the bottle.
URL:https://roseandferncellars.com/event/happy-valley-harvest-market/
LOCATION:Happy Valley Farmers Market\, 13231 Sunnyside Rd.\, Happy Valley\, OR\, United States
ATTACH;FMTTYPE=image/jpeg:https://roseandferncellars.com/wp-content/uploads/2023/05/IMG_5034.jpeg
END:VEVENT
BEGIN:VEVENT
DTSTART;TZID=America/Los_Angeles:20241123T083000
DTEND;TZID=America/Los_Angeles:20241123T133000
DTSTAMP:20260421T232422
CREATED:20241108T200928Z
LAST-MODIFIED:20241108T201846Z
UID:3761-1732350600-1732368600@roseandferncellars.com
SUMMARY:Beaverton Farmers Market
DESCRIPTION:Free wine tasting and sales of our wonderful Oregon wines by the bottle.
URL:https://roseandferncellars.com/event/beaverton-farmers-market-67/
LOCATION:Beaverton Farmers Market\, 12375 SW 5th Street\, Beaverton\, OR\, United States
ATTACH;FMTTYPE=image/png:https://roseandferncellars.com/wp-content/uploads/2022/11/1FD2A991-5B91-41C3-9C58-8FCA84080916.png
END:VEVENT
BEGIN:VEVENT
DTSTART;TZID=America/Los_Angeles:20241116T083000
DTEND;TZID=America/Los_Angeles:20241116T133000
DTSTAMP:20260421T232422
CREATED:20241108T200718Z
LAST-MODIFIED:20241108T202318Z
UID:3759-1731745800-1731763800@roseandferncellars.com
SUMMARY:Beaverton Farmers Market
DESCRIPTION:Free wine tasting and sales of our wonderful Oregon wines by the bottle.
URL:https://roseandferncellars.com/event/beaverton-farmers-market-66/
LOCATION:Beaverton Farmers Market\, 12375 SW 5th Street\, Beaverton\, OR\, United States
ATTACH;FMTTYPE=image/png:https://roseandferncellars.com/wp-content/uploads/2022/11/1FD2A991-5B91-41C3-9C58-8FCA84080916.png
END:VEVENT
BEGIN:VEVENT
DTSTART;TZID=America/Los_Angeles:20241109T083000
DTEND;TZID=America/Los_Angeles:20241109T133000
DTSTAMP:20260421T232422
CREATED:20241108T200545Z
LAST-MODIFIED:20241108T202400Z
UID:3757-1731141000-1731159000@roseandferncellars.com
SUMMARY:Beaverton Farmers Market
DESCRIPTION:Free wine tasting and sales of our wonderful Oregon wines by the bottle.
URL:https://roseandferncellars.com/event/beaverton-farmers-market-65/
LOCATION:Beaverton Farmers Market\, 12375 SW 5th Street\, Beaverton\, OR\, United States
ATTACH;FMTTYPE=image/png:https://roseandferncellars.com/wp-content/uploads/2022/11/1FD2A991-5B91-41C3-9C58-8FCA84080916.png
END:VEVENT
BEGIN:VEVENT
DTSTART;TZID=America/Los_Angeles:20241027T100000
DTEND;TZID=America/Los_Angeles:20241027T140000
DTSTAMP:20260421T232422
CREATED:20240919T170214Z
LAST-MODIFIED:20240919T170214Z
UID:3748-1730023200-1730037600@roseandferncellars.com
SUMMARY:Orenco Farmers Market
DESCRIPTION:Free wine tasting and sales of our wonderful Oregon wines by the bottle.
URL:https://roseandferncellars.com/event/orenco-farmers-market-8/
LOCATION:Hillsboro Farmers Market @ Orenco\, 6125 NE Cornell Rd.\, Hillsboro\, OR\, 97124\, United States
ATTACH;FMTTYPE=image/jpeg:https://roseandferncellars.com/wp-content/uploads/2023/03/BFD7A441-F3F8-4C07-8A62-509312049C0E.jpeg
END:VEVENT
BEGIN:VEVENT
DTSTART;TZID=America/Los_Angeles:20241026T090000
DTEND;TZID=America/Los_Angeles:20241026T130000
DTSTAMP:20260421T232422
CREATED:20240919T170106Z
LAST-MODIFIED:20240919T170106Z
UID:3746-1729933200-1729947600@roseandferncellars.com
SUMMARY:Hillsboro Farmers Market
DESCRIPTION:Free wine tasting and sales of our wonderful Oregon wines by the bottle.
URL:https://roseandferncellars.com/event/hillsboro-farmers-market-43/
LOCATION:Hillsboro Farmers Market\, Main Street (Downtown)\, Hillsboro\, OR\, United States
ATTACH;FMTTYPE=image/jpeg:https://roseandferncellars.com/wp-content/uploads/2023/02/B334FA7C-995F-494D-8903-F096E0FD635F-scaled.jpeg
END:VEVENT
END:VCALENDAR