BEGIN:VCALENDAR
VERSION:2.0
PRODID:-//Rose and Fern Cellars - ECPv6.15.20//NONSGML v1.0//EN
CALSCALE:GREGORIAN
METHOD:PUBLISH
X-WR-CALNAME:Rose and Fern Cellars
X-ORIGINAL-URL:https://roseandferncellars.com
X-WR-CALDESC:Events for Rose and Fern Cellars
REFRESH-INTERVAL;VALUE=DURATION:PT1H
X-Robots-Tag:noindex
X-PUBLISHED-TTL:PT1H
BEGIN:VTIMEZONE
TZID:America/Los_Angeles
BEGIN:DAYLIGHT
TZOFFSETFROM:-0800
TZOFFSETTO:-0700
TZNAME:PDT
DTSTART:20230312T100000
END:DAYLIGHT
BEGIN:STANDARD
TZOFFSETFROM:-0700
TZOFFSETTO:-0800
TZNAME:PST
DTSTART:20231105T090000
END:STANDARD
BEGIN:DAYLIGHT
TZOFFSETFROM:-0800
TZOFFSETTO:-0700
TZNAME:PDT
DTSTART:20240310T100000
END:DAYLIGHT
BEGIN:STANDARD
TZOFFSETFROM:-0700
TZOFFSETTO:-0800
TZNAME:PST
DTSTART:20241103T090000
END:STANDARD
BEGIN:DAYLIGHT
TZOFFSETFROM:-0800
TZOFFSETTO:-0700
TZNAME:PDT
DTSTART:20250309T100000
END:DAYLIGHT
BEGIN:STANDARD
TZOFFSETFROM:-0700
TZOFFSETTO:-0800
TZNAME:PST
DTSTART:20251102T090000
END:STANDARD
END:VTIMEZONE
BEGIN:VEVENT
DTSTART;TZID=America/Los_Angeles:20241130T090000
DTEND;TZID=America/Los_Angeles:20241130T150000
DTSTAMP:20260421T164638
CREATED:20241108T204442Z
LAST-MODIFIED:20241108T204811Z
UID:3777-1732957200-1732978800@roseandferncellars.com
SUMMARY:Farmington Gardens Holiday Market
DESCRIPTION:Free wine tasting and sales of our wonderful Oregon wines by the glass and by the bottle. Santa’s coming!!! 11 am – 2 pm.
URL:https://roseandferncellars.com/event/farmington-gardens-holiday-market/
LOCATION:Farmington Gardens\, 21815 SW Farmington Rd.\, Beaverton
ATTACH;FMTTYPE=image/webp:https://roseandferncellars.com/wp-content/uploads/2024/11/IMG_0841.webp
END:VEVENT
BEGIN:VEVENT
DTSTART;TZID=America/Los_Angeles:20241124T100000
DTEND;TZID=America/Los_Angeles:20241124T140000
DTSTAMP:20260421T164638
CREATED:20241108T202522Z
LAST-MODIFIED:20241108T202522Z
UID:3767-1732442400-1732456800@roseandferncellars.com
SUMMARY:Woodstock Farmers Market
DESCRIPTION:Free wine tasting and sales of our wonderful Oregon wines by the bottle.
URL:https://roseandferncellars.com/event/woodstock-farmers-market-14/
LOCATION:Woodstock Farmers Market\, 4600 SE Woodstock Blvd.\, Portland\, OR\, United States
ATTACH;FMTTYPE=image/png:https://roseandferncellars.com/wp-content/uploads/2024/05/IMG_0763.png
END:VEVENT
BEGIN:VEVENT
DTSTART;TZID=America/Los_Angeles:20241123T090000
DTEND;TZID=America/Los_Angeles:20241123T140000
DTSTAMP:20260421T164638
CREATED:20241108T202201Z
LAST-MODIFIED:20241108T202201Z
UID:3765-1732352400-1732370400@roseandferncellars.com
SUMMARY:Happy Valley Harvest Market
DESCRIPTION:Free wine tasting and sales of our wonderful Oregon wines by the bottle.
URL:https://roseandferncellars.com/event/happy-valley-harvest-market/
LOCATION:Happy Valley Farmers Market\, 13231 Sunnyside Rd.\, Happy Valley\, OR\, United States
ATTACH;FMTTYPE=image/jpeg:https://roseandferncellars.com/wp-content/uploads/2023/05/IMG_5034.jpeg
END:VEVENT
BEGIN:VEVENT
DTSTART;TZID=America/Los_Angeles:20241123T083000
DTEND;TZID=America/Los_Angeles:20241123T133000
DTSTAMP:20260421T164638
CREATED:20241108T200928Z
LAST-MODIFIED:20241108T201846Z
UID:3761-1732350600-1732368600@roseandferncellars.com
SUMMARY:Beaverton Farmers Market
DESCRIPTION:Free wine tasting and sales of our wonderful Oregon wines by the bottle.
URL:https://roseandferncellars.com/event/beaverton-farmers-market-67/
LOCATION:Beaverton Farmers Market\, 12375 SW 5th Street\, Beaverton\, OR\, United States
ATTACH;FMTTYPE=image/png:https://roseandferncellars.com/wp-content/uploads/2022/11/1FD2A991-5B91-41C3-9C58-8FCA84080916.png
END:VEVENT
BEGIN:VEVENT
DTSTART;TZID=America/Los_Angeles:20241116T083000
DTEND;TZID=America/Los_Angeles:20241116T133000
DTSTAMP:20260421T164638
CREATED:20241108T200718Z
LAST-MODIFIED:20241108T202318Z
UID:3759-1731745800-1731763800@roseandferncellars.com
SUMMARY:Beaverton Farmers Market
DESCRIPTION:Free wine tasting and sales of our wonderful Oregon wines by the bottle.
URL:https://roseandferncellars.com/event/beaverton-farmers-market-66/
LOCATION:Beaverton Farmers Market\, 12375 SW 5th Street\, Beaverton\, OR\, United States
ATTACH;FMTTYPE=image/png:https://roseandferncellars.com/wp-content/uploads/2022/11/1FD2A991-5B91-41C3-9C58-8FCA84080916.png
END:VEVENT
BEGIN:VEVENT
DTSTART;TZID=America/Los_Angeles:20241109T083000
DTEND;TZID=America/Los_Angeles:20241109T133000
DTSTAMP:20260421T164638
CREATED:20241108T200545Z
LAST-MODIFIED:20241108T202400Z
UID:3757-1731141000-1731159000@roseandferncellars.com
SUMMARY:Beaverton Farmers Market
DESCRIPTION:Free wine tasting and sales of our wonderful Oregon wines by the bottle.
URL:https://roseandferncellars.com/event/beaverton-farmers-market-65/
LOCATION:Beaverton Farmers Market\, 12375 SW 5th Street\, Beaverton\, OR\, United States
ATTACH;FMTTYPE=image/png:https://roseandferncellars.com/wp-content/uploads/2022/11/1FD2A991-5B91-41C3-9C58-8FCA84080916.png
END:VEVENT
BEGIN:VEVENT
DTSTART;TZID=America/Los_Angeles:20241027T100000
DTEND;TZID=America/Los_Angeles:20241027T140000
DTSTAMP:20260421T164638
CREATED:20240919T170214Z
LAST-MODIFIED:20240919T170214Z
UID:3748-1730023200-1730037600@roseandferncellars.com
SUMMARY:Orenco Farmers Market
DESCRIPTION:Free wine tasting and sales of our wonderful Oregon wines by the bottle.
URL:https://roseandferncellars.com/event/orenco-farmers-market-8/
LOCATION:Hillsboro Farmers Market @ Orenco\, 6125 NE Cornell Rd.\, Hillsboro\, OR\, 97124\, United States
ATTACH;FMTTYPE=image/jpeg:https://roseandferncellars.com/wp-content/uploads/2023/03/BFD7A441-F3F8-4C07-8A62-509312049C0E.jpeg
END:VEVENT
BEGIN:VEVENT
DTSTART;TZID=America/Los_Angeles:20241026T090000
DTEND;TZID=America/Los_Angeles:20241026T130000
DTSTAMP:20260421T164638
CREATED:20240919T170106Z
LAST-MODIFIED:20240919T170106Z
UID:3746-1729933200-1729947600@roseandferncellars.com
SUMMARY:Hillsboro Farmers Market
DESCRIPTION:Free wine tasting and sales of our wonderful Oregon wines by the bottle.
URL:https://roseandferncellars.com/event/hillsboro-farmers-market-43/
LOCATION:Hillsboro Farmers Market\, Main Street (Downtown)\, Hillsboro\, OR\, United States
ATTACH;FMTTYPE=image/jpeg:https://roseandferncellars.com/wp-content/uploads/2023/02/B334FA7C-995F-494D-8903-F096E0FD635F-scaled.jpeg
END:VEVENT
BEGIN:VEVENT
DTSTART;TZID=America/Los_Angeles:20241026T083000
DTEND;TZID=America/Los_Angeles:20241026T133000
DTSTAMP:20260421T164638
CREATED:20240919T165941Z
LAST-MODIFIED:20240919T165941Z
UID:3744-1729931400-1729949400@roseandferncellars.com
SUMMARY:Beaverton Farmers Market
DESCRIPTION:Free wine tasting and sales of our wonderful Oregon wines by the bottle.
URL:https://roseandferncellars.com/event/beaverton-farmers-market-64/
LOCATION:Beaverton Farmers Market\, 12375 SW 5th Street\, Beaverton\, OR\, United States
ATTACH;FMTTYPE=image/png:https://roseandferncellars.com/wp-content/uploads/2022/11/1FD2A991-5B91-41C3-9C58-8FCA84080916.png
END:VEVENT
BEGIN:VEVENT
DTSTART;TZID=America/Los_Angeles:20241020T100000
DTEND;TZID=America/Los_Angeles:20241020T140000
DTSTAMP:20260421T164638
CREATED:20240919T165719Z
LAST-MODIFIED:20240919T165719Z
UID:3742-1729418400-1729432800@roseandferncellars.com
SUMMARY:Orenco Farmers Market
DESCRIPTION:Free wine tasting and sales of our wonderful Oregon wines by the bottle.
URL:https://roseandferncellars.com/event/orenco-farmers-market-7/
LOCATION:Hillsboro Farmers Market @ Orenco\, 6125 NE Cornell Rd.\, Hillsboro\, OR\, 97124\, United States
ATTACH;FMTTYPE=image/jpeg:https://roseandferncellars.com/wp-content/uploads/2023/03/BFD7A441-F3F8-4C07-8A62-509312049C0E.jpeg
END:VEVENT
BEGIN:VEVENT
DTSTART;TZID=America/Los_Angeles:20241019T100000
DTEND;TZID=America/Los_Angeles:20241019T140000
DTSTAMP:20260421T164638
CREATED:20240919T165344Z
LAST-MODIFIED:20240919T170427Z
UID:3738-1729332000-1729346400@roseandferncellars.com
SUMMARY:Happy Valley Farmers Market
DESCRIPTION:Free wine tasting and sales of our wonderful Oregon wines by the bottle. The next time we will be at Happy Valley is Saturday\, November 23rd\, the week before Thanksgiving.
URL:https://roseandferncellars.com/event/happy-valley-farmers-market-36/
LOCATION:Happy Valley Farmers Market\, 13231 Sunnyside Rd.\, Happy Valley\, OR\, United States
ATTACH;FMTTYPE=image/jpeg:https://roseandferncellars.com/wp-content/uploads/2023/05/IMG_5034.jpeg
END:VEVENT
BEGIN:VEVENT
DTSTART;TZID=America/Los_Angeles:20241019T090000
DTEND;TZID=America/Los_Angeles:20241019T130000
DTSTAMP:20260421T164638
CREATED:20240919T165603Z
LAST-MODIFIED:20240919T165603Z
UID:3740-1729328400-1729342800@roseandferncellars.com
SUMMARY:Hillsboro Farmers Market
DESCRIPTION:Free wine tasting and sales of our wonderful Oregon wines by the bottle.
URL:https://roseandferncellars.com/event/hillsboro-farmers-market-42/
LOCATION:Hillsboro Farmers Market\, Main Street (Downtown)\, Hillsboro\, OR\, United States
ATTACH;FMTTYPE=image/jpeg:https://roseandferncellars.com/wp-content/uploads/2023/02/B334FA7C-995F-494D-8903-F096E0FD635F-scaled.jpeg
END:VEVENT
BEGIN:VEVENT
DTSTART;TZID=America/Los_Angeles:20241019T083000
DTEND;TZID=America/Los_Angeles:20241019T133000
DTSTAMP:20260421T164638
CREATED:20240919T165157Z
LAST-MODIFIED:20240919T165157Z
UID:3736-1729326600-1729344600@roseandferncellars.com
SUMMARY:Beaverton Farmers Market
DESCRIPTION:Free wine tasting and sales of our wonderful Oregon wines by the bottle.
URL:https://roseandferncellars.com/event/beaverton-farmers-market-63/
LOCATION:Beaverton Farmers Market\, 12375 SW 5th Street\, Beaverton\, OR\, United States
ATTACH;FMTTYPE=image/png:https://roseandferncellars.com/wp-content/uploads/2022/11/1FD2A991-5B91-41C3-9C58-8FCA84080916.png
END:VEVENT
BEGIN:VEVENT
DTSTART;TZID=America/Los_Angeles:20241013T100000
DTEND;TZID=America/Los_Angeles:20241013T140000
DTSTAMP:20260421T164638
CREATED:20240919T165018Z
LAST-MODIFIED:20240919T165018Z
UID:3734-1728813600-1728828000@roseandferncellars.com
SUMMARY:Orenco Farmers Market
DESCRIPTION:Free wine tasting and sales of our wonderful Oregon wines by the bottle.
URL:https://roseandferncellars.com/event/orenco-farmers-market-6/
LOCATION:Hillsboro Farmers Market @ Orenco\, 6125 NE Cornell Rd.\, Hillsboro\, OR\, 97124\, United States
ATTACH;FMTTYPE=image/jpeg:https://roseandferncellars.com/wp-content/uploads/2023/03/BFD7A441-F3F8-4C07-8A62-509312049C0E.jpeg
END:VEVENT
BEGIN:VEVENT
DTSTART;TZID=America/Los_Angeles:20241012T100000
DTEND;TZID=America/Los_Angeles:20241012T140000
DTSTAMP:20260421T164638
CREATED:20240919T164712Z
LAST-MODIFIED:20240919T164731Z
UID:3729-1728727200-1728741600@roseandferncellars.com
SUMMARY:Happy Valley Farmers Market
DESCRIPTION:Free wine tasting and sales of our wonderful Oregon wines by the bottle.
URL:https://roseandferncellars.com/event/happy-valley-farmers-marekt/
LOCATION:Happy Valley Farmers Market\, 13231 Sunnyside Rd.\, Happy Valley\, OR\, United States
ATTACH;FMTTYPE=image/jpeg:https://roseandferncellars.com/wp-content/uploads/2023/05/IMG_5034.jpeg
END:VEVENT
BEGIN:VEVENT
DTSTART;TZID=America/Los_Angeles:20241012T090000
DTEND;TZID=America/Los_Angeles:20241012T130000
DTSTAMP:20260421T164638
CREATED:20240919T164849Z
LAST-MODIFIED:20240919T164849Z
UID:3732-1728723600-1728738000@roseandferncellars.com
SUMMARY:Hillsboro Farmers Market
DESCRIPTION:Free wine tasting and sales of our wonderful Oregon wines by the bottle.
URL:https://roseandferncellars.com/event/hillsboro-farmers-market-41/
LOCATION:Hillsboro Farmers Market\, Main Street (Downtown)\, Hillsboro\, OR\, United States
ATTACH;FMTTYPE=image/jpeg:https://roseandferncellars.com/wp-content/uploads/2023/02/B334FA7C-995F-494D-8903-F096E0FD635F-scaled.jpeg
END:VEVENT
BEGIN:VEVENT
DTSTART;TZID=America/Los_Angeles:20241012T083000
DTEND;TZID=America/Los_Angeles:20241012T133000
DTSTAMP:20260421T164638
CREATED:20240919T164602Z
LAST-MODIFIED:20240919T164602Z
UID:3727-1728721800-1728739800@roseandferncellars.com
SUMMARY:Beaverton Farmers Market
DESCRIPTION:Free wine tasting and sales of our wonderful Oregon wines by the bottle.
URL:https://roseandferncellars.com/event/beaverton-farmers-market-62/
LOCATION:Beaverton Farmers Market\, 12375 SW 5th Street\, Beaverton\, OR\, United States
ATTACH;FMTTYPE=image/png:https://roseandferncellars.com/wp-content/uploads/2022/11/1FD2A991-5B91-41C3-9C58-8FCA84080916.png
END:VEVENT
BEGIN:VEVENT
DTSTART;TZID=America/Los_Angeles:20241006T100000
DTEND;TZID=America/Los_Angeles:20241006T140000
DTSTAMP:20260421T164638
CREATED:20240919T164307Z
LAST-MODIFIED:20240919T170608Z
UID:3725-1728208800-1728223200@roseandferncellars.com
SUMMARY:Woodstock Farmers Market
DESCRIPTION:Free wine tasting and sales of our wonderful Oregon wines by the bottle. The next time we will be at the Woodstock Farmers Market November 24\, the Sunday before Thanksgiving.
URL:https://roseandferncellars.com/event/woodstock-farmers-market-13/
LOCATION:Woodstock Farmers Market\, 4600 SE Woodstock Blvd.\, Portland\, OR\, United States
ATTACH;FMTTYPE=image/png:https://roseandferncellars.com/wp-content/uploads/2024/05/IMG_0763.png
END:VEVENT
BEGIN:VEVENT
DTSTART;TZID=America/Los_Angeles:20241006T100000
DTEND;TZID=America/Los_Angeles:20241006T140000
DTSTAMP:20260421T164638
CREATED:20240919T164016Z
LAST-MODIFIED:20240919T164016Z
UID:3723-1728208800-1728223200@roseandferncellars.com
SUMMARY:Orenco Farmers Market
DESCRIPTION:Free wine tasting and sales of our wonderful Oregon wines by the bottle.
URL:https://roseandferncellars.com/event/orenco-farmers-market-5/
LOCATION:Hillsboro Farmers Market @ Orenco\, 6125 NE Cornell Rd.\, Hillsboro\, OR\, 97124\, United States
ATTACH;FMTTYPE=image/jpeg:https://roseandferncellars.com/wp-content/uploads/2023/03/BFD7A441-F3F8-4C07-8A62-509312049C0E.jpeg
END:VEVENT
BEGIN:VEVENT
DTSTART;TZID=America/Los_Angeles:20241005T100000
DTEND;TZID=America/Los_Angeles:20241005T140000
DTSTAMP:20260421T164638
CREATED:20240919T163733Z
LAST-MODIFIED:20240919T163733Z
UID:3719-1728122400-1728136800@roseandferncellars.com
SUMMARY:Happy Valley Farmers Market
DESCRIPTION:Free wine tasting and sales of our wonderful Oregon wines by the bottle.
URL:https://roseandferncellars.com/event/happy-valley-farmers-market-35/
LOCATION:Happy Valley Farmers Market\, 13231 Sunnyside Rd.\, Happy Valley\, OR\, United States
ATTACH;FMTTYPE=image/jpeg:https://roseandferncellars.com/wp-content/uploads/2023/05/IMG_5034.jpeg
END:VEVENT
BEGIN:VEVENT
DTSTART;TZID=America/Los_Angeles:20241005T090000
DTEND;TZID=America/Los_Angeles:20241005T130000
DTSTAMP:20260421T164638
CREATED:20240919T163856Z
LAST-MODIFIED:20240919T163856Z
UID:3721-1728118800-1728133200@roseandferncellars.com
SUMMARY:Hillsboro Farmers Market
DESCRIPTION:Free wine tasting and sales of our wonderful Oregon wines by the bottle.
URL:https://roseandferncellars.com/event/hillsboro-farmers-market-40/
LOCATION:Hillsboro Farmers Market\, Main Street (Downtown)\, Hillsboro\, OR\, United States
ATTACH;FMTTYPE=image/jpeg:https://roseandferncellars.com/wp-content/uploads/2023/02/B334FA7C-995F-494D-8903-F096E0FD635F-scaled.jpeg
END:VEVENT
BEGIN:VEVENT
DTSTART;TZID=America/Los_Angeles:20241005T083000
DTEND;TZID=America/Los_Angeles:20241005T133000
DTSTAMP:20260421T164638
CREATED:20240919T163541Z
LAST-MODIFIED:20240919T163541Z
UID:3717-1728117000-1728135000@roseandferncellars.com
SUMMARY:Beaverton Farmers Market
DESCRIPTION:Free wine tasting and sales of our wonderful Oregon wines by the bottle.
URL:https://roseandferncellars.com/event/beaverton-farmers-market-61/
LOCATION:Beaverton Farmers Market\, 12375 SW 5th Street\, Beaverton\, OR\, United States
ATTACH;FMTTYPE=image/png:https://roseandferncellars.com/wp-content/uploads/2022/11/1FD2A991-5B91-41C3-9C58-8FCA84080916.png
END:VEVENT
BEGIN:VEVENT
DTSTART;TZID=America/Los_Angeles:20240929T100000
DTEND;TZID=America/Los_Angeles:20240929T140000
DTSTAMP:20260421T164638
CREATED:20240912T175820Z
LAST-MODIFIED:20240912T175820Z
UID:3711-1727604000-1727618400@roseandferncellars.com
SUMMARY:Orenco Farmers Market
DESCRIPTION:Free wine tasting and sales of our wonderful Oregon wines by the bottle
URL:https://roseandferncellars.com/event/orenco-farmers-market-4/
LOCATION:Hillsboro Farmers Market @ Orenco\, 6125 NE Cornell Rd.\, Hillsboro\, OR\, 97124\, United States
ATTACH;FMTTYPE=image/jpeg:https://roseandferncellars.com/wp-content/uploads/2023/03/BFD7A441-F3F8-4C07-8A62-509312049C0E.jpeg
END:VEVENT
BEGIN:VEVENT
DTSTART;TZID=America/Los_Angeles:20240928T100000
DTEND;TZID=America/Los_Angeles:20240928T140000
DTSTAMP:20260421T164638
CREATED:20240912T171459Z
LAST-MODIFIED:20240912T171459Z
UID:3693-1727517600-1727532000@roseandferncellars.com
SUMMARY:Happy Valley Farmers Market
DESCRIPTION:Free wine tasting and sales of our wonderful Oregon wines by the bottle
URL:https://roseandferncellars.com/event/happy-valley-farmers-market-34/
LOCATION:Happy Valley Farmers Market\, 13231 Sunnyside Rd.\, Happy Valley\, OR\, United States
ATTACH;FMTTYPE=image/jpeg:https://roseandferncellars.com/wp-content/uploads/2023/05/IMG_5034.jpeg
END:VEVENT
BEGIN:VEVENT
DTSTART;TZID=America/Los_Angeles:20240928T090000
DTEND;TZID=America/Los_Angeles:20240928T130000
DTSTAMP:20260421T164638
CREATED:20240912T174524Z
LAST-MODIFIED:20240912T174524Z
UID:3705-1727514000-1727528400@roseandferncellars.com
SUMMARY:Hillsboro Farmers Market
DESCRIPTION:Free wine tasting and sales of our wonderful Oregon wines by the bottle
URL:https://roseandferncellars.com/event/hillsboro-farmers-market-39/
LOCATION:Hillsboro Farmers Market\, Main Street (Downtown)\, Hillsboro\, OR\, United States
ATTACH;FMTTYPE=image/jpeg:https://roseandferncellars.com/wp-content/uploads/2023/02/B334FA7C-995F-494D-8903-F096E0FD635F-scaled.jpeg
END:VEVENT
BEGIN:VEVENT
DTSTART;TZID=America/Los_Angeles:20240928T083000
DTEND;TZID=America/Los_Angeles:20240928T133000
DTSTAMP:20260421T164638
CREATED:20240912T173254Z
LAST-MODIFIED:20240912T173254Z
UID:3699-1727512200-1727530200@roseandferncellars.com
SUMMARY:Beaverton Farmers Market
DESCRIPTION:Free wine tasting and sales of our wonderful Oregon wines by the bottle
URL:https://roseandferncellars.com/event/beaverton-farmers-market-60/
LOCATION:Beaverton Farmers Market\, 12375 SW 5th Street\, Beaverton\, OR\, United States
ATTACH;FMTTYPE=image/png:https://roseandferncellars.com/wp-content/uploads/2022/11/1FD2A991-5B91-41C3-9C58-8FCA84080916.png
END:VEVENT
BEGIN:VEVENT
DTSTART;TZID=America/Los_Angeles:20240922T100000
DTEND;TZID=America/Los_Angeles:20240922T140000
DTSTAMP:20260421T164638
CREATED:20240912T175655Z
LAST-MODIFIED:20240912T175655Z
UID:3709-1726999200-1727013600@roseandferncellars.com
SUMMARY:Orenco Farmers Market
DESCRIPTION:Free wine tasting and sales of our wonderful Oregon wines by the bottle
URL:https://roseandferncellars.com/event/orenco-farmers-market-3/
LOCATION:Hillsboro Farmers Market @ Orenco\, 6125 NE Cornell Rd.\, Hillsboro\, OR\, 97124\, United States
ATTACH;FMTTYPE=image/jpeg:https://roseandferncellars.com/wp-content/uploads/2023/03/BFD7A441-F3F8-4C07-8A62-509312049C0E.jpeg
END:VEVENT
BEGIN:VEVENT
DTSTART;TZID=America/Los_Angeles:20240922T100000
DTEND;TZID=America/Los_Angeles:20240922T140000
DTSTAMP:20260421T164638
CREATED:20240912T170447Z
LAST-MODIFIED:20240912T170447Z
UID:3687-1726999200-1727013600@roseandferncellars.com
SUMMARY:Woodstock Farmers Market
DESCRIPTION:Free wine tasting and sales of our wonderful Oregon wines by the bottle
URL:https://roseandferncellars.com/event/woodstock-farmers-market-12/
LOCATION:Woodstock Farmers Market\, 4600 SE Woodstock Blvd.\, Portland\, OR\, United States
ATTACH;FMTTYPE=image/png:https://roseandferncellars.com/wp-content/uploads/2024/05/IMG_0763.png
END:VEVENT
BEGIN:VEVENT
DTSTART;TZID=America/Los_Angeles:20240921T100000
DTEND;TZID=America/Los_Angeles:20240921T140000
DTSTAMP:20260421T164638
CREATED:20240912T171256Z
LAST-MODIFIED:20240912T171256Z
UID:3691-1726912800-1726927200@roseandferncellars.com
SUMMARY:Happy Valley Farmers Market
DESCRIPTION:Free wine tasting and sales of our wonderful Oregon wines by the bottle
URL:https://roseandferncellars.com/event/happy-valley-farmers-market-33/
LOCATION:Happy Valley Farmers Market\, 13231 Sunnyside Rd.\, Happy Valley\, OR\, United States
ATTACH;FMTTYPE=image/jpeg:https://roseandferncellars.com/wp-content/uploads/2023/05/IMG_5034.jpeg
END:VEVENT
BEGIN:VEVENT
DTSTART;TZID=America/Los_Angeles:20240921T090000
DTEND;TZID=America/Los_Angeles:20240921T130000
DTSTAMP:20260421T164638
CREATED:20240912T174413Z
LAST-MODIFIED:20240912T174413Z
UID:3703-1726909200-1726923600@roseandferncellars.com
SUMMARY:Hillsboro Farmers Market
DESCRIPTION:Free wine tasting and sales of our wonderful Oregon wines by the bottle
URL:https://roseandferncellars.com/event/hillsboro-farmers-market-38/
LOCATION:Hillsboro Farmers Market\, Main Street (Downtown)\, Hillsboro\, OR\, United States
ATTACH;FMTTYPE=image/jpeg:https://roseandferncellars.com/wp-content/uploads/2023/02/B334FA7C-995F-494D-8903-F096E0FD635F-scaled.jpeg
END:VEVENT
END:VCALENDAR