BEGIN:VCALENDAR
VERSION:2.0
PRODID:-//Rose and Fern Cellars - ECPv6.15.20//NONSGML v1.0//EN
CALSCALE:GREGORIAN
METHOD:PUBLISH
X-WR-CALNAME:Rose and Fern Cellars
X-ORIGINAL-URL:https://roseandferncellars.com
X-WR-CALDESC:Events for Rose and Fern Cellars
REFRESH-INTERVAL;VALUE=DURATION:PT1H
X-Robots-Tag:noindex
X-PUBLISHED-TTL:PT1H
BEGIN:VTIMEZONE
TZID:America/Los_Angeles
BEGIN:DAYLIGHT
TZOFFSETFROM:-0800
TZOFFSETTO:-0700
TZNAME:PDT
DTSTART:20220313T100000
END:DAYLIGHT
BEGIN:STANDARD
TZOFFSETFROM:-0700
TZOFFSETTO:-0800
TZNAME:PST
DTSTART:20221106T090000
END:STANDARD
BEGIN:DAYLIGHT
TZOFFSETFROM:-0800
TZOFFSETTO:-0700
TZNAME:PDT
DTSTART:20230312T100000
END:DAYLIGHT
BEGIN:STANDARD
TZOFFSETFROM:-0700
TZOFFSETTO:-0800
TZNAME:PST
DTSTART:20231105T090000
END:STANDARD
BEGIN:DAYLIGHT
TZOFFSETFROM:-0800
TZOFFSETTO:-0700
TZNAME:PDT
DTSTART:20240310T100000
END:DAYLIGHT
BEGIN:STANDARD
TZOFFSETFROM:-0700
TZOFFSETTO:-0800
TZNAME:PST
DTSTART:20241103T090000
END:STANDARD
END:VTIMEZONE
BEGIN:VEVENT
DTSTART;TZID=America/Los_Angeles:20230722T090000
DTEND;TZID=America/Los_Angeles:20230722T130000
DTSTAMP:20260424T052225
CREATED:20230627T233606Z
LAST-MODIFIED:20230627T233606Z
UID:3381-1690016400-1690030800@roseandferncellars.com
SUMMARY:Hillsboro Farmers Market
DESCRIPTION:FREE wine tasting and sales of our wonderful Oregon wines Saturdays through October 28.
URL:https://roseandferncellars.com/event/hillsboro-farmers-market-9/
LOCATION:Hillsboro Farmers Market\, Main Street (Downtown)\, Hillsboro\, OR\, United States
ATTACH;FMTTYPE=image/jpeg:https://roseandferncellars.com/wp-content/uploads/2023/02/B334FA7C-995F-494D-8903-F096E0FD635F-scaled.jpeg
END:VEVENT
BEGIN:VEVENT
DTSTART;TZID=America/Los_Angeles:20230720T160000
DTEND;TZID=America/Los_Angeles:20230720T190000
DTSTAMP:20260424T052225
CREATED:20230616T174715Z
LAST-MODIFIED:20230616T174715Z
UID:3225-1689868800-1689879600@roseandferncellars.com
SUMMARY:Hawthorne Farmers Market
DESCRIPTION:FREE wine tasting and sales of our wonderful Oregon wines Thursdays through August 31.
URL:https://roseandferncellars.com/event/hawthorne-farmers-market-8/
LOCATION:Hawthorne Farmers Market\, 1137 SE 20th Avenue\, Portland
ATTACH;FMTTYPE=image/jpeg:https://roseandferncellars.com/wp-content/uploads/2023/05/IMG_5035.jpeg
END:VEVENT
BEGIN:VEVENT
DTSTART;TZID=America/Los_Angeles:20230716T100000
DTEND;TZID=America/Los_Angeles:20230716T140000
DTSTAMP:20260424T052225
CREATED:20230616T175908Z
LAST-MODIFIED:20230616T175908Z
UID:3242-1689501600-1689516000@roseandferncellars.com
SUMMARY:Hillsboro Farmers Market at Orenco
DESCRIPTION:FREE wine tasting and sales of our wonderful Oregon wines Sundays through August 27. Check this site for additional Fall events at Orenco.
URL:https://roseandferncellars.com/event/hillsboro-farmers-market-at-orenco-6/
LOCATION:Hillsboro Farmers Market @ Orenco\, 6125 NE Cornell Rd.\, Hillsboro\, OR\, 97124\, United States
ATTACH;FMTTYPE=image/jpeg:https://roseandferncellars.com/wp-content/uploads/2023/03/BFD7A441-F3F8-4C07-8A62-509312049C0E.jpeg
END:VEVENT
BEGIN:VEVENT
DTSTART;TZID=America/Los_Angeles:20230715T090000
DTEND;TZID=America/Los_Angeles:20230715T140000
DTSTAMP:20260424T052225
CREATED:20230616T214111Z
LAST-MODIFIED:20230616T214111Z
UID:3286-1689411600-1689429600@roseandferncellars.com
SUMMARY:Happy Valley Farmers Market
DESCRIPTION:FREE wine tasting and sales of our wonderful Oregon wines Saturdays through October 28.
URL:https://roseandferncellars.com/event/happy-valley-farmers-market-8/
LOCATION:Happy Valley Farmers Market\, 13231 Sunnyside Rd.\, Happy Valley\, OR\, United States
ATTACH;FMTTYPE=image/jpeg:https://roseandferncellars.com/wp-content/uploads/2023/05/IMG_5034.jpeg
END:VEVENT
BEGIN:VEVENT
DTSTART;TZID=America/Los_Angeles:20230715T090000
DTEND;TZID=America/Los_Angeles:20230715T130000
DTSTAMP:20260424T052225
CREATED:20230627T233337Z
LAST-MODIFIED:20230627T233337Z
UID:3379-1689411600-1689426000@roseandferncellars.com
SUMMARY:Hillsboro Farmers Market
DESCRIPTION:FREE wine tasting and sales of our wonderful Oregon wines Saturdays through October 28.
URL:https://roseandferncellars.com/event/hillsboro-farmers-market-8/
LOCATION:Hillsboro Farmers Market\, Main Street (Downtown)\, Hillsboro\, OR\, United States
ATTACH;FMTTYPE=image/jpeg:https://roseandferncellars.com/wp-content/uploads/2023/02/B334FA7C-995F-494D-8903-F096E0FD635F-scaled.jpeg
END:VEVENT
BEGIN:VEVENT
DTSTART;TZID=America/Los_Angeles:20230715T083000
DTEND;TZID=America/Los_Angeles:20230715T133000
DTSTAMP:20260424T052225
CREATED:20230627T232121Z
LAST-MODIFIED:20230627T232121Z
UID:3373-1689409800-1689427800@roseandferncellars.com
SUMMARY:Beaverton Farmers Market
DESCRIPTION:FREE wine tasting and sales of our wonderful Oregon wines Saturdays through November 18.
URL:https://roseandferncellars.com/event/beaverton-farmers-market-37/
LOCATION:Beaverton Farmers Market\, 12375 SW 5th Street\, Beaverton\, OR\, United States
ATTACH;FMTTYPE=image/png:https://roseandferncellars.com/wp-content/uploads/2022/11/1FD2A991-5B91-41C3-9C58-8FCA84080916.png
END:VEVENT
BEGIN:VEVENT
DTSTART;TZID=America/Los_Angeles:20230713T160000
DTEND;TZID=America/Los_Angeles:20230713T190000
DTSTAMP:20260424T052225
CREATED:20230616T174544Z
LAST-MODIFIED:20230616T174544Z
UID:3222-1689264000-1689274800@roseandferncellars.com
SUMMARY:Hawthorne Farmers Market
DESCRIPTION:FREE wine tasting and sales of our wonderful Oregon wines Thursdays through August 31.
URL:https://roseandferncellars.com/event/hawthorne-farmers-market-7/
LOCATION:Hawthorne Farmers Market\, 1137 SE 20th Avenue\, Portland
ATTACH;FMTTYPE=image/jpeg:https://roseandferncellars.com/wp-content/uploads/2023/05/IMG_5035.jpeg
END:VEVENT
BEGIN:VEVENT
DTSTART;TZID=America/Los_Angeles:20230709T100000
DTEND;TZID=America/Los_Angeles:20230709T140000
DTSTAMP:20260424T052225
CREATED:20230616T175749Z
LAST-MODIFIED:20230616T175749Z
UID:3240-1688896800-1688911200@roseandferncellars.com
SUMMARY:Hillsboro Farmers Market at Orenco
DESCRIPTION:FREE wine tasting and sales of our wonderful Oregon wines Sundays through August 27. Check this site for additional Fall events at Orenco.
URL:https://roseandferncellars.com/event/hillsboro-farmers-market-at-orenco-5/
LOCATION:Hillsboro Farmers Market @ Orenco\, 6125 NE Cornell Rd.\, Hillsboro\, OR\, 97124\, United States
ATTACH;FMTTYPE=image/jpeg:https://roseandferncellars.com/wp-content/uploads/2023/03/BFD7A441-F3F8-4C07-8A62-509312049C0E.jpeg
END:VEVENT
BEGIN:VEVENT
DTSTART;TZID=America/Los_Angeles:20230708T090000
DTEND;TZID=America/Los_Angeles:20230708T140000
DTSTAMP:20260424T052225
CREATED:20230616T213946Z
LAST-MODIFIED:20230616T213946Z
UID:3284-1688806800-1688824800@roseandferncellars.com
SUMMARY:Happy Valley Farmers Market
DESCRIPTION:FREE wine tasting and sales of our wonderful Oregon wines Saturdays through October 28.
URL:https://roseandferncellars.com/event/happy-valley-farmers-market-7/
LOCATION:Happy Valley Farmers Market\, 13231 Sunnyside Rd.\, Happy Valley\, OR\, United States
ATTACH;FMTTYPE=image/jpeg:https://roseandferncellars.com/wp-content/uploads/2023/05/IMG_5034.jpeg
END:VEVENT
BEGIN:VEVENT
DTSTART;TZID=America/Los_Angeles:20230708T090000
DTEND;TZID=America/Los_Angeles:20230708T130000
DTSTAMP:20260424T052225
CREATED:20230627T233206Z
LAST-MODIFIED:20230627T233459Z
UID:3377-1688806800-1688821200@roseandferncellars.com
SUMMARY:Hillsboro Farmers Market
DESCRIPTION:FREE wine tasting and sales of our wonderful Oregon wines Saturdays through October 28.
URL:https://roseandferncellars.com/event/hillsboro-farmers-market-7/
LOCATION:Hillsboro Farmers Market\, Main Street (Downtown)\, Hillsboro\, OR\, United States
ATTACH;FMTTYPE=image/jpeg:https://roseandferncellars.com/wp-content/uploads/2023/02/B334FA7C-995F-494D-8903-F096E0FD635F-scaled.jpeg
END:VEVENT
BEGIN:VEVENT
DTSTART;TZID=America/Los_Angeles:20230708T083000
DTEND;TZID=America/Los_Angeles:20230708T133000
DTSTAMP:20260424T052225
CREATED:20230627T232249Z
LAST-MODIFIED:20230627T232249Z
UID:3375-1688805000-1688823000@roseandferncellars.com
SUMMARY:Beaverton Farmers Market
DESCRIPTION:FREE wine tasting and sales of our wonderful Oregon wines Saturdays through November 18.
URL:https://roseandferncellars.com/event/beaverton-farmers-market-38/
LOCATION:Beaverton Farmers Market\, 12375 SW 5th Street\, Beaverton\, OR\, United States
ATTACH;FMTTYPE=image/png:https://roseandferncellars.com/wp-content/uploads/2022/11/1FD2A991-5B91-41C3-9C58-8FCA84080916.png
END:VEVENT
BEGIN:VEVENT
DTSTART;TZID=America/Los_Angeles:20230707T160000
DTEND;TZID=America/Los_Angeles:20230707T193000
DTSTAMP:20260424T052225
CREATED:20230616T212412Z
LAST-MODIFIED:20230616T212412Z
UID:3275-1688745600-1688758200@roseandferncellars.com
SUMMARY:Creators & Curators 1st Friday Sip & Shop
DESCRIPTION:Every 1st Friday of the month at Milwaukie Floral & Garden is the place you want to be. We offer FREE wine tasting and sales by the glass and by the bottle. Visit guest vendor booths\, buy flowers\, plants and more for your garden and a wide selection of unique gift items.
URL:https://roseandferncellars.com/event/creators-curators-1st-friday-sip-shop-2/
LOCATION:Milwaukie Floral & Garden\, 3306 SE Lake Road\, Milwaukie\, OR\, United States
ATTACH;FMTTYPE=image/jpeg:https://roseandferncellars.com/wp-content/uploads/2023/06/CDAB377D-FA99-4CB4-B3C6-B0C5F67BC87C.jpeg
END:VEVENT
BEGIN:VEVENT
DTSTART;TZID=America/Los_Angeles:20230706T160000
DTEND;TZID=America/Los_Angeles:20230706T190000
DTSTAMP:20260424T052225
CREATED:20230616T174422Z
LAST-MODIFIED:20230616T174422Z
UID:3220-1688659200-1688670000@roseandferncellars.com
SUMMARY:Hawthorne Farmers Market
DESCRIPTION:FREE wine tasting and sales of our wonderful Oregon wines Thursdays through August 31.
URL:https://roseandferncellars.com/event/hawthorne-farmers-market-6/
LOCATION:Hawthorne Farmers Market\, 1137 SE 20th Avenue\, Portland
ATTACH;FMTTYPE=image/jpeg:https://roseandferncellars.com/wp-content/uploads/2023/05/IMG_5035.jpeg
END:VEVENT
BEGIN:VEVENT
DTSTART;TZID=America/Los_Angeles:20230701T090000
DTEND;TZID=America/Los_Angeles:20230701T140000
DTSTAMP:20260424T052225
CREATED:20230614T224314Z
LAST-MODIFIED:20230614T224314Z
UID:3202-1688202000-1688220000@roseandferncellars.com
SUMMARY:Happy Valley Farmers Market
DESCRIPTION:FREE wine tasting and sales of our wonderful Oregon wines Saturdays through October 28.
URL:https://roseandferncellars.com/event/happy-valley-farmers-market-6/
LOCATION:Happy Valley Farmers Market\, 13231 Sunnyside Rd.\, Happy Valley\, OR\, United States
ATTACH;FMTTYPE=image/jpeg:https://roseandferncellars.com/wp-content/uploads/2023/05/IMG_5034.jpeg
END:VEVENT
BEGIN:VEVENT
DTSTART;TZID=America/Los_Angeles:20230701T090000
DTEND;TZID=America/Los_Angeles:20230701T130000
DTSTAMP:20260424T052225
CREATED:20230614T225136Z
LAST-MODIFIED:20230614T225136Z
UID:3210-1688202000-1688216400@roseandferncellars.com
SUMMARY:Hillsboro Farmers Market
DESCRIPTION:FREE wine tasting and sales of our wonderful Oregon wines Saturdays through October 28.
URL:https://roseandferncellars.com/event/hillsboro-farmers-market-6/
LOCATION:Hillsboro Farmers Market\, Main Street (Downtown)\, Hillsboro\, OR\, United States
ATTACH;FMTTYPE=image/jpeg:https://roseandferncellars.com/wp-content/uploads/2023/02/B334FA7C-995F-494D-8903-F096E0FD635F-scaled.jpeg
END:VEVENT
BEGIN:VEVENT
DTSTART;TZID=America/Los_Angeles:20230701T083000
DTEND;TZID=America/Los_Angeles:20230701T133000
DTSTAMP:20260424T052225
CREATED:20230614T224737Z
LAST-MODIFIED:20230614T224737Z
UID:3206-1688200200-1688218200@roseandferncellars.com
SUMMARY:Beaverton Farmers Market
DESCRIPTION:FREE wine tasting and sales of our wonderful Oregon wines Saturdays through November 18.
URL:https://roseandferncellars.com/event/beaverton-farmers-market-18/
LOCATION:Beaverton Farmers Market\, 12375 SW 5th Street\, Beaverton\, OR\, United States
ATTACH;FMTTYPE=image/png:https://roseandferncellars.com/wp-content/uploads/2022/11/1FD2A991-5B91-41C3-9C58-8FCA84080916.png
END:VEVENT
BEGIN:VEVENT
DTSTART;TZID=America/Los_Angeles:20230630T100000
DTEND;TZID=America/Los_Angeles:20230630T160000
DTSTAMP:20260424T052225
CREATED:20230628T003218Z
LAST-MODIFIED:20230628T003254Z
UID:3419-1688119200-1688140800@roseandferncellars.com
SUMMARY:Cherry Park Farmers Market
DESCRIPTION:We’ll be offering free wine tasting and sales by the bottle. There will be live music\, food and wide variety of vendors.
URL:https://roseandferncellars.com/event/cherry-park-farmers-market/
LOCATION:Cherry Park Plaza 1323 SW Cherry Park Rd Troutdale\, 1323 SW Cherry Park Rd\, Troutdale
END:VEVENT
BEGIN:VEVENT
DTSTART;TZID=America/Los_Angeles:20230629T160000
DTEND;TZID=America/Los_Angeles:20230629T190000
DTSTAMP:20260424T052225
CREATED:20230614T223825Z
LAST-MODIFIED:20230614T225857Z
UID:3197-1688054400-1688065200@roseandferncellars.com
SUMMARY:Hawthorne Farmers Market
DESCRIPTION:FREE wine tasting and sales of our wonderful Oregon wines Thursdays through August 31.
URL:https://roseandferncellars.com/event/hawthorne-farmers-market-5/
LOCATION:Hawthorne Farmers Market\, 1137 SE 20th Avenue\, Portland
ATTACH;FMTTYPE=image/jpeg:https://roseandferncellars.com/wp-content/uploads/2023/05/IMG_5035.jpeg
END:VEVENT
BEGIN:VEVENT
DTSTART;TZID=America/Los_Angeles:20230625T100000
DTEND;TZID=America/Los_Angeles:20230625T140000
DTSTAMP:20260424T052225
CREATED:20230614T225722Z
LAST-MODIFIED:20230614T225722Z
UID:3214-1687687200-1687701600@roseandferncellars.com
SUMMARY:Woodstock Farmers Market
DESCRIPTION:FREE wine tasting and sales of our wonderful Oregon wines.
URL:https://roseandferncellars.com/event/woodstock-farmers-market-2/
LOCATION:Woodstock Farmers Market\, 4600 SE Woodstock Blvd.\, Portland\, OR\, United States
END:VEVENT
BEGIN:VEVENT
DTSTART;TZID=America/Los_Angeles:20230625T100000
DTEND;TZID=America/Los_Angeles:20230625T140000
DTSTAMP:20260424T052225
CREATED:20230614T225329Z
LAST-MODIFIED:20230614T225329Z
UID:3212-1687687200-1687701600@roseandferncellars.com
SUMMARY:Hillsboro Farmers Market at Orenco
DESCRIPTION:FREE wine tasting and sales of our wonderful Oregon wines Sundays through August 27. Check this site for additional Fall events at Orenco.
URL:https://roseandferncellars.com/event/hillsboro-farmers-market-at-orenco-4/
LOCATION:Hillsboro Farmers Market @ Orenco\, 6125 NE Cornell Rd.\, Hillsboro\, OR\, 97124\, United States
ATTACH;FMTTYPE=image/jpeg:https://roseandferncellars.com/wp-content/uploads/2023/03/BFD7A441-F3F8-4C07-8A62-509312049C0E.jpeg
END:VEVENT
BEGIN:VEVENT
DTSTART;TZID=America/Los_Angeles:20230624T090000
DTEND;TZID=America/Los_Angeles:20230624T140000
DTSTAMP:20260424T052225
CREATED:20230614T224143Z
LAST-MODIFIED:20230614T224143Z
UID:3200-1687597200-1687615200@roseandferncellars.com
SUMMARY:Happy Valley Farmers Market
DESCRIPTION:FREE wine tasting and sales of our wonderful Oregon wines Saturdays through October 28.
URL:https://roseandferncellars.com/event/happy-valley-farmers-market-5/
LOCATION:Happy Valley Farmers Market\, 13231 Sunnyside Rd.\, Happy Valley\, OR\, United States
ATTACH;FMTTYPE=image/jpeg:https://roseandferncellars.com/wp-content/uploads/2023/05/IMG_5034.jpeg
END:VEVENT
BEGIN:VEVENT
DTSTART;TZID=America/Los_Angeles:20230624T090000
DTEND;TZID=America/Los_Angeles:20230624T130000
DTSTAMP:20260424T052225
CREATED:20230614T224951Z
LAST-MODIFIED:20230614T224951Z
UID:3208-1687597200-1687611600@roseandferncellars.com
SUMMARY:Hillsboro Farmers Market
DESCRIPTION:FREE wine tasting and sales of our wonderful Oregon wines Saturdays through October 28.
URL:https://roseandferncellars.com/event/hillsboro-farmers-market-5/
LOCATION:Hillsboro Farmers Market\, Main Street (Downtown)\, Hillsboro\, OR\, United States
ATTACH;FMTTYPE=image/jpeg:https://roseandferncellars.com/wp-content/uploads/2023/02/B334FA7C-995F-494D-8903-F096E0FD635F-scaled.jpeg
END:VEVENT
BEGIN:VEVENT
DTSTART;TZID=America/Los_Angeles:20230624T083000
DTEND;TZID=America/Los_Angeles:20230624T133000
DTSTAMP:20260424T052225
CREATED:20230614T224603Z
LAST-MODIFIED:20230614T224603Z
UID:3204-1687595400-1687613400@roseandferncellars.com
SUMMARY:Beaverton Farmers Market
DESCRIPTION:FREE wine tasting and sales of our wonderful Oregon wines Saturdays through November 18.
URL:https://roseandferncellars.com/event/beaverton-farmers-market-17/
LOCATION:Beaverton Farmers Market\, 12375 SW 5th Street\, Beaverton\, OR\, United States
ATTACH;FMTTYPE=image/png:https://roseandferncellars.com/wp-content/uploads/2022/11/1FD2A991-5B91-41C3-9C58-8FCA84080916.png
END:VEVENT
BEGIN:VEVENT
DTSTART;TZID=America/Los_Angeles:20230622T160000
DTEND;TZID=America/Los_Angeles:20230622T190000
DTSTAMP:20260424T052225
CREATED:20230614T223634Z
LAST-MODIFIED:20230614T223906Z
UID:3195-1687449600-1687460400@roseandferncellars.com
SUMMARY:Hawthorne Farmers Market
DESCRIPTION:FREE wine tasting and sales of our wonderful Oregon wines Thursdays through August 31.
URL:https://roseandferncellars.com/event/hawthorne-farmers-market-4/
LOCATION:Hawthorne Farmers Market\, 1137 SE 20th Avenue\, Portland
ATTACH;FMTTYPE=image/jpeg:https://roseandferncellars.com/wp-content/uploads/2023/05/IMG_5035.jpeg
END:VEVENT
BEGIN:VEVENT
DTSTART;TZID=America/Los_Angeles:20230618T100000
DTEND;TZID=America/Los_Angeles:20230618T140000
DTSTAMP:20260424T052225
CREATED:20230614T222311Z
LAST-MODIFIED:20230614T231021Z
UID:3185-1687082400-1687096800@roseandferncellars.com
SUMMARY:Hillsboro Farmers Market at Orenco
DESCRIPTION:FREE wine tasting and sales of our wonderful Oregon wines Sundays through August 27. Check this site for additional Fall events at Orenco.
URL:https://roseandferncellars.com/event/hillsboro-farmers-market-at-orenco-3/
LOCATION:Hillsboro Farmers Market @ Orenco\, 6125 NE Cornell Rd.\, Hillsboro\, OR\, 97124\, United States
ATTACH;FMTTYPE=image/jpeg:https://roseandferncellars.com/wp-content/uploads/2023/03/BFD7A441-F3F8-4C07-8A62-509312049C0E.jpeg
END:VEVENT
BEGIN:VEVENT
DTSTART;TZID=America/Los_Angeles:20230617T090000
DTEND;TZID=America/Los_Angeles:20230617T140000
DTSTAMP:20260424T052225
CREATED:20230614T223109Z
LAST-MODIFIED:20230614T223229Z
UID:3193-1686992400-1687010400@roseandferncellars.com
SUMMARY:Happy Valley Farmers Market
DESCRIPTION:FREE wine tasting and sales of our wonderful Oregon wines Saturdays through October 28.
URL:https://roseandferncellars.com/event/happy-valley-farmers-market-4/
LOCATION:Happy Valley Farmers Market\, 13231 Sunnyside Rd.\, Happy Valley\, OR\, United States
ATTACH;FMTTYPE=image/jpeg:https://roseandferncellars.com/wp-content/uploads/2023/05/IMG_5034.jpeg
END:VEVENT
BEGIN:VEVENT
DTSTART;TZID=America/Los_Angeles:20230617T090000
DTEND;TZID=America/Los_Angeles:20230617T130000
DTSTAMP:20260424T052225
CREATED:20230614T222858Z
LAST-MODIFIED:20230614T223302Z
UID:3191-1686992400-1687006800@roseandferncellars.com
SUMMARY:Hillsboro Farmers Market
DESCRIPTION:FREE wine tasting and sales of our wonderful Oregon wines Saturdays through October 28.
URL:https://roseandferncellars.com/event/hillsboro-farmers-market-4/
LOCATION:Hillsboro Farmers Market\, Main Street (Downtown)\, Hillsboro\, OR\, United States
ATTACH;FMTTYPE=image/jpeg:https://roseandferncellars.com/wp-content/uploads/2023/02/B334FA7C-995F-494D-8903-F096E0FD635F-scaled.jpeg
END:VEVENT
BEGIN:VEVENT
DTSTART;TZID=America/Los_Angeles:20230617T083000
DTEND;TZID=America/Los_Angeles:20230617T133000
DTSTAMP:20260424T052225
CREATED:20230614T222633Z
LAST-MODIFIED:20230614T223331Z
UID:3188-1686990600-1687008600@roseandferncellars.com
SUMMARY:Beaverton Farmers Market
DESCRIPTION:FREE wine tasting and sales of our wonderful Oregon wines Saturdays through November 18.
URL:https://roseandferncellars.com/event/beaverton-farmers-market-16/
LOCATION:Beaverton Farmers Market\, 12375 SW 5th Street\, Beaverton\, OR\, United States
ATTACH;FMTTYPE=image/png:https://roseandferncellars.com/wp-content/uploads/2022/11/1FD2A991-5B91-41C3-9C58-8FCA84080916.png
END:VEVENT
BEGIN:VEVENT
DTSTART;TZID=America/Los_Angeles:20230615T160000
DTEND;TZID=America/Los_Angeles:20230615T170000
DTSTAMP:20260424T052225
CREATED:20230531T002517Z
LAST-MODIFIED:20230531T002517Z
UID:3180-1686844800-1686848400@roseandferncellars.com
SUMMARY:Hawthorne Farmers Market
DESCRIPTION:FREE wine tasting and sales of our wonderful Oregon wines Thursdays through August 31.
URL:https://roseandferncellars.com/event/hawthorne-farmers-market-3/
LOCATION:Hawthorne Farmers Market\, 1137 SE 20th Avenue\, Portland
ATTACH;FMTTYPE=image/jpeg:https://roseandferncellars.com/wp-content/uploads/2023/05/IMG_5035.jpeg
END:VEVENT
BEGIN:VEVENT
DTSTART;TZID=America/Los_Angeles:20230611T100000
DTEND;TZID=America/Los_Angeles:20230611T140000
DTSTAMP:20260424T052225
CREATED:20230531T002244Z
LAST-MODIFIED:20230531T002244Z
UID:3178-1686477600-1686492000@roseandferncellars.com
SUMMARY:Hillsboro Farmers Market at Orenco
DESCRIPTION:FREE wine tasting and sales of our wonderful Oregon wines Sundays through August 27. Check this site for additional Fall events at Orenco.
URL:https://roseandferncellars.com/event/hillsboro-farmers-market-at-orenco-2/
LOCATION:Hillsboro Farmers Market @ Orenco\, 6125 NE Cornell Rd.\, Hillsboro\, OR\, 97124\, United States
ATTACH;FMTTYPE=image/jpeg:https://roseandferncellars.com/wp-content/uploads/2023/03/BFD7A441-F3F8-4C07-8A62-509312049C0E.jpeg
END:VEVENT
END:VCALENDAR