BEGIN:VCALENDAR
VERSION:2.0
PRODID:-//Rose and Fern Cellars - ECPv6.15.20//NONSGML v1.0//EN
CALSCALE:GREGORIAN
METHOD:PUBLISH
X-WR-CALNAME:Rose and Fern Cellars
X-ORIGINAL-URL:https://roseandferncellars.com
X-WR-CALDESC:Events for Rose and Fern Cellars
REFRESH-INTERVAL;VALUE=DURATION:PT1H
X-Robots-Tag:noindex
X-PUBLISHED-TTL:PT1H
BEGIN:VTIMEZONE
TZID:America/Los_Angeles
BEGIN:DAYLIGHT
TZOFFSETFROM:-0800
TZOFFSETTO:-0700
TZNAME:PDT
DTSTART:20220313T100000
END:DAYLIGHT
BEGIN:STANDARD
TZOFFSETFROM:-0700
TZOFFSETTO:-0800
TZNAME:PST
DTSTART:20221106T090000
END:STANDARD
BEGIN:DAYLIGHT
TZOFFSETFROM:-0800
TZOFFSETTO:-0700
TZNAME:PDT
DTSTART:20230312T100000
END:DAYLIGHT
BEGIN:STANDARD
TZOFFSETFROM:-0700
TZOFFSETTO:-0800
TZNAME:PST
DTSTART:20231105T090000
END:STANDARD
BEGIN:DAYLIGHT
TZOFFSETFROM:-0800
TZOFFSETTO:-0700
TZNAME:PDT
DTSTART:20240310T100000
END:DAYLIGHT
BEGIN:STANDARD
TZOFFSETFROM:-0700
TZOFFSETTO:-0800
TZNAME:PST
DTSTART:20241103T090000
END:STANDARD
END:VTIMEZONE
BEGIN:VEVENT
DTSTART;TZID=America/Los_Angeles:20230819T090000
DTEND;TZID=America/Los_Angeles:20230819T130000
DTSTAMP:20260424T004206
CREATED:20230627T234246Z
LAST-MODIFIED:20230627T234246Z
UID:3390-1692435600-1692450000@roseandferncellars.com
SUMMARY:Hillsboro Farmers Market
DESCRIPTION:FREE wine tasting and sales of our wonderful Oregon wines Saturdays through October 28.
URL:https://roseandferncellars.com/event/hillsboro-farmers-market-13/
LOCATION:Hillsboro Farmers Market\, Main Street (Downtown)\, Hillsboro\, OR\, United States
ATTACH;FMTTYPE=image/jpeg:https://roseandferncellars.com/wp-content/uploads/2023/02/B334FA7C-995F-494D-8903-F096E0FD635F-scaled.jpeg
END:VEVENT
BEGIN:VEVENT
DTSTART;TZID=America/Los_Angeles:20230819T083000
DTEND;TZID=America/Los_Angeles:20230819T133000
DTSTAMP:20260424T004206
CREATED:20230627T225324Z
LAST-MODIFIED:20230627T225324Z
UID:3343-1692433800-1692451800@roseandferncellars.com
SUMMARY:Beaverton Farmers Market
DESCRIPTION:FREE wine tasting and sales of our wonderful Oregon wines Saturdays through November 18.
URL:https://roseandferncellars.com/event/beaverton-farmers-market-23/
LOCATION:Beaverton Farmers Market\, 12375 SW 5th Street\, Beaverton\, OR\, United States
ATTACH;FMTTYPE=image/png:https://roseandferncellars.com/wp-content/uploads/2022/11/1FD2A991-5B91-41C3-9C58-8FCA84080916.png
END:VEVENT
BEGIN:VEVENT
DTSTART;TZID=America/Los_Angeles:20230817T160000
DTEND;TZID=America/Los_Angeles:20230817T190000
DTSTAMP:20260424T004206
CREATED:20230616T175216Z
LAST-MODIFIED:20230616T175216Z
UID:3233-1692288000-1692298800@roseandferncellars.com
SUMMARY:Hawthorne Farmers Market
DESCRIPTION:FREE wine tasting and sales of our wonderful Oregon wines Thursdays through August 31.
URL:https://roseandferncellars.com/event/hawthorne-farmers-market-12/
LOCATION:Hawthorne Farmers Market\, 1137 SE 20th Avenue\, Portland
ATTACH;FMTTYPE=image/jpeg:https://roseandferncellars.com/wp-content/uploads/2023/05/IMG_5035.jpeg
END:VEVENT
BEGIN:VEVENT
DTSTART;TZID=America/Los_Angeles:20230813T100000
DTEND;TZID=America/Los_Angeles:20230813T140000
DTSTAMP:20260424T004206
CREATED:20230616T183206Z
LAST-MODIFIED:20230616T183243Z
UID:3267-1691920800-1691935200@roseandferncellars.com
SUMMARY:Woodstock Farmers Market
DESCRIPTION:FREE wine tasting and sales of our wonderful Oregon wines. We’ll be back on September 3rd.
URL:https://roseandferncellars.com/event/woodstock-farmers-market-3/
LOCATION:Woodstock Farmers Market\, 4600 SE Woodstock Blvd.\, Portland\, OR\, United States
END:VEVENT
BEGIN:VEVENT
DTSTART;TZID=America/Los_Angeles:20230813T100000
DTEND;TZID=America/Los_Angeles:20230813T140000
DTSTAMP:20260424T004206
CREATED:20230616T181000Z
LAST-MODIFIED:20230812T035906Z
UID:3250-1691920800-1691935200@roseandferncellars.com
SUMMARY:Hillsboro Farmers Market at Orenco - CANCELLED DUE to heat
DESCRIPTION:FREE wine tasting and sales of our wonderful Oregon wines Sundays through August 27. Check this site for additional Fall events at Orenco.
URL:https://roseandferncellars.com/event/hillsboro-farmers-market-at-orenco-10/
LOCATION:Hillsboro Farmers Market @ Orenco\, 6125 NE Cornell Rd.\, Hillsboro\, OR\, 97124\, United States
ATTACH;FMTTYPE=image/jpeg:https://roseandferncellars.com/wp-content/uploads/2023/03/BFD7A441-F3F8-4C07-8A62-509312049C0E.jpeg
END:VEVENT
BEGIN:VEVENT
DTSTART;TZID=America/Los_Angeles:20230812T090000
DTEND;TZID=America/Los_Angeles:20230812T140000
DTSTAMP:20260424T004206
CREATED:20230616T235606Z
LAST-MODIFIED:20230616T235606Z
UID:3296-1691830800-1691848800@roseandferncellars.com
SUMMARY:Happy Valley Farmers Market
DESCRIPTION:FREE wine tasting and sales of our wonderful Oregon wines Saturdays through October 28.
URL:https://roseandferncellars.com/event/happy-valley-farmers-market-12/
LOCATION:Happy Valley Farmers Market\, 13231 Sunnyside Rd.\, Happy Valley\, OR\, United States
ATTACH;FMTTYPE=image/jpeg:https://roseandferncellars.com/wp-content/uploads/2023/05/IMG_5034.jpeg
END:VEVENT
BEGIN:VEVENT
DTSTART;TZID=America/Los_Angeles:20230812T090000
DTEND;TZID=America/Los_Angeles:20230812T130000
DTSTAMP:20260424T004206
CREATED:20230627T234127Z
LAST-MODIFIED:20230627T234127Z
UID:3387-1691830800-1691845200@roseandferncellars.com
SUMMARY:Hillsboro Farmers Market
DESCRIPTION:FREE wine tasting and sales of our wonderful Oregon wines Saturdays through October 28.
URL:https://roseandferncellars.com/event/hillsboro-farmers-market-12/
LOCATION:Hillsboro Farmers Market\, Main Street (Downtown)\, Hillsboro\, OR\, United States
ATTACH;FMTTYPE=image/jpeg:https://roseandferncellars.com/wp-content/uploads/2023/02/B334FA7C-995F-494D-8903-F096E0FD635F-scaled.jpeg
END:VEVENT
BEGIN:VEVENT
DTSTART;TZID=America/Los_Angeles:20230812T080000
DTEND;TZID=America/Los_Angeles:20230812T170000
DTSTAMP:20260424T004206
CREATED:20230627T225214Z
LAST-MODIFIED:20230627T225214Z
UID:3341-1691827200-1691859600@roseandferncellars.com
SUMMARY:Beaverton Farmers Market
DESCRIPTION:FREE wine tasting and sales of our wonderful Oregon wines Saturdays through November 18.
URL:https://roseandferncellars.com/event/beaverton-farmers-market-22/
LOCATION:Beaverton Farmers Market\, 12375 SW 5th Street\, Beaverton\, OR\, United States
ATTACH;FMTTYPE=image/png:https://roseandferncellars.com/wp-content/uploads/2022/11/1FD2A991-5B91-41C3-9C58-8FCA84080916.png
END:VEVENT
BEGIN:VEVENT
DTSTART;TZID=America/Los_Angeles:20230810T160000
DTEND;TZID=America/Los_Angeles:20230810T190000
DTSTAMP:20260424T004206
CREATED:20230616T175109Z
LAST-MODIFIED:20230616T175109Z
UID:3231-1691683200-1691694000@roseandferncellars.com
SUMMARY:Hawthorne Farmers Market
DESCRIPTION:FREE wine tasting and sales of our wonderful Oregon wines Thursdays through August 31.
URL:https://roseandferncellars.com/event/hawthorne-farmers-market-11/
LOCATION:Hawthorne Farmers Market\, 1137 SE 20th Avenue\, Portland
ATTACH;FMTTYPE=image/jpeg:https://roseandferncellars.com/wp-content/uploads/2023/05/IMG_5035.jpeg
END:VEVENT
BEGIN:VEVENT
DTSTART;TZID=America/Los_Angeles:20230806T100000
DTEND;TZID=America/Los_Angeles:20230806T140000
DTSTAMP:20260424T004206
CREATED:20230616T180841Z
LAST-MODIFIED:20230616T180841Z
UID:3248-1691316000-1691330400@roseandferncellars.com
SUMMARY:Hillsboro Farmers Market at Orenco
DESCRIPTION:FREE wine tasting and sales of our wonderful Oregon wines Sundays through August 27. Check this site for additional Fall events at Orenco.
URL:https://roseandferncellars.com/event/hillsboro-farmers-market-at-orenco-9/
LOCATION:Hillsboro Farmers Market @ Orenco\, 6125 NE Cornell Rd.\, Hillsboro\, OR\, 97124\, United States
ATTACH;FMTTYPE=image/jpeg:https://roseandferncellars.com/wp-content/uploads/2023/03/BFD7A441-F3F8-4C07-8A62-509312049C0E.jpeg
END:VEVENT
BEGIN:VEVENT
DTSTART;TZID=America/Los_Angeles:20230805T090000
DTEND;TZID=America/Los_Angeles:20230805T140000
DTSTAMP:20260424T004206
CREATED:20230616T235454Z
LAST-MODIFIED:20230616T235454Z
UID:3294-1691226000-1691244000@roseandferncellars.com
SUMMARY:Happy Valley Farmers Market
DESCRIPTION:FREE wine tasting and sales of our wonderful Oregon wines Saturdays through October 28.
URL:https://roseandferncellars.com/event/happy-valley-farmers-market-11/
LOCATION:Happy Valley Farmers Market\, 13231 Sunnyside Rd.\, Happy Valley\, OR\, United States
ATTACH;FMTTYPE=image/jpeg:https://roseandferncellars.com/wp-content/uploads/2023/05/IMG_5034.jpeg
END:VEVENT
BEGIN:VEVENT
DTSTART;TZID=America/Los_Angeles:20230805T090000
DTEND;TZID=America/Los_Angeles:20230805T130000
DTSTAMP:20260424T004206
CREATED:20230627T234027Z
LAST-MODIFIED:20230627T234027Z
UID:3385-1691226000-1691240400@roseandferncellars.com
SUMMARY:Hillsboro Farmers Market
DESCRIPTION:FREE wine tasting and sales of our wonderful Oregon wines Saturdays through October 28.
URL:https://roseandferncellars.com/event/hillsboro-farmers-market-11/
LOCATION:Hillsboro Farmers Market\, Main Street (Downtown)\, Hillsboro\, OR\, United States
ATTACH;FMTTYPE=image/jpeg:https://roseandferncellars.com/wp-content/uploads/2023/02/B334FA7C-995F-494D-8903-F096E0FD635F-scaled.jpeg
END:VEVENT
BEGIN:VEVENT
DTSTART;TZID=America/Los_Angeles:20230805T083000
DTEND;TZID=America/Los_Angeles:20230805T133000
DTSTAMP:20260424T004206
CREATED:20230627T225123Z
LAST-MODIFIED:20230627T225123Z
UID:3339-1691224200-1691242200@roseandferncellars.com
SUMMARY:Beaverton Farmers Market
DESCRIPTION:FREE wine tasting and sales of our wonderful Oregon wines Saturdays through November 18.
URL:https://roseandferncellars.com/event/beaverton-farmers-market-21/
LOCATION:Beaverton Farmers Market\, 12375 SW 5th Street\, Beaverton\, OR\, United States
ATTACH;FMTTYPE=image/png:https://roseandferncellars.com/wp-content/uploads/2022/11/1FD2A991-5B91-41C3-9C58-8FCA84080916.png
END:VEVENT
BEGIN:VEVENT
DTSTART;TZID=America/Los_Angeles:20230804T160000
DTEND;TZID=America/Los_Angeles:20230804T193000
DTSTAMP:20260424T004206
CREATED:20230616T213130Z
LAST-MODIFIED:20230616T213130Z
UID:3279-1691164800-1691177400@roseandferncellars.com
SUMMARY:Creators & Curators 1st Friday Sip & Shop
DESCRIPTION:Every 1st Friday of the month at Milwaukie Floral & Garden is the place you want to be. We offer FREE wine tasting and sales by the glass and by the bottle. Visit guest vendor booths\, buy flowers\, plants and more for your garden and a wide selection of unique gift items.
URL:https://roseandferncellars.com/event/creators-curators-1st-friday-sip-shop-3/
LOCATION:Milwaukie Floral & Garden\, 3306 SE Lake Road\, Milwaukie\, OR\, United States
ATTACH;FMTTYPE=image/jpeg:https://roseandferncellars.com/wp-content/uploads/2023/06/CDAB377D-FA99-4CB4-B3C6-B0C5F67BC87C.jpeg
END:VEVENT
BEGIN:VEVENT
DTSTART;TZID=America/Los_Angeles:20230803T160000
DTEND;TZID=America/Los_Angeles:20230803T190000
DTSTAMP:20260424T004206
CREATED:20230616T175003Z
LAST-MODIFIED:20230616T175003Z
UID:3229-1691078400-1691089200@roseandferncellars.com
SUMMARY:Hawthorne Farmers Market
DESCRIPTION:FREE wine tasting and sales of our wonderful Oregon wines Thursdays through August 31.
URL:https://roseandferncellars.com/event/hawthorne-farmers-market-10/
LOCATION:Hawthorne Farmers Market\, 1137 SE 20th Avenue\, Portland
ATTACH;FMTTYPE=image/jpeg:https://roseandferncellars.com/wp-content/uploads/2023/05/IMG_5035.jpeg
END:VEVENT
BEGIN:VEVENT
DTSTART;TZID=America/Los_Angeles:20230730T100000
DTEND;TZID=America/Los_Angeles:20230730T140000
DTSTAMP:20260424T004206
CREATED:20230616T180656Z
LAST-MODIFIED:20230616T180656Z
UID:3246-1690711200-1690725600@roseandferncellars.com
SUMMARY:Hillsboro Farmers Market at Orenco
DESCRIPTION:FREE wine tasting and sales of our wonderful Oregon wines Sundays through August 27. Check this site for additional Fall events at Orenco.
URL:https://roseandferncellars.com/event/hillsboro-farmers-market-at-orenco-8/
LOCATION:Hillsboro Farmers Market @ Orenco\, 6125 NE Cornell Rd.\, Hillsboro\, OR\, 97124\, United States
ATTACH;FMTTYPE=image/jpeg:https://roseandferncellars.com/wp-content/uploads/2023/03/BFD7A441-F3F8-4C07-8A62-509312049C0E.jpeg
END:VEVENT
BEGIN:VEVENT
DTSTART;TZID=America/Los_Angeles:20230729T090000
DTEND;TZID=America/Los_Angeles:20230729T140000
DTSTAMP:20260424T004206
CREATED:20230616T235105Z
LAST-MODIFIED:20230616T235105Z
UID:3292-1690621200-1690639200@roseandferncellars.com
SUMMARY:Happy Valley Farmers Market
DESCRIPTION:FREE wine tasting and sales of our wonderful Oregon wines Saturdays through October 28.
URL:https://roseandferncellars.com/event/happy-valley-farmers-market-10/
LOCATION:Happy Valley Holiday Market\, 13231 SE Sunnyside Rd.\, Happy Valley\, OR\, United States
ATTACH;FMTTYPE=image/jpeg:https://roseandferncellars.com/wp-content/uploads/2023/05/IMG_5034.jpeg
END:VEVENT
BEGIN:VEVENT
DTSTART;TZID=America/Los_Angeles:20230729T090000
DTEND;TZID=America/Los_Angeles:20230729T130000
DTSTAMP:20260424T004206
CREATED:20230627T233731Z
LAST-MODIFIED:20230627T233731Z
UID:3383-1690621200-1690635600@roseandferncellars.com
SUMMARY:Hillsboro Farmers Market
DESCRIPTION:FREE wine tasting and sales of our wonderful Oregon wines Saturdays through October 28.
URL:https://roseandferncellars.com/event/hillsboro-farmers-market-10/
LOCATION:Hillsboro Farmers Market\, Main Street (Downtown)\, Hillsboro\, OR\, United States
ATTACH;FMTTYPE=image/jpeg:https://roseandferncellars.com/wp-content/uploads/2023/02/B334FA7C-995F-494D-8903-F096E0FD635F-scaled.jpeg
END:VEVENT
BEGIN:VEVENT
DTSTART;TZID=America/Los_Angeles:20230729T083000
DTEND;TZID=America/Los_Angeles:20230729T133000
DTSTAMP:20260424T004206
CREATED:20230627T224916Z
LAST-MODIFIED:20230627T224916Z
UID:3336-1690619400-1690637400@roseandferncellars.com
SUMMARY:Beaverton Farmers Market
DESCRIPTION:FREE wine tasting and sales of our wonderful Oregon wines Saturdays through November 18.
URL:https://roseandferncellars.com/event/beaverton-farmers-market-20/
LOCATION:Beaverton Farmers Market\, 12375 SW 5th Street\, Beaverton\, OR\, United States
ATTACH;FMTTYPE=image/png:https://roseandferncellars.com/wp-content/uploads/2022/11/1FD2A991-5B91-41C3-9C58-8FCA84080916.png
END:VEVENT
BEGIN:VEVENT
DTSTART;TZID=America/Los_Angeles:20230729T083000
DTEND;TZID=America/Los_Angeles:20230729T133000
DTSTAMP:20260424T004206
CREATED:20230627T224715Z
LAST-MODIFIED:20230627T224715Z
UID:3334-1690619400-1690637400@roseandferncellars.com
SUMMARY:Beaverton Farmers Market
DESCRIPTION:FREE wine tasting and sales of our wonderful Oregon wines Saturdays through November 18.
URL:https://roseandferncellars.com/event/beaverton-farmers-market-19/
LOCATION:Beaverton Farmers Market\, 12375 SW 5th Street\, Beaverton\, OR\, United States
ATTACH;FMTTYPE=image/png:https://roseandferncellars.com/wp-content/uploads/2022/11/1FD2A991-5B91-41C3-9C58-8FCA84080916.png
END:VEVENT
BEGIN:VEVENT
DTSTART;TZID=America/Los_Angeles:20230727T160000
DTEND;TZID=America/Los_Angeles:20230727T190000
DTSTAMP:20260424T004206
CREATED:20230616T174831Z
LAST-MODIFIED:20230616T174831Z
UID:3227-1690473600-1690484400@roseandferncellars.com
SUMMARY:Hawthorne Farmers Market
DESCRIPTION:FREE wine tasting and sales of our wonderful Oregon wines Thursdays through August 31.
URL:https://roseandferncellars.com/event/hawthorne-farmers-market-9/
LOCATION:Hawthorne Farmers Market\, 1137 SE 20th Avenue\, Portland
ATTACH;FMTTYPE=image/jpeg:https://roseandferncellars.com/wp-content/uploads/2023/05/IMG_5035.jpeg
END:VEVENT
BEGIN:VEVENT
DTSTART;TZID=America/Los_Angeles:20230723T100000
DTEND;TZID=America/Los_Angeles:20230723T140000
DTSTAMP:20260424T004206
CREATED:20230627T231904Z
LAST-MODIFIED:20230627T231904Z
UID:3371-1690106400-1690120800@roseandferncellars.com
SUMMARY:Woodstock Farmers Market
DESCRIPTION:FREE wine tasting and sales of our wonderful Oregon wines.
URL:https://roseandferncellars.com/event/woodstock-farmers-market-6/
LOCATION:Woodstock Farmers Market\, 4600 SE Woodstock Blvd.\, Portland\, OR\, United States
END:VEVENT
BEGIN:VEVENT
DTSTART;TZID=America/Los_Angeles:20230723T100000
DTEND;TZID=America/Los_Angeles:20230723T140000
DTSTAMP:20260424T004206
CREATED:20230616T180023Z
LAST-MODIFIED:20230616T180023Z
UID:3244-1690106400-1690120800@roseandferncellars.com
SUMMARY:Hillsboro Farmers Market at Orenco
DESCRIPTION:FREE wine tasting and sales of our wonderful Oregon wines Sundays through August 27. Check this site for additional Fall events at Orenco.
URL:https://roseandferncellars.com/event/hillsboro-farmers-market-at-orenco-7/
LOCATION:Hillsboro Farmers Market @ Orenco\, 6125 NE Cornell Rd.\, Hillsboro\, OR\, 97124\, United States
ATTACH;FMTTYPE=image/jpeg:https://roseandferncellars.com/wp-content/uploads/2023/03/BFD7A441-F3F8-4C07-8A62-509312049C0E.jpeg
END:VEVENT
BEGIN:VEVENT
DTSTART;TZID=America/Los_Angeles:20230722T090000
DTEND;TZID=America/Los_Angeles:20230722T140000
DTSTAMP:20260424T004206
CREATED:20230616T224058Z
LAST-MODIFIED:20230616T224058Z
UID:3288-1690016400-1690034400@roseandferncellars.com
SUMMARY:Happy Valley Farmers Market
DESCRIPTION:FREE wine tasting and sales of our wonderful Oregon wines Saturdays through October 28.
URL:https://roseandferncellars.com/event/happy-valley-farmers-market-9/
LOCATION:Happy Valley Holiday Market\, 13231 SE Sunnyside Rd.\, Happy Valley\, OR\, United States
ATTACH;FMTTYPE=image/jpeg:https://roseandferncellars.com/wp-content/uploads/2023/05/IMG_5034.jpeg
END:VEVENT
BEGIN:VEVENT
DTSTART;TZID=America/Los_Angeles:20230722T090000
DTEND;TZID=America/Los_Angeles:20230722T130000
DTSTAMP:20260424T004206
CREATED:20230627T233606Z
LAST-MODIFIED:20230627T233606Z
UID:3381-1690016400-1690030800@roseandferncellars.com
SUMMARY:Hillsboro Farmers Market
DESCRIPTION:FREE wine tasting and sales of our wonderful Oregon wines Saturdays through October 28.
URL:https://roseandferncellars.com/event/hillsboro-farmers-market-9/
LOCATION:Hillsboro Farmers Market\, Main Street (Downtown)\, Hillsboro\, OR\, United States
ATTACH;FMTTYPE=image/jpeg:https://roseandferncellars.com/wp-content/uploads/2023/02/B334FA7C-995F-494D-8903-F096E0FD635F-scaled.jpeg
END:VEVENT
BEGIN:VEVENT
DTSTART;TZID=America/Los_Angeles:20230720T160000
DTEND;TZID=America/Los_Angeles:20230720T190000
DTSTAMP:20260424T004206
CREATED:20230616T174715Z
LAST-MODIFIED:20230616T174715Z
UID:3225-1689868800-1689879600@roseandferncellars.com
SUMMARY:Hawthorne Farmers Market
DESCRIPTION:FREE wine tasting and sales of our wonderful Oregon wines Thursdays through August 31.
URL:https://roseandferncellars.com/event/hawthorne-farmers-market-8/
LOCATION:Hawthorne Farmers Market\, 1137 SE 20th Avenue\, Portland
ATTACH;FMTTYPE=image/jpeg:https://roseandferncellars.com/wp-content/uploads/2023/05/IMG_5035.jpeg
END:VEVENT
BEGIN:VEVENT
DTSTART;TZID=America/Los_Angeles:20230716T100000
DTEND;TZID=America/Los_Angeles:20230716T140000
DTSTAMP:20260424T004206
CREATED:20230616T175908Z
LAST-MODIFIED:20230616T175908Z
UID:3242-1689501600-1689516000@roseandferncellars.com
SUMMARY:Hillsboro Farmers Market at Orenco
DESCRIPTION:FREE wine tasting and sales of our wonderful Oregon wines Sundays through August 27. Check this site for additional Fall events at Orenco.
URL:https://roseandferncellars.com/event/hillsboro-farmers-market-at-orenco-6/
LOCATION:Hillsboro Farmers Market @ Orenco\, 6125 NE Cornell Rd.\, Hillsboro\, OR\, 97124\, United States
ATTACH;FMTTYPE=image/jpeg:https://roseandferncellars.com/wp-content/uploads/2023/03/BFD7A441-F3F8-4C07-8A62-509312049C0E.jpeg
END:VEVENT
BEGIN:VEVENT
DTSTART;TZID=America/Los_Angeles:20230715T090000
DTEND;TZID=America/Los_Angeles:20230715T140000
DTSTAMP:20260424T004206
CREATED:20230616T214111Z
LAST-MODIFIED:20230616T214111Z
UID:3286-1689411600-1689429600@roseandferncellars.com
SUMMARY:Happy Valley Farmers Market
DESCRIPTION:FREE wine tasting and sales of our wonderful Oregon wines Saturdays through October 28.
URL:https://roseandferncellars.com/event/happy-valley-farmers-market-8/
LOCATION:Happy Valley Farmers Market\, 13231 Sunnyside Rd.\, Happy Valley\, OR\, United States
ATTACH;FMTTYPE=image/jpeg:https://roseandferncellars.com/wp-content/uploads/2023/05/IMG_5034.jpeg
END:VEVENT
BEGIN:VEVENT
DTSTART;TZID=America/Los_Angeles:20230715T090000
DTEND;TZID=America/Los_Angeles:20230715T130000
DTSTAMP:20260424T004206
CREATED:20230627T233337Z
LAST-MODIFIED:20230627T233337Z
UID:3379-1689411600-1689426000@roseandferncellars.com
SUMMARY:Hillsboro Farmers Market
DESCRIPTION:FREE wine tasting and sales of our wonderful Oregon wines Saturdays through October 28.
URL:https://roseandferncellars.com/event/hillsboro-farmers-market-8/
LOCATION:Hillsboro Farmers Market\, Main Street (Downtown)\, Hillsboro\, OR\, United States
ATTACH;FMTTYPE=image/jpeg:https://roseandferncellars.com/wp-content/uploads/2023/02/B334FA7C-995F-494D-8903-F096E0FD635F-scaled.jpeg
END:VEVENT
BEGIN:VEVENT
DTSTART;TZID=America/Los_Angeles:20230715T083000
DTEND;TZID=America/Los_Angeles:20230715T133000
DTSTAMP:20260424T004206
CREATED:20230627T232121Z
LAST-MODIFIED:20230627T232121Z
UID:3373-1689409800-1689427800@roseandferncellars.com
SUMMARY:Beaverton Farmers Market
DESCRIPTION:FREE wine tasting and sales of our wonderful Oregon wines Saturdays through November 18.
URL:https://roseandferncellars.com/event/beaverton-farmers-market-37/
LOCATION:Beaverton Farmers Market\, 12375 SW 5th Street\, Beaverton\, OR\, United States
ATTACH;FMTTYPE=image/png:https://roseandferncellars.com/wp-content/uploads/2022/11/1FD2A991-5B91-41C3-9C58-8FCA84080916.png
END:VEVENT
END:VCALENDAR