BEGIN:VCALENDAR
VERSION:2.0
PRODID:-//Rose and Fern Cellars - ECPv6.15.20//NONSGML v1.0//EN
CALSCALE:GREGORIAN
METHOD:PUBLISH
X-WR-CALNAME:Rose and Fern Cellars
X-ORIGINAL-URL:https://roseandferncellars.com
X-WR-CALDESC:Events for Rose and Fern Cellars
REFRESH-INTERVAL;VALUE=DURATION:PT1H
X-Robots-Tag:noindex
X-PUBLISHED-TTL:PT1H
BEGIN:VTIMEZONE
TZID:America/Los_Angeles
BEGIN:DAYLIGHT
TZOFFSETFROM:-0800
TZOFFSETTO:-0700
TZNAME:PDT
DTSTART:20220313T100000
END:DAYLIGHT
BEGIN:STANDARD
TZOFFSETFROM:-0700
TZOFFSETTO:-0800
TZNAME:PST
DTSTART:20221106T090000
END:STANDARD
BEGIN:DAYLIGHT
TZOFFSETFROM:-0800
TZOFFSETTO:-0700
TZNAME:PDT
DTSTART:20230312T100000
END:DAYLIGHT
BEGIN:STANDARD
TZOFFSETFROM:-0700
TZOFFSETTO:-0800
TZNAME:PST
DTSTART:20231105T090000
END:STANDARD
BEGIN:DAYLIGHT
TZOFFSETFROM:-0800
TZOFFSETTO:-0700
TZNAME:PDT
DTSTART:20240310T100000
END:DAYLIGHT
BEGIN:STANDARD
TZOFFSETFROM:-0700
TZOFFSETTO:-0800
TZNAME:PST
DTSTART:20241103T090000
END:STANDARD
END:VTIMEZONE
BEGIN:VEVENT
DTSTART;TZID=America/Los_Angeles:20231015T100000
DTEND;TZID=America/Los_Angeles:20231015T140000
DTSTAMP:20260423T175740
CREATED:20230628T003447Z
LAST-MODIFIED:20230628T171708Z
UID:3422-1697364000-1697378400@roseandferncellars.com
SUMMARY:Woodstock Farmers Market
DESCRIPTION:FREE wine tasting and sales of our wonderful Oregon wines. We’ll be back on November 19.
URL:https://roseandferncellars.com/event/woodstock-farmers-market-7/
LOCATION:OR
END:VEVENT
BEGIN:VEVENT
DTSTART;TZID=America/Los_Angeles:20231014T090000
DTEND;TZID=America/Los_Angeles:20231014T140000
DTSTAMP:20260423T175740
CREATED:20230617T003937Z
LAST-MODIFIED:20230617T003937Z
UID:3314-1697274000-1697292000@roseandferncellars.com
SUMMARY:Happy Valley Farmers Market
DESCRIPTION:FREE wine tasting and sales of our wonderful Oregon wines Saturdays through October 28.
URL:https://roseandferncellars.com/event/happy-valley-farmers-market-21/
LOCATION:Happy Valley Holiday Market\, 13231 SE Sunnyside Rd.\, Happy Valley\, OR\, United States
ATTACH;FMTTYPE=image/jpeg:https://roseandferncellars.com/wp-content/uploads/2023/05/IMG_5034.jpeg
END:VEVENT
BEGIN:VEVENT
DTSTART;TZID=America/Los_Angeles:20231014T090000
DTEND;TZID=America/Los_Angeles:20231014T133000
DTSTAMP:20260423T175740
CREATED:20230627T230619Z
LAST-MODIFIED:20230627T230619Z
UID:3358-1697274000-1697290200@roseandferncellars.com
SUMMARY:Beaverton Farmers Market
DESCRIPTION:FREE wine tasting and sales of our wonderful Oregon wines Saturdays through November 18.
URL:https://roseandferncellars.com/event/beaverton-farmers-market-31/
LOCATION:Beaverton Farmers Market\, 12375 SW 5th Street\, Beaverton\, OR\, United States
ATTACH;FMTTYPE=image/png:https://roseandferncellars.com/wp-content/uploads/2022/11/1FD2A991-5B91-41C3-9C58-8FCA84080916.png
END:VEVENT
BEGIN:VEVENT
DTSTART;TZID=America/Los_Angeles:20231014T090000
DTEND;TZID=America/Los_Angeles:20231014T130000
DTSTAMP:20260423T175740
CREATED:20230628T000026Z
LAST-MODIFIED:20230628T000026Z
UID:3406-1697274000-1697288400@roseandferncellars.com
SUMMARY:Hillsboro Farmers Market
DESCRIPTION:FREE wine tasting and sales of our wonderful Oregon wines Saturdays through October 28.
URL:https://roseandferncellars.com/event/hillsboro-farmers-market-21/
LOCATION:Hillsboro Farmers Market\, Main Street (Downtown)\, Hillsboro\, OR\, United States
ATTACH;FMTTYPE=image/jpeg:https://roseandferncellars.com/wp-content/uploads/2023/02/B334FA7C-995F-494D-8903-F096E0FD635F-scaled.jpeg
END:VEVENT
BEGIN:VEVENT
DTSTART;TZID=America/Los_Angeles:20231008T100000
DTEND;TZID=America/Los_Angeles:20231008T140000
DTSTAMP:20260423T175740
CREATED:20230616T182742Z
LAST-MODIFIED:20230616T182742Z
UID:3263-1696759200-1696773600@roseandferncellars.com
SUMMARY:Hillsboro Farmers Market at Orenco
DESCRIPTION:FREE wine tasting and sales of our wonderful Oregon wines. We’ll be back at Orenco on October 22.
URL:https://roseandferncellars.com/event/hillsboro-farmers-market-at-orenco-15/
LOCATION:Hillsboro Farmers Market @ Orenco\, 6125 NE Cornell Rd.\, Hillsboro\, OR\, 97124\, United States
ATTACH;FMTTYPE=image/jpeg:https://roseandferncellars.com/wp-content/uploads/2023/03/BFD7A441-F3F8-4C07-8A62-509312049C0E.jpeg
END:VEVENT
BEGIN:VEVENT
DTSTART;TZID=America/Los_Angeles:20231007T090000
DTEND;TZID=America/Los_Angeles:20231007T140000
DTSTAMP:20260423T175740
CREATED:20230617T003824Z
LAST-MODIFIED:20230617T003824Z
UID:3312-1696669200-1696687200@roseandferncellars.com
SUMMARY:Happy Valley Farmers Market
DESCRIPTION:FREE wine tasting and sales of our wonderful Oregon wines Saturdays through October 28.
URL:https://roseandferncellars.com/event/happy-valley-farmers-market-20/
LOCATION:Happy Valley Farmers Market\, 13231 Sunnyside Rd.\, Happy Valley\, OR\, United States
ATTACH;FMTTYPE=image/jpeg:https://roseandferncellars.com/wp-content/uploads/2023/05/IMG_5034.jpeg
END:VEVENT
BEGIN:VEVENT
DTSTART;TZID=America/Los_Angeles:20231007T090000
DTEND;TZID=America/Los_Angeles:20231007T133000
DTSTAMP:20260423T175740
CREATED:20230627T230453Z
LAST-MODIFIED:20230627T230453Z
UID:3333-1696669200-1696685400@roseandferncellars.com
SUMMARY:Beaverton Farmers Market
DESCRIPTION:FREE wine tasting and sales of our wonderful Oregon wines Saturdays through November 18.
URL:https://roseandferncellars.com/event/beaverton-farmers-market-30/
LOCATION:Beaverton Farmers Market\, 12375 SW 5th Street\, Beaverton\, OR\, United States
ATTACH;FMTTYPE=image/png:https://roseandferncellars.com/wp-content/uploads/2022/11/1FD2A991-5B91-41C3-9C58-8FCA84080916.png
END:VEVENT
BEGIN:VEVENT
DTSTART;TZID=America/Los_Angeles:20231007T090000
DTEND;TZID=America/Los_Angeles:20231007T130000
DTSTAMP:20260423T175740
CREATED:20230627T235901Z
LAST-MODIFIED:20230627T235901Z
UID:3404-1696669200-1696683600@roseandferncellars.com
SUMMARY:Hillsboro Farmers Market
DESCRIPTION:FREE wine tasting and sales of our wonderful Oregon wines Saturdays through October 28.
URL:https://roseandferncellars.com/event/hillsboro-farmers-market-20/
LOCATION:Hillsboro Farmers Market\, Main Street (Downtown)\, Hillsboro\, OR\, United States
ATTACH;FMTTYPE=image/jpeg:https://roseandferncellars.com/wp-content/uploads/2023/02/B334FA7C-995F-494D-8903-F096E0FD635F-scaled.jpeg
END:VEVENT
BEGIN:VEVENT
DTSTART;TZID=America/Los_Angeles:20230930T090000
DTEND;TZID=America/Los_Angeles:20230930T140000
DTSTAMP:20260423T175740
CREATED:20230617T003652Z
LAST-MODIFIED:20230617T003652Z
UID:3310-1696064400-1696082400@roseandferncellars.com
SUMMARY:Happy Valley Farmers Market
DESCRIPTION:FREE wine tasting and sales of our wonderful Oregon wines Saturdays through October 28.
URL:https://roseandferncellars.com/event/happy-valley-farmers-market-19/
LOCATION:Happy Valley Farmers Market\, 13231 Sunnyside Rd.\, Happy Valley\, OR\, United States
ATTACH;FMTTYPE=image/jpeg:https://roseandferncellars.com/wp-content/uploads/2023/05/IMG_5034.jpeg
END:VEVENT
BEGIN:VEVENT
DTSTART;TZID=America/Los_Angeles:20230930T090000
DTEND;TZID=America/Los_Angeles:20230930T130000
DTSTAMP:20260423T175740
CREATED:20230627T235253Z
LAST-MODIFIED:20230627T235253Z
UID:3402-1696064400-1696078800@roseandferncellars.com
SUMMARY:Hillsboro Farmers Market
DESCRIPTION:FREE wine tasting and sales of our wonderful Oregon wines Saturdays through October 28.
URL:https://roseandferncellars.com/event/hillsboro-farmers-market-19/
LOCATION:Hillsboro Farmers Market\, Main Street (Downtown)\, Hillsboro\, OR\, United States
ATTACH;FMTTYPE=image/jpeg:https://roseandferncellars.com/wp-content/uploads/2023/02/B334FA7C-995F-494D-8903-F096E0FD635F-scaled.jpeg
END:VEVENT
BEGIN:VEVENT
DTSTART;TZID=America/Los_Angeles:20230930T083000
DTEND;TZID=America/Los_Angeles:20230930T133000
DTSTAMP:20260423T175740
CREATED:20230627T230239Z
LAST-MODIFIED:20230627T230239Z
UID:3355-1696062600-1696080600@roseandferncellars.com
SUMMARY:Beaverton Farmers Market
DESCRIPTION:FREE wine tasting and sales of our wonderful Oregon wines Saturdays through November 18.
URL:https://roseandferncellars.com/event/beaverton-farmers-market-29/
LOCATION:Beaverton Farmers Market\, 12375 SW 5th Street\, Beaverton\, OR\, United States
ATTACH;FMTTYPE=image/png:https://roseandferncellars.com/wp-content/uploads/2022/11/1FD2A991-5B91-41C3-9C58-8FCA84080916.png
END:VEVENT
BEGIN:VEVENT
DTSTART;TZID=America/Los_Angeles:20230924T100000
DTEND;TZID=America/Los_Angeles:20230924T140000
DTSTAMP:20260423T175740
CREATED:20230616T184029Z
LAST-MODIFIED:20230616T184029Z
UID:3273-1695549600-1695564000@roseandferncellars.com
SUMMARY:Woodstock Farmers Market
DESCRIPTION:FREE wine tasting and sales of our wonderful Oregon wines. This is our last market of the season at Woodstock. See you next year!
URL:https://roseandferncellars.com/event/woodstock-farmers-market-5/
LOCATION:Woodstock Farmers Market\, 4600 SE Woodstock Blvd.\, Portland\, OR\, United States
END:VEVENT
BEGIN:VEVENT
DTSTART;TZID=America/Los_Angeles:20230924T100000
DTEND;TZID=America/Los_Angeles:20230924T140000
DTSTAMP:20260423T175740
CREATED:20230616T182547Z
LAST-MODIFIED:20230616T182547Z
UID:3261-1695549600-1695564000@roseandferncellars.com
SUMMARY:Hillsboro Farmers Market at Orenco
DESCRIPTION:FREE wine tasting and sales of our wonderful Oregon wines. We’ll be back at Orenco on October 8.
URL:https://roseandferncellars.com/event/hillsboro-farmers-market-at-orenco-14/
LOCATION:Hillsboro Farmers Market @ Orenco\, 6125 NE Cornell Rd.\, Hillsboro\, OR\, 97124\, United States
ATTACH;FMTTYPE=image/jpeg:https://roseandferncellars.com/wp-content/uploads/2023/03/BFD7A441-F3F8-4C07-8A62-509312049C0E.jpeg
END:VEVENT
BEGIN:VEVENT
DTSTART;TZID=America/Los_Angeles:20230923T090000
DTEND;TZID=America/Los_Angeles:20230923T140000
DTSTAMP:20260423T175740
CREATED:20230617T003525Z
LAST-MODIFIED:20230617T003525Z
UID:3308-1695459600-1695477600@roseandferncellars.com
SUMMARY:Happy Valley Farmers Market
DESCRIPTION:FREE wine tasting and sales of our wonderful Oregon wines Saturdays through October 28.
URL:https://roseandferncellars.com/event/happy-valley-farmers-market-18/
LOCATION:Happy Valley Farmers Market\, 13231 Sunnyside Rd.\, Happy Valley\, OR\, United States
ATTACH;FMTTYPE=image/jpeg:https://roseandferncellars.com/wp-content/uploads/2023/05/IMG_5034.jpeg
END:VEVENT
BEGIN:VEVENT
DTSTART;TZID=America/Los_Angeles:20230923T090000
DTEND;TZID=America/Los_Angeles:20230923T130000
DTSTAMP:20260423T175740
CREATED:20230627T234908Z
LAST-MODIFIED:20230627T234908Z
UID:3398-1695459600-1695474000@roseandferncellars.com
SUMMARY:Hillsboro Farmers Market
DESCRIPTION:FREE wine tasting and sales of our wonderful Oregon wines Saturdays through October 28.
URL:https://roseandferncellars.com/event/hillsboro-farmers-market-17/
LOCATION:Hillsboro Farmers Market\, Main Street (Downtown)\, Hillsboro\, OR\, United States
ATTACH;FMTTYPE=image/png:https://roseandferncellars.com/wp-content/uploads/2022/11/1FD2A991-5B91-41C3-9C58-8FCA84080916.png
END:VEVENT
BEGIN:VEVENT
DTSTART;TZID=America/Los_Angeles:20230923T083000
DTEND;TZID=America/Los_Angeles:20230923T133000
DTSTAMP:20260423T175740
CREATED:20230627T230130Z
LAST-MODIFIED:20230627T230130Z
UID:3353-1695457800-1695475800@roseandferncellars.com
SUMMARY:Beaverton Farmers Market
DESCRIPTION:FREE wine tasting and sales of our wonderful Oregon wines Saturdays through November 18.
URL:https://roseandferncellars.com/event/beaverton-farmers-market-28/
LOCATION:Beaverton Farmers Market\, 12375 SW 5th Street\, Beaverton\, OR\, United States
ATTACH;FMTTYPE=image/png:https://roseandferncellars.com/wp-content/uploads/2022/11/1FD2A991-5B91-41C3-9C58-8FCA84080916.png
END:VEVENT
BEGIN:VEVENT
DTSTART;TZID=America/Los_Angeles:20230916T090000
DTEND;TZID=America/Los_Angeles:20230916T140000
DTSTAMP:20260423T175740
CREATED:20230617T003358Z
LAST-MODIFIED:20230617T003358Z
UID:3306-1694854800-1694872800@roseandferncellars.com
SUMMARY:Happy Valley Farmers Market
DESCRIPTION:FREE wine tasting and sales of our wonderful Oregon wines Saturdays through October 28.
URL:https://roseandferncellars.com/event/happy-valley-farmers-market-17/
LOCATION:Happy Valley Farmers Market\, 13231 Sunnyside Rd.\, Happy Valley\, OR\, United States
ATTACH;FMTTYPE=image/jpeg:https://roseandferncellars.com/wp-content/uploads/2023/05/IMG_5034.jpeg
END:VEVENT
BEGIN:VEVENT
DTSTART;TZID=America/Los_Angeles:20230916T090000
DTEND;TZID=America/Los_Angeles:20230916T130000
DTSTAMP:20260423T175740
CREATED:20230627T235152Z
LAST-MODIFIED:20230627T235152Z
UID:3400-1694854800-1694869200@roseandferncellars.com
SUMMARY:Hillsboro Farmers Market
DESCRIPTION:FREE wine tasting and sales of our wonderful Oregon wines Saturdays through October 28.
URL:https://roseandferncellars.com/event/hillsboro-farmers-market-18/
LOCATION:Hillsboro Farmers Market\, Main Street (Downtown)\, Hillsboro\, OR\, United States
ATTACH;FMTTYPE=image/jpeg:https://roseandferncellars.com/wp-content/uploads/2023/02/B334FA7C-995F-494D-8903-F096E0FD635F-scaled.jpeg
END:VEVENT
BEGIN:VEVENT
DTSTART;TZID=America/Los_Angeles:20230916T083000
DTEND;TZID=America/Los_Angeles:20230916T133000
DTSTAMP:20260423T175740
CREATED:20230627T230030Z
LAST-MODIFIED:20230627T230030Z
UID:3351-1694853000-1694871000@roseandferncellars.com
SUMMARY:Beaverton Farmers Market
DESCRIPTION:FREE wine tasting and sales of our wonderful Oregon wines Saturdays through November 18.
URL:https://roseandferncellars.com/event/beaverton-farmers-market-27/
LOCATION:Beaverton Farmers Market\, 12375 SW 5th Street\, Beaverton\, OR\, United States
ATTACH;FMTTYPE=image/png:https://roseandferncellars.com/wp-content/uploads/2022/11/1FD2A991-5B91-41C3-9C58-8FCA84080916.png
END:VEVENT
BEGIN:VEVENT
DTSTART;TZID=America/Los_Angeles:20230910T100000
DTEND;TZID=America/Los_Angeles:20230910T140000
DTSTAMP:20260423T175740
CREATED:20230616T182236Z
LAST-MODIFIED:20230616T182236Z
UID:3258-1694340000-1694354400@roseandferncellars.com
SUMMARY:Hillsboro Farmers Market at Orenco
DESCRIPTION:FREE wine tasting and sales of our wonderful Oregon wines. We’ll be back at Orenco on September 24.
URL:https://roseandferncellars.com/event/hillsboro-farmers-market-at-orenco-13/
LOCATION:Hillsboro Farmers Market @ Orenco\, 6125 NE Cornell Rd.\, Hillsboro\, OR\, 97124\, United States
ATTACH;FMTTYPE=image/jpeg:https://roseandferncellars.com/wp-content/uploads/2023/03/BFD7A441-F3F8-4C07-8A62-509312049C0E.jpeg
END:VEVENT
BEGIN:VEVENT
DTSTART;TZID=America/Los_Angeles:20230909T090000
DTEND;TZID=America/Los_Angeles:20230909T140000
DTSTAMP:20260423T175740
CREATED:20230617T003234Z
LAST-MODIFIED:20230617T003234Z
UID:3304-1694250000-1694268000@roseandferncellars.com
SUMMARY:Happy Valley Farmers Market
DESCRIPTION:FREE wine tasting and sales of our wonderful Oregon wines Saturdays through October 28.
URL:https://roseandferncellars.com/event/happy-valley-farmers-market-16/
LOCATION:Happy Valley Farmers Market\, 13231 Sunnyside Rd.\, Happy Valley\, OR\, United States
ATTACH;FMTTYPE=image/jpeg:https://roseandferncellars.com/wp-content/uploads/2023/05/IMG_5034.jpeg
END:VEVENT
BEGIN:VEVENT
DTSTART;TZID=America/Los_Angeles:20230909T090000
DTEND;TZID=America/Los_Angeles:20230909T130000
DTSTAMP:20260423T175740
CREATED:20230627T234759Z
LAST-MODIFIED:20230627T234759Z
UID:3396-1694250000-1694264400@roseandferncellars.com
SUMMARY:Hillsboro Farmers Market
DESCRIPTION:FREE wine tasting and sales of our wonderful Oregon wines Saturdays through October 28.
URL:https://roseandferncellars.com/event/hillsboro-farmers-market-16/
LOCATION:Hillsboro Farmers Market\, Main Street (Downtown)\, Hillsboro\, OR\, United States
ATTACH;FMTTYPE=image/jpeg:https://roseandferncellars.com/wp-content/uploads/2023/02/B334FA7C-995F-494D-8903-F096E0FD635F-scaled.jpeg
END:VEVENT
BEGIN:VEVENT
DTSTART;TZID=America/Los_Angeles:20230909T083000
DTEND;TZID=America/Los_Angeles:20230909T133000
DTSTAMP:20260423T175740
CREATED:20230627T225911Z
LAST-MODIFIED:20230627T225911Z
UID:3349-1694248200-1694266200@roseandferncellars.com
SUMMARY:Beaverton Farmers Market
DESCRIPTION:FREE wine tasting and sales of our wonderful Oregon wines Saturdays through November 18.
URL:https://roseandferncellars.com/event/beaverton-farmers-market-26/
LOCATION:Beaverton Farmers Market\, 12375 SW 5th Street\, Beaverton\, OR\, United States
ATTACH;FMTTYPE=image/png:https://roseandferncellars.com/wp-content/uploads/2022/11/1FD2A991-5B91-41C3-9C58-8FCA84080916.png
END:VEVENT
BEGIN:VEVENT
DTSTART;TZID=America/Los_Angeles:20230903T100000
DTEND;TZID=America/Los_Angeles:20230903T140000
DTSTAMP:20260423T175740
CREATED:20230616T183827Z
LAST-MODIFIED:20230616T183827Z
UID:3271-1693735200-1693749600@roseandferncellars.com
SUMMARY:Woodstock Farmers Market
DESCRIPTION:FREE wine tasting and sales of our wonderful Oregon wines. We’ll be back September 24.
URL:https://roseandferncellars.com/event/woodstock-farmers-market-4/
LOCATION:Woodstock Farmers Market\, 4600 SE Woodstock Blvd.\, Portland\, OR\, United States
END:VEVENT
BEGIN:VEVENT
DTSTART;TZID=America/Los_Angeles:20230902T090000
DTEND;TZID=America/Los_Angeles:20230902T140000
DTSTAMP:20260423T175740
CREATED:20230617T000109Z
LAST-MODIFIED:20230617T000109Z
UID:3302-1693645200-1693663200@roseandferncellars.com
SUMMARY:Happy Valley Farmers Market
DESCRIPTION:FREE wine tasting and sales of our wonderful Oregon wines Saturdays through October 28.
URL:https://roseandferncellars.com/event/happy-valley-farmers-market-15/
LOCATION:Happy Valley Farmers Market\, 13231 Sunnyside Rd.\, Happy Valley\, OR\, United States
ATTACH;FMTTYPE=image/jpeg:https://roseandferncellars.com/wp-content/uploads/2023/05/IMG_5034.jpeg
END:VEVENT
BEGIN:VEVENT
DTSTART;TZID=America/Los_Angeles:20230902T090000
DTEND;TZID=America/Los_Angeles:20230902T130000
DTSTAMP:20260423T175740
CREATED:20230627T234654Z
LAST-MODIFIED:20230627T234654Z
UID:3394-1693645200-1693659600@roseandferncellars.com
SUMMARY:Hillsboro Farmers Market
DESCRIPTION:FREE wine tasting and sales of our wonderful Oregon wines Saturdays through October 28.
URL:https://roseandferncellars.com/event/hillsboro-farmers-market-15/
LOCATION:Hillsboro Farmers Market\, Main Street (Downtown)\, Hillsboro\, OR\, United States
ATTACH;FMTTYPE=image/jpeg:https://roseandferncellars.com/wp-content/uploads/2023/02/B334FA7C-995F-494D-8903-F096E0FD635F-scaled.jpeg
END:VEVENT
BEGIN:VEVENT
DTSTART;TZID=America/Los_Angeles:20230902T083000
DTEND;TZID=America/Los_Angeles:20230902T133000
DTSTAMP:20260423T175740
CREATED:20230627T225547Z
LAST-MODIFIED:20230627T225640Z
UID:3347-1693643400-1693661400@roseandferncellars.com
SUMMARY:Beaverton Farmers Market
DESCRIPTION:FREE wine tasting and sales of our wonderful Oregon wines Saturdays through November 18.
URL:https://roseandferncellars.com/event/beaverton-farmers-market-25/
LOCATION:Beaverton Farmers Market\, 12375 SW 5th Street\, Beaverton\, OR\, United States
ATTACH;FMTTYPE=image/png:https://roseandferncellars.com/wp-content/uploads/2022/11/1FD2A991-5B91-41C3-9C58-8FCA84080916.png
END:VEVENT
BEGIN:VEVENT
DTSTART;TZID=America/Los_Angeles:20230901T163000
DTEND;TZID=America/Los_Angeles:20230901T193000
DTSTAMP:20260423T175740
CREATED:20230616T213346Z
LAST-MODIFIED:20230616T213346Z
UID:3281-1693585800-1693596600@roseandferncellars.com
SUMMARY:Creators & Curators 1st Friday Sip & Shop
DESCRIPTION:Every 1st Friday of the month at Milwaukie Floral & Garden is the place you want to be. We offer FREE wine tasting and sales by the glass and by the bottle. Visit guest vendor booths\, buy flowers\, plants and more for your garden and a wide selection of unique gift items.
URL:https://roseandferncellars.com/event/creators-curators-1st-friday-sip-shop-4/
LOCATION:Milwaukie Floral & Garden\, 3306 SE Lake Road\, Milwaukie\, OR\, United States
ATTACH;FMTTYPE=image/jpeg:https://roseandferncellars.com/wp-content/uploads/2023/06/CDAB377D-FA99-4CB4-B3C6-B0C5F67BC87C.jpeg
END:VEVENT
BEGIN:VEVENT
DTSTART;TZID=America/Los_Angeles:20230831T160000
DTEND;TZID=America/Los_Angeles:20230831T190000
DTSTAMP:20260423T175740
CREATED:20230616T175449Z
LAST-MODIFIED:20230616T175449Z
UID:3237-1693497600-1693508400@roseandferncellars.com
SUMMARY:Hawthorne Farmers Market
DESCRIPTION:FREE wine tasting and sales of our wonderful Oregon wines Thursdays through August 31.
URL:https://roseandferncellars.com/event/hawthorne-farmers-market-14/
LOCATION:Hawthorne Farmers Market\, 1137 SE 20th Avenue\, Portland
ATTACH;FMTTYPE=image/jpeg:https://roseandferncellars.com/wp-content/uploads/2023/05/IMG_5035.jpeg
END:VEVENT
BEGIN:VEVENT
DTSTART;TZID=America/Los_Angeles:20230827T100000
DTEND;TZID=America/Los_Angeles:20230827T140000
DTSTAMP:20260423T175740
CREATED:20230616T181923Z
LAST-MODIFIED:20230616T182038Z
UID:3254-1693130400-1693144800@roseandferncellars.com
SUMMARY:Hillsboro Farmers Market at Orenco
DESCRIPTION:FREE wine tasting and sales of our wonderful Oregon wines. We’ll be back at Orenco on September 10.
URL:https://roseandferncellars.com/event/hillsboro-farmers-market-at-orenco-12/
LOCATION:Hillsboro Farmers Market @ Orenco\, 6125 NE Cornell Rd.\, Hillsboro\, OR\, 97124\, United States
ATTACH;FMTTYPE=image/jpeg:https://roseandferncellars.com/wp-content/uploads/2023/03/BFD7A441-F3F8-4C07-8A62-509312049C0E.jpeg
END:VEVENT
END:VCALENDAR